BEGIN:VCALENDAR
VERSION:2.0
PRODID:-//Wine Therapy of North Myrtle Beach - ECPv6.15.20//NONSGML v1.0//EN
CALSCALE:GREGORIAN
METHOD:PUBLISH
X-WR-CALNAME:Wine Therapy of North Myrtle Beach
X-ORIGINAL-URL:https://winetherapynmb.com
X-WR-CALDESC:Events for Wine Therapy of North Myrtle Beach
REFRESH-INTERVAL;VALUE=DURATION:PT1H
X-Robots-Tag:noindex
X-PUBLISHED-TTL:PT1H
BEGIN:VTIMEZONE
TZID:America/New_York
BEGIN:DAYLIGHT
TZOFFSETFROM:-0500
TZOFFSETTO:-0400
TZNAME:EDT
DTSTART:20210314T070000
END:DAYLIGHT
BEGIN:STANDARD
TZOFFSETFROM:-0400
TZOFFSETTO:-0500
TZNAME:EST
DTSTART:20211107T060000
END:STANDARD
BEGIN:DAYLIGHT
TZOFFSETFROM:-0500
TZOFFSETTO:-0400
TZNAME:EDT
DTSTART:20220313T070000
END:DAYLIGHT
BEGIN:STANDARD
TZOFFSETFROM:-0400
TZOFFSETTO:-0500
TZNAME:EST
DTSTART:20221106T060000
END:STANDARD
BEGIN:DAYLIGHT
TZOFFSETFROM:-0500
TZOFFSETTO:-0400
TZNAME:EDT
DTSTART:20230312T070000
END:DAYLIGHT
BEGIN:STANDARD
TZOFFSETFROM:-0400
TZOFFSETTO:-0500
TZNAME:EST
DTSTART:20231105T060000
END:STANDARD
END:VTIMEZONE
BEGIN:VEVENT
DTSTART;TZID=America/New_York:20221208T173000
DTEND;TZID=America/New_York:20221208T173000
DTSTAMP:20260423T053937
CREATED:20221129T182229Z
LAST-MODIFIED:20221129T182229Z
UID:2634-1670520600-1670520600@winetherapynmb.com
SUMMARY:12 Days of Christmas Tasting part 2
DESCRIPTION:Wines to be determined \n5:30pm
URL:https://winetherapynmb.com/event/12-days-of-christmas-tasting-part-2/
LOCATION:Wine Therapy of North Myrtle Beach\, 315 Main St.\, North Myrtle Beach\, SC\, 29582\, United States
CATEGORIES:Wine Tasting
ATTACH;FMTTYPE=image/jpeg:https://winetherapynmb.com/wp-content/uploads/2022/08/IMG_3146.jpg
ORGANIZER;CN="Wine Therapy of North Myrtle Beach":MAILTO:winetherapyllc@gmail.com
END:VEVENT
BEGIN:VEVENT
DTSTART;VALUE=DATE:20220828
DTEND;VALUE=DATE:20220829
DTSTAMP:20260423T053937
CREATED:20220823T200927Z
LAST-MODIFIED:20220823T201219Z
UID:2327-1661644800-1661731199@winetherapynmb.com
SUMMARY:We Will Host Your Private Party on Sunday
DESCRIPTION:We will be happy to host your private party.\nInquire about Sunday throughout the year.\nWe are happy to host your…\nbaby shower\nwedding shower\nbirthday\nfamily reunion\nanniversary\ngraduation\nretirement\nbook clubs \n\nOr any get together you can imagine! \nWe can also arrange music for your event as well. \nEmail us at WineTherapyLLC@gmail.com or call/text 843-712-5209 to inquire about packages available. \n 
URL:https://winetherapynmb.com/event/we-will-host-your-private-party-on-sunday/2022-08-28/
LOCATION:Wine Therapy of North Myrtle Beach\, 315 Main St.\, North Myrtle Beach\, SC\, 29582\, United States
CATEGORIES:Holiday Event,Wine Tasting
ATTACH;FMTTYPE=image/jpeg:https://winetherapynmb.com/wp-content/uploads/2022/08/Private-Party-scaled.jpeg
END:VEVENT
END:VCALENDAR