BEGIN:VCALENDAR
VERSION:2.0
PRODID:-//Wine Therapy of North Myrtle Beach - ECPv6.15.20//NONSGML v1.0//EN
CALSCALE:GREGORIAN
METHOD:PUBLISH
X-WR-CALNAME:Wine Therapy of North Myrtle Beach
X-ORIGINAL-URL:https://winetherapynmb.com
X-WR-CALDESC:Events for Wine Therapy of North Myrtle Beach
REFRESH-INTERVAL;VALUE=DURATION:PT1H
X-Robots-Tag:noindex
X-PUBLISHED-TTL:PT1H
BEGIN:VTIMEZONE
TZID:UTC
BEGIN:STANDARD
TZOFFSETFROM:+0000
TZOFFSETTO:+0000
TZNAME:UTC
DTSTART:20210101T000000
END:STANDARD
END:VTIMEZONE
BEGIN:VEVENT
DTSTART;TZID=UTC:20220730T180000
DTEND;TZID=UTC:20220730T210000
DTSTAMP:20260423T093121
CREATED:20211002T163801Z
LAST-MODIFIED:20220622T195427Z
UID:938-1659204000-1659214800@winetherapynmb.com
SUMMARY:Jimmy "O" Live Music
DESCRIPTION:
URL:https://winetherapynmb.com/event/jimmy-o-13/2022-07-30/
ATTACH;FMTTYPE=image/jpeg:https://winetherapynmb.com/wp-content/uploads/2021/10/Jimmy-O-singer-1.jpg
END:VEVENT
END:VCALENDAR