BEGIN:VCALENDAR
VERSION:2.0
PRODID:-//Wine Therapy of North Myrtle Beach - ECPv6.15.20//NONSGML v1.0//EN
CALSCALE:GREGORIAN
METHOD:PUBLISH
X-ORIGINAL-URL:https://winetherapynmb.com
X-WR-CALDESC:Events for Wine Therapy of North Myrtle Beach
REFRESH-INTERVAL;VALUE=DURATION:PT1H
X-Robots-Tag:noindex
X-PUBLISHED-TTL:PT1H
BEGIN:VTIMEZONE
TZID:America/New_York
BEGIN:DAYLIGHT
TZOFFSETFROM:-0500
TZOFFSETTO:-0400
TZNAME:EDT
DTSTART:20210314T070000
END:DAYLIGHT
BEGIN:STANDARD
TZOFFSETFROM:-0400
TZOFFSETTO:-0500
TZNAME:EST
DTSTART:20211107T060000
END:STANDARD
BEGIN:DAYLIGHT
TZOFFSETFROM:-0500
TZOFFSETTO:-0400
TZNAME:EDT
DTSTART:20220313T070000
END:DAYLIGHT
BEGIN:STANDARD
TZOFFSETFROM:-0400
TZOFFSETTO:-0500
TZNAME:EST
DTSTART:20221106T060000
END:STANDARD
BEGIN:DAYLIGHT
TZOFFSETFROM:-0500
TZOFFSETTO:-0400
TZNAME:EDT
DTSTART:20230312T070000
END:DAYLIGHT
BEGIN:STANDARD
TZOFFSETFROM:-0400
TZOFFSETTO:-0500
TZNAME:EST
DTSTART:20231105T060000
END:STANDARD
BEGIN:DAYLIGHT
TZOFFSETFROM:-0500
TZOFFSETTO:-0400
TZNAME:EDT
DTSTART:20240310T070000
END:DAYLIGHT
BEGIN:STANDARD
TZOFFSETFROM:-0400
TZOFFSETTO:-0500
TZNAME:EST
DTSTART:20241103T060000
END:STANDARD
END:VTIMEZONE
BEGIN:VTIMEZONE
TZID:UTC
BEGIN:STANDARD
TZOFFSETFROM:+0000
TZOFFSETTO:+0000
TZNAME:UTC
DTSTART:20210101T000000
END:STANDARD
END:VTIMEZONE
BEGIN:VTIMEZONE
TZID:America/New_York
BEGIN:DAYLIGHT
TZOFFSETFROM:-0500
TZOFFSETTO:-0400
TZNAME:EDT
DTSTART:20210314T070000
END:DAYLIGHT
BEGIN:STANDARD
TZOFFSETFROM:-0400
TZOFFSETTO:-0500
TZNAME:EST
DTSTART:20211107T060000
END:STANDARD
BEGIN:DAYLIGHT
TZOFFSETFROM:-0500
TZOFFSETTO:-0400
TZNAME:EDT
DTSTART:20220313T070000
END:DAYLIGHT
BEGIN:STANDARD
TZOFFSETFROM:-0400
TZOFFSETTO:-0500
TZNAME:EST
DTSTART:20221106T060000
END:STANDARD
BEGIN:DAYLIGHT
TZOFFSETFROM:-0500
TZOFFSETTO:-0400
TZNAME:EDT
DTSTART:20230312T070000
END:DAYLIGHT
BEGIN:STANDARD
TZOFFSETFROM:-0400
TZOFFSETTO:-0500
TZNAME:EST
DTSTART:20231105T060000
END:STANDARD
END:VTIMEZONE
BEGIN:VEVENT
DTSTART;TZID=America/New_York:20230224T180000
DTEND;TZID=America/New_York:20230224T210000
DTSTAMP:20260423T045520
CREATED:20221122T174526Z
LAST-MODIFIED:20230509T194117Z
UID:2549-1677261600-1677272400@winetherapynmb.com
SUMMARY:An Evening with Greg Rowles Live Music
DESCRIPTION:An Evening with Greg Rowles is a unique and entertaining combination of great live music we all know and the storytelling of his time in show business.  Seats are limited for his shows and reservations are required at call/text 843-712-5209. \nGREG ROWLES\nGreg was born into a musical family in Fredericksburg\, VA.  At the age of 4 Greg received his first guitar and amplifier giving him a glimpse into his life as an entertainer.  Greg’s Dad\, Lewis\, played in many bands and the big treat for Greg was going to hear him on stage in many clubs around the Washington\, DC area.  Greg recalls watching his Dad one time at the age of 6 and proclaiming to his Mom\, Alice\, I want to be just like him.  Fast forward just a few years later his Dad\, Mom\, brother Jeff\, Aunt Joyce\, cousin Troy and he began a family band called “The Nashville Connection”.  They rehearsed for a couple years in the family basement honing their skills before taking the act out and performing at local dance halls and\, what Greg affectionately refers to as\, the animal circuit\, “The Elks Lodge\, The Eagles Lodge and The Moose Lodge.”  From this point for the next dozen years Greg honed his craft on bass guitar\, rhythm guitar and his favorite instrument\, pedal-steel guitar.  The family band performed countless shows preparing Greg for his next step in show-business…Nashville. \nThis next step meant relocation to Music City which was perpetuated from encouragement from his then girlfriend and now wife\, Brandee.  She persuaded Greg to audition at The Kennedy Center in Washington\, DC for Opryland USA\, a theme park in Nashville specializing in professional live stage shows.  After 7 hours\, 700 participants and two call backs Greg was offered a job in the theme parks cornerstone show\, Country Music USA.  It was there for three years that Greg impersonated stars ranging from George Strait to Ernest Tubb to Jim Reeves to Johnny Cash and Billy Ray Cyrus just to name a few.  Six days a week\, five shows a day in front of thousands daily.  What an education in the world of musical production and entertainment. \nDuring this time at Opryland Greg also had the opportunity to make the first of many appearances on the world famous Grand Ole Opry.  He recalls sneaking into the Opry many times to just walk out on the stage to feel what it would be like to perform on that coveted circle for aspiring artists.  Greg says “to have some of the greatest names in country music introduce me on that stage were moments I’ll never forget.” \nIt was also during this period that Ed McMahon’s Star Search came calling to find talent in Nashville.  After what Greg considered a failed audition for the show\, he received a call from Burbank to inform him that he had been selected to appear on the nationally televised show.  A moment in history for him he recalls\, one appearance led to nine and the title of “1994  Star Search Male Vocalist of the Year.”   Plot twist – Never underestimate the power and medium of television as Elvis Presley’s long-time manager\, Colonel Tom Parker was watching every one of Greg’s appearances.  Concluding the season finale Mr. Parker invited Greg and bride Brandee to Las Vegas for lunch.  That meal resulted in a five-hour meeting at the Las Vegas Hilton over Matza Ball soup (The Colonels favorite) and an eventual booking agency deal with Buddy Lee Attractions\, who\, at the time\, was the second largest booking agency in the country.  Greg found himself on the roster with Willie Nelson\, Waylon Jennings\, Ronnie Milsap\, Bill Monroe\, Lorrie Morgan\, and other country legends.  This same deal led to many years on the road performing at casinos\, fairs\, and festivals across the country. \nIn 2000 Greg & Brandee made a prayerful decision to relocate their then young family to Myrtle Beach\, SC and a residency at The Alabama Theatre where he has been bestowed the title “Good Will Ambassador”.  In ironic fashion Greg was part of the original marketing campaign for the theatre that opened in 1993.  These two worlds collided in the most beautiful way and a door was opened via Opryland to The Alabama Theatre all due to his past relationships with Opryland. This incredible team that brought Greg to Opryland also produced the show in Myrtle Beach and still does to this day. \nAs old relationships always seem to come and go in one’s life\, by the recommendation of Ed McMahon\, Greg was invited to appear for three years consecutively for James Nicholson\, the Ambassador to the Holy See in Rome\, Italy.  Entertaining at The Vatican for the Pope and all the dignitaries was one of Greg’s most memorable backdrops for what he refers to as a small Italian back-yard barbeque . \nGreg\, not letting grass grow under his feet at the beach began appearing in front of a camera for The Tourist Television Network producing and hosting segments which aired in all their markets.  After a couple of successful years in broadcasting\, local Fox affiliate WFXB recognized larger potential for Greg and invited him to read for a new pilot production\, “Not the News”\, a comedy parody program that took off faster than anticipated growing from 1 night a week to 5 nights a week.  Almost fifteen years and going strong Greg has really immersed himself in his television career by adding many hosting duties to his roster including\, “Fox Racin’ News”\, “Fox Football News”\, “Fox Midday News” and currently the most popular of them all\, a morning lifestyle show\, “Carolina am”. \nIn 2020 Greg’s career was marked with many new milestones. In January of that year\, he was inducted into The South Carolina Entertainment & Music Hall of Fame and received “The Lifetime Achievement Award” from the Carolina Country Music Association. \nOver the years Greg has worked closely with corporate sponsors\, Wrangler\, Elixir Strings\, Steve Clayton Custom Picks\, Holt Custom Guitars and J. Chisholm Boots.  Greg is also the spokesman for Beach Automotive Group representing Ford\, Lincoln\, Mazda and Volvo\, as well as Parkway Ford and Parkway Lincoln of Lexington\, NC. He is so grateful for the partnerships and integrity of these companies. \nGreg is very approachable when it comes to offering his time and talent to charity\, church and community both near and far.  It’s his love of community and helping others that has opened opportunities to serve over the years with The American Cancer Society\, Champions Autism Network\, The Claude Pardue Foundation\, The American Red Cross\, The March of Dimes and The Gideons just to name a few. \nAfter thirty years together Greg still affectionately refers to Brandee as his bride and attributes his success from her love\, (tolerance) and encouragement.  Over two decades she has become  successful in her own right as a real estate broker on The Grand Strand and is passionate about faith family and friends. \nGreg and Brandee have been together for nearly 30 years and feel so fortunate to have called Myrtle Beach home where they have raised Courtney\, Grayson\, & Ashton.   His “Papa” title is reserved to four rescue fur babies\, Jovie\, Nala\, Presley\, and Stitch.
URL:https://winetherapynmb.com/event/an-evening-with-greg-rowles-live-music/
LOCATION:Wine Therapy of North Myrtle Beach\, 315 Main St.\, North Myrtle Beach\, SC\, 29582\, United States
CATEGORIES:Wine Tasting
ATTACH;FMTTYPE=image/jpeg:https://winetherapynmb.com/wp-content/uploads/2022/11/Greg-Rowles-Wine-Therapy-Dinner-and-a-Show-1.jpg
END:VEVENT
BEGIN:VEVENT
DTSTART;TZID=America/New_York:20221202T180000
DTEND;TZID=America/New_York:20221202T210000
DTSTAMP:20260423T045520
CREATED:20221129T181844Z
LAST-MODIFIED:20221129T181844Z
UID:2632-1670004000-1670014800@winetherapynmb.com
SUMMARY:Michelle Loscalzo and Blakeland Harrison Live Music
DESCRIPTION:Michelle Loscalzo and Blakeland Harrison Live Music
URL:https://winetherapynmb.com/event/michelle-loscalzo-and-blakeland-harrison-live-music/
LOCATION:Wine Therapy of North Myrtle Beach\, 315 Main St.\, North Myrtle Beach\, SC\, 29582\, United States
CATEGORIES:Holiday Event,Wine Tasting
ATTACH;FMTTYPE=image/jpeg:https://winetherapynmb.com/wp-content/uploads/2022/08/Michelle-Loscalzo-and-Blakeland-Harrison-scaled.jpg
ORGANIZER;CN="Wine Therapy of North Myrtle Beach":MAILTO:winetherapyllc@gmail.com
END:VEVENT
BEGIN:VEVENT
DTSTART;TZID=America/New_York:20220805T180000
DTEND;TZID=America/New_York:20220805T210000
DTSTAMP:20260423T045520
CREATED:20220714T151637Z
LAST-MODIFIED:20220714T151637Z
UID:2068-1659722400-1659733200@winetherapynmb.com
SUMMARY:Erik Hawks
DESCRIPTION:Erik Hawks Country Music \nBorn and raised in North Carolina\, singer/songwriter Erik Hawks has always had a deep love for country music. \nInfluenced by such artists as Vince Gill\, Ryan Adams\, and Chris Stapleton\, he hangs his hat on writing deep\, emotional songs that strive to be both personal and relatable. \nErik Hawks Country Music Website
URL:https://winetherapynmb.com/event/erik-hawks/
LOCATION:Wine Therapy of North Myrtle Beach\, 315 Main St.\, North Myrtle Beach\, SC\, 29582\, United States
ATTACH;FMTTYPE=image/jpeg:https://winetherapynmb.com/wp-content/uploads/2022/07/erik-hawks-01.jpg
END:VEVENT
BEGIN:VEVENT
DTSTART;TZID=UTC:20220721T180000
DTEND;TZID=UTC:20220721T210000
DTSTAMP:20260423T045520
CREATED:20220220T041811Z
LAST-MODIFIED:20220621T015535Z
UID:1399-1658426400-1658437200@winetherapynmb.com
SUMMARY:Krystal King Live Music
DESCRIPTION:
URL:https://winetherapynmb.com/event/krystal-king-live-music/
ATTACH;FMTTYPE=image/jpeg:https://winetherapynmb.com/wp-content/uploads/2022/02/Krystal-King.jpg
END:VEVENT
BEGIN:VEVENT
DTSTART;TZID=America/New_York:20220720T180000
DTEND;TZID=America/New_York:20220720T210000
DTSTAMP:20260423T045520
CREATED:20220621T012725Z
LAST-MODIFIED:20220621T014005Z
UID:1935-1658340000-1658350800@winetherapynmb.com
SUMMARY:Sammy Kay and Katie Fee
DESCRIPTION:We are pleased to introduce new Nashville Artists to North Myrtle Beach SC – Sammy Kay and Katie Fee \nJoin us for a great evening of music and wine! \nSammy Kay is a folk-pop singer-songwriter currently pursuing her music career in Nashville\, Tennessee. Her music inspirations include Ingrid Michaelson\, Ruston Kelly\, and Taylor Swift. She is well-known in her home state of Indiana\, where she has performed at numerous venues since the age of 11. She recently graduated from Belmont University in Nashville\, where she studied songwriting and music business.\nSammy released her new EP titled ‘12th Avenue’ across all music streaming platforms this past March. It features her 3 latest singles\, as well as the unheard title track “12th Avenue”. She plays shows regularly in Nashville ; some venues include The Listening Room\, Big Machine Tavern\, and with Nashville Tour Stop. \n\nKatie Fee’s love of music stems from an early age in which she listened to 90s country artists such as Shania Twain\, Faith Hill\, and Deana Carter. Fusing influences of past and present\, country\, pop\, and rock\, the South Dakota native has worked to create her own niche in music.\nIn the Fall of 2017\, Katie left her hometown of Sioux Falls to attend Belmont University in Nashville\, TN\, where she learned about the business side of the music industry. Now that she has graduated\, Katie has thrown herself into Nashville’s songwriting community even further\, writing songs and playing in writer’s rounds around town.\nOn July 2nd\, 2021\, she released her debut EP\, Sunsets and Fireworks. The title track has been described by Three Chords Country as “What you would get if Eric Church’s Springsteen were written by a young Taylor Swift”\, perfectly summing up the songstress’s influences. \nCome on out and hear Sammy Kay and Katie Fee!
URL:https://winetherapynmb.com/event/sammy-kay-and-katie-fee/
LOCATION:Wine Therapy of North Myrtle Beach\, 315 Main St.\, North Myrtle Beach\, SC\, 29582\, United States
ATTACH;FMTTYPE=image/jpeg:https://winetherapynmb.com/wp-content/uploads/2022/06/sammy-and-katie-fee-1.jpg
END:VEVENT
BEGIN:VEVENT
DTSTART;TZID=America/New_York:20220701T180000
DTEND;TZID=America/New_York:20220701T210000
DTSTAMP:20260423T045520
CREATED:20220415T182815Z
LAST-MODIFIED:20220622T193453Z
UID:1674-1656698400-1656709200@winetherapynmb.com
SUMMARY:Paige King Johnson - Live Music
DESCRIPTION:Paige King Johnson – A three-time Carolina Country Music Awards Winner for Female Vocalist of the Year\, Country Emerging New Artist\, and Tour of the Year \nLive country music performance at Wine Therapy in North Myrtle Beach at the Shops on Main \n \n 
URL:https://winetherapynmb.com/event/paige-king-johnson-live-music-5/2022-07-01/
LOCATION:Wine Therapy\, 681 Main St.\, North Myrtle Beach\, SC\, 29582\, United States
ATTACH;FMTTYPE=image/jpeg:https://winetherapynmb.com/wp-content/uploads/2022/04/paige-king-johnson.jpg
END:VEVENT
BEGIN:VEVENT
DTSTART;TZID=UTC:20220622T180000
DTEND;TZID=UTC:20220622T210000
DTSTAMP:20260423T045520
CREATED:20211020T143621Z
LAST-MODIFIED:20220622T193028Z
UID:1027-1655920800-1655931600@winetherapynmb.com
SUMMARY:Cyndi Wheeler Nashville Recording Artist Live Music
DESCRIPTION:
URL:https://winetherapynmb.com/event/cyndi-wheeler-nashville-recording-artist-live-music-6/2022-06-22/
ATTACH;FMTTYPE=image/jpeg:https://winetherapynmb.com/wp-content/uploads/2021/10/Cyndi-Wheeler.jpg
END:VEVENT
BEGIN:VEVENT
DTSTART;TZID=America/New_York:20220604T180000
DTEND;TZID=America/New_York:20220604T210000
DTSTAMP:20260423T045520
CREATED:20220419T183235Z
LAST-MODIFIED:20220622T211513Z
UID:1698-1654365600-1654376400@winetherapynmb.com
SUMMARY:Jason Yarborough Band
DESCRIPTION:Jason Yarborough Band Live Music\nJune 4th 6-9pm\nAugust 6th 6-9pm \nGet on your feet and move to your favorite country hits with the Yarborough Brothers Band!
URL:https://winetherapynmb.com/event/jason-yarborough-band/2022-06-04/
LOCATION:Wine Therapy of North Myrtle Beach\, 315 Main St.\, North Myrtle Beach\, SC\, 29582\, United States
ATTACH;FMTTYPE=image/jpeg:https://winetherapynmb.com/wp-content/uploads/2022/04/Jason-Yarburough.jpg
END:VEVENT
BEGIN:VEVENT
DTSTART;TZID=America/New_York:20220429T180000
DTEND;TZID=America/New_York:20220429T210000
DTSTAMP:20260423T045520
CREATED:20220419T194441Z
LAST-MODIFIED:20220419T194441Z
UID:1702-1651255200-1651266000@winetherapynmb.com
SUMMARY:Greg Rowles
DESCRIPTION:Greg Rowles – Live at Wine Therapy in North Myrtle Beach \n6PM – 9PM \n\n4/29/22\n5/21/22\n6/18/22\n7/2/22\n8/13/22\n9/10/22\n10/8/22\n11/19/22\n12/17/22\n\n  \nGreg was born into a musical family in Fredericksburg\, VA.  At the age of 4 Greg received his first guitar and amplifier giving him a glimpse into his life as an entertainer.  Greg’s Dad\, Lewis\, played in many bands and the big treat for Greg was going to hear him on stage in many clubs around the Washington\, DC area.  Greg recalls watching his Dad one time at the age of 6 and proclaiming to his Mom\, Alice\, I want to be just like him.  Fast forward just a few years later …. Read More about Greg Rowles
URL:https://winetherapynmb.com/event/greg-rowles/2022-04-29/
ATTACH;FMTTYPE=image/jpeg:https://winetherapynmb.com/wp-content/uploads/2021/11/IMG_5660-scaled.jpg
END:VEVENT
BEGIN:VEVENT
DTSTART;TZID=America/New_York:20220409T180000
DTEND;TZID=America/New_York:20220409T210000
DTSTAMP:20260423T045520
CREATED:20220404T205807Z
LAST-MODIFIED:20220621T015928Z
UID:1591-1649527200-1649538000@winetherapynmb.com
SUMMARY:Brooke McBride - Live Country Music
DESCRIPTION:Come see Brooke McBride perform at Wine Therapy on the Shops on Main located in North Myrtle Beach. Brooke  sings Country Music \nBrooke is a 27-year-old singer/songwriter that prides herself in writing and singing “no fluff\,” “no filler” just real\, raw\, country music. While originally hailing from the Tar-heel State of North Carolina\, Brooke made the move to Nashville\, Tennessee in January 2013
URL:https://winetherapynmb.com/event/brooke-mcbride-live-music/2022-04-09/
LOCATION:Wine Therapy\, 681 Main St.\, North Myrtle Beach\, SC\, 29582\, United States
ATTACH;FMTTYPE=image/jpeg:https://winetherapynmb.com/wp-content/uploads/2022/04/Brooke-McBride.jpg
END:VEVENT
BEGIN:VEVENT
DTSTART;TZID=UTC:20220225T180000
DTEND;TZID=UTC:20220225T210000
DTSTAMP:20260423T045520
CREATED:20220215T175340Z
LAST-MODIFIED:20220621T015154Z
UID:1366-1645812000-1645822800@winetherapynmb.com
SUMMARY:Dom Wier Live Music
DESCRIPTION:
URL:https://winetherapynmb.com/event/dom-wier-live-music/2022-02-25/
ATTACH;FMTTYPE=image/jpeg:https://winetherapynmb.com/wp-content/uploads/2022/02/dom-wier.jpg
END:VEVENT
END:VCALENDAR