BEGIN:VCALENDAR
VERSION:2.0
PRODID:-//Wine Therapy of North Myrtle Beach - ECPv6.15.20//NONSGML v1.0//EN
CALSCALE:GREGORIAN
METHOD:PUBLISH
X-WR-CALNAME:Wine Therapy of North Myrtle Beach
X-ORIGINAL-URL:https://winetherapynmb.com
X-WR-CALDESC:Events for Wine Therapy of North Myrtle Beach
REFRESH-INTERVAL;VALUE=DURATION:PT1H
X-Robots-Tag:noindex
X-PUBLISHED-TTL:PT1H
BEGIN:VTIMEZONE
TZID:America/New_York
BEGIN:DAYLIGHT
TZOFFSETFROM:-0500
TZOFFSETTO:-0400
TZNAME:EDT
DTSTART:20240310T070000
END:DAYLIGHT
BEGIN:STANDARD
TZOFFSETFROM:-0400
TZOFFSETTO:-0500
TZNAME:EST
DTSTART:20241103T060000
END:STANDARD
BEGIN:DAYLIGHT
TZOFFSETFROM:-0500
TZOFFSETTO:-0400
TZNAME:EDT
DTSTART:20250309T070000
END:DAYLIGHT
BEGIN:STANDARD
TZOFFSETFROM:-0400
TZOFFSETTO:-0500
TZNAME:EST
DTSTART:20251102T060000
END:STANDARD
BEGIN:DAYLIGHT
TZOFFSETFROM:-0500
TZOFFSETTO:-0400
TZNAME:EDT
DTSTART:20260308T070000
END:DAYLIGHT
BEGIN:STANDARD
TZOFFSETFROM:-0400
TZOFFSETTO:-0500
TZNAME:EST
DTSTART:20261101T060000
END:STANDARD
END:VTIMEZONE
BEGIN:VEVENT
DTSTART;TZID=America/New_York:20250306T120000
DTEND;TZID=America/New_York:20250306T210000
DTSTAMP:20260423T015352
CREATED:20231018T223928Z
LAST-MODIFIED:20231018T223928Z
UID:8143-1741262400-1741294800@winetherapynmb.com
SUMMARY:Self Service Wine Tasting All Day Every Day
DESCRIPTION:Self Service Wine Tasting All Day Every Day \nNo Reservations Needed \nWalk In and have create your own Custom Wine Tasting \nCheers \n843-712-5209 \nClosed on Mondays \n—
URL:https://winetherapynmb.com/event/wine-tasting-all-day-every-day-4/2025-03-06/
LOCATION:Wine Therapy of North Myrtle Beach\, 315 Main St.\, North Myrtle Beach\, SC\, 29582\, United States
CATEGORIES:Wine Tasting
ATTACH;FMTTYPE=image/jpeg:https://winetherapynmb.com/wp-content/uploads/2023/10/image1.jpeg
END:VEVENT
BEGIN:VEVENT
DTSTART;TZID=America/New_York:20250305T120000
DTEND;TZID=America/New_York:20250305T210000
DTSTAMP:20260423T015352
CREATED:20231018T223928Z
LAST-MODIFIED:20231018T223928Z
UID:8142-1741176000-1741208400@winetherapynmb.com
SUMMARY:Self Service Wine Tasting All Day Every Day
DESCRIPTION:Self Service Wine Tasting All Day Every Day \nNo Reservations Needed \nWalk In and have create your own Custom Wine Tasting \nCheers \n843-712-5209 \nClosed on Mondays \n—
URL:https://winetherapynmb.com/event/wine-tasting-all-day-every-day-4/2025-03-05/
LOCATION:Wine Therapy of North Myrtle Beach\, 315 Main St.\, North Myrtle Beach\, SC\, 29582\, United States
CATEGORIES:Wine Tasting
ATTACH;FMTTYPE=image/jpeg:https://winetherapynmb.com/wp-content/uploads/2023/10/image1.jpeg
END:VEVENT
BEGIN:VEVENT
DTSTART;TZID=America/New_York:20250304T120000
DTEND;TZID=America/New_York:20250304T210000
DTSTAMP:20260423T015352
CREATED:20231018T223928Z
LAST-MODIFIED:20231018T223928Z
UID:8141-1741089600-1741122000@winetherapynmb.com
SUMMARY:Self Service Wine Tasting All Day Every Day
DESCRIPTION:Self Service Wine Tasting All Day Every Day \nNo Reservations Needed \nWalk In and have create your own Custom Wine Tasting \nCheers \n843-712-5209 \nClosed on Mondays \n—
URL:https://winetherapynmb.com/event/wine-tasting-all-day-every-day-4/2025-03-04/
LOCATION:Wine Therapy of North Myrtle Beach\, 315 Main St.\, North Myrtle Beach\, SC\, 29582\, United States
CATEGORIES:Wine Tasting
ATTACH;FMTTYPE=image/jpeg:https://winetherapynmb.com/wp-content/uploads/2023/10/image1.jpeg
END:VEVENT
BEGIN:VEVENT
DTSTART;TZID=America/New_York:20250302T120000
DTEND;TZID=America/New_York:20250302T210000
DTSTAMP:20260423T015352
CREATED:20231018T223928Z
LAST-MODIFIED:20231018T223928Z
UID:8140-1740916800-1740949200@winetherapynmb.com
SUMMARY:Self Service Wine Tasting All Day Every Day
DESCRIPTION:Self Service Wine Tasting All Day Every Day \nNo Reservations Needed \nWalk In and have create your own Custom Wine Tasting \nCheers \n843-712-5209 \nClosed on Mondays \n—
URL:https://winetherapynmb.com/event/wine-tasting-all-day-every-day-4/2025-03-02/
LOCATION:Wine Therapy of North Myrtle Beach\, 315 Main St.\, North Myrtle Beach\, SC\, 29582\, United States
CATEGORIES:Wine Tasting
ATTACH;FMTTYPE=image/jpeg:https://winetherapynmb.com/wp-content/uploads/2023/10/image1.jpeg
END:VEVENT
BEGIN:VEVENT
DTSTART;TZID=America/New_York:20250301T120000
DTEND;TZID=America/New_York:20250301T210000
DTSTAMP:20260423T015352
CREATED:20231018T223928Z
LAST-MODIFIED:20231018T223928Z
UID:8139-1740830400-1740862800@winetherapynmb.com
SUMMARY:Self Service Wine Tasting All Day Every Day
DESCRIPTION:Self Service Wine Tasting All Day Every Day \nNo Reservations Needed \nWalk In and have create your own Custom Wine Tasting \nCheers \n843-712-5209 \nClosed on Mondays \n—
URL:https://winetherapynmb.com/event/wine-tasting-all-day-every-day-4/2025-03-01/
LOCATION:Wine Therapy of North Myrtle Beach\, 315 Main St.\, North Myrtle Beach\, SC\, 29582\, United States
CATEGORIES:Wine Tasting
ATTACH;FMTTYPE=image/jpeg:https://winetherapynmb.com/wp-content/uploads/2023/10/image1.jpeg
END:VEVENT
BEGIN:VEVENT
DTSTART;TZID=America/New_York:20250228T120000
DTEND;TZID=America/New_York:20250228T210000
DTSTAMP:20260423T015352
CREATED:20231018T223928Z
LAST-MODIFIED:20231018T223928Z
UID:8138-1740744000-1740776400@winetherapynmb.com
SUMMARY:Self Service Wine Tasting All Day Every Day
DESCRIPTION:Self Service Wine Tasting All Day Every Day \nNo Reservations Needed \nWalk In and have create your own Custom Wine Tasting \nCheers \n843-712-5209 \nClosed on Mondays \n—
URL:https://winetherapynmb.com/event/wine-tasting-all-day-every-day-4/2025-02-28/
LOCATION:Wine Therapy of North Myrtle Beach\, 315 Main St.\, North Myrtle Beach\, SC\, 29582\, United States
CATEGORIES:Wine Tasting
ATTACH;FMTTYPE=image/jpeg:https://winetherapynmb.com/wp-content/uploads/2023/10/image1.jpeg
END:VEVENT
BEGIN:VEVENT
DTSTART;TZID=America/New_York:20250227T120000
DTEND;TZID=America/New_York:20250227T210000
DTSTAMP:20260423T015352
CREATED:20231018T223928Z
LAST-MODIFIED:20231018T223928Z
UID:8137-1740657600-1740690000@winetherapynmb.com
SUMMARY:Self Service Wine Tasting All Day Every Day
DESCRIPTION:Self Service Wine Tasting All Day Every Day \nNo Reservations Needed \nWalk In and have create your own Custom Wine Tasting \nCheers \n843-712-5209 \nClosed on Mondays \n—
URL:https://winetherapynmb.com/event/wine-tasting-all-day-every-day-4/2025-02-27/
LOCATION:Wine Therapy of North Myrtle Beach\, 315 Main St.\, North Myrtle Beach\, SC\, 29582\, United States
CATEGORIES:Wine Tasting
ATTACH;FMTTYPE=image/jpeg:https://winetherapynmb.com/wp-content/uploads/2023/10/image1.jpeg
END:VEVENT
BEGIN:VEVENT
DTSTART;TZID=America/New_York:20250226T120000
DTEND;TZID=America/New_York:20250226T210000
DTSTAMP:20260423T015352
CREATED:20231018T223928Z
LAST-MODIFIED:20231018T223928Z
UID:8136-1740571200-1740603600@winetherapynmb.com
SUMMARY:Self Service Wine Tasting All Day Every Day
DESCRIPTION:Self Service Wine Tasting All Day Every Day \nNo Reservations Needed \nWalk In and have create your own Custom Wine Tasting \nCheers \n843-712-5209 \nClosed on Mondays \n—
URL:https://winetherapynmb.com/event/wine-tasting-all-day-every-day-4/2025-02-26/
LOCATION:Wine Therapy of North Myrtle Beach\, 315 Main St.\, North Myrtle Beach\, SC\, 29582\, United States
CATEGORIES:Wine Tasting
ATTACH;FMTTYPE=image/jpeg:https://winetherapynmb.com/wp-content/uploads/2023/10/image1.jpeg
END:VEVENT
BEGIN:VEVENT
DTSTART;TZID=America/New_York:20250225T120000
DTEND;TZID=America/New_York:20250225T210000
DTSTAMP:20260423T015352
CREATED:20231018T223928Z
LAST-MODIFIED:20231018T223928Z
UID:8135-1740484800-1740517200@winetherapynmb.com
SUMMARY:Self Service Wine Tasting All Day Every Day
DESCRIPTION:Self Service Wine Tasting All Day Every Day \nNo Reservations Needed \nWalk In and have create your own Custom Wine Tasting \nCheers \n843-712-5209 \nClosed on Mondays \n—
URL:https://winetherapynmb.com/event/wine-tasting-all-day-every-day-4/2025-02-25/
LOCATION:Wine Therapy of North Myrtle Beach\, 315 Main St.\, North Myrtle Beach\, SC\, 29582\, United States
CATEGORIES:Wine Tasting
ATTACH;FMTTYPE=image/jpeg:https://winetherapynmb.com/wp-content/uploads/2023/10/image1.jpeg
END:VEVENT
BEGIN:VEVENT
DTSTART;TZID=America/New_York:20250223T120000
DTEND;TZID=America/New_York:20250223T210000
DTSTAMP:20260423T015352
CREATED:20231018T223928Z
LAST-MODIFIED:20231018T223928Z
UID:8134-1740312000-1740344400@winetherapynmb.com
SUMMARY:Self Service Wine Tasting All Day Every Day
DESCRIPTION:Self Service Wine Tasting All Day Every Day \nNo Reservations Needed \nWalk In and have create your own Custom Wine Tasting \nCheers \n843-712-5209 \nClosed on Mondays \n—
URL:https://winetherapynmb.com/event/wine-tasting-all-day-every-day-4/2025-02-23/
LOCATION:Wine Therapy of North Myrtle Beach\, 315 Main St.\, North Myrtle Beach\, SC\, 29582\, United States
CATEGORIES:Wine Tasting
ATTACH;FMTTYPE=image/jpeg:https://winetherapynmb.com/wp-content/uploads/2023/10/image1.jpeg
END:VEVENT
BEGIN:VEVENT
DTSTART;TZID=America/New_York:20250222T120000
DTEND;TZID=America/New_York:20250222T210000
DTSTAMP:20260423T015352
CREATED:20231018T223928Z
LAST-MODIFIED:20231018T223928Z
UID:8133-1740225600-1740258000@winetherapynmb.com
SUMMARY:Self Service Wine Tasting All Day Every Day
DESCRIPTION:Self Service Wine Tasting All Day Every Day \nNo Reservations Needed \nWalk In and have create your own Custom Wine Tasting \nCheers \n843-712-5209 \nClosed on Mondays \n—
URL:https://winetherapynmb.com/event/wine-tasting-all-day-every-day-4/2025-02-22/
LOCATION:Wine Therapy of North Myrtle Beach\, 315 Main St.\, North Myrtle Beach\, SC\, 29582\, United States
CATEGORIES:Wine Tasting
ATTACH;FMTTYPE=image/jpeg:https://winetherapynmb.com/wp-content/uploads/2023/10/image1.jpeg
END:VEVENT
BEGIN:VEVENT
DTSTART;TZID=America/New_York:20250221T120000
DTEND;TZID=America/New_York:20250221T210000
DTSTAMP:20260423T015352
CREATED:20231018T223928Z
LAST-MODIFIED:20231018T223928Z
UID:8132-1740139200-1740171600@winetherapynmb.com
SUMMARY:Self Service Wine Tasting All Day Every Day
DESCRIPTION:Self Service Wine Tasting All Day Every Day \nNo Reservations Needed \nWalk In and have create your own Custom Wine Tasting \nCheers \n843-712-5209 \nClosed on Mondays \n—
URL:https://winetherapynmb.com/event/wine-tasting-all-day-every-day-4/2025-02-21/
LOCATION:Wine Therapy of North Myrtle Beach\, 315 Main St.\, North Myrtle Beach\, SC\, 29582\, United States
CATEGORIES:Wine Tasting
ATTACH;FMTTYPE=image/jpeg:https://winetherapynmb.com/wp-content/uploads/2023/10/image1.jpeg
END:VEVENT
BEGIN:VEVENT
DTSTART;TZID=America/New_York:20250220T120000
DTEND;TZID=America/New_York:20250220T210000
DTSTAMP:20260423T015352
CREATED:20231018T223928Z
LAST-MODIFIED:20231018T223928Z
UID:8131-1740052800-1740085200@winetherapynmb.com
SUMMARY:Self Service Wine Tasting All Day Every Day
DESCRIPTION:Self Service Wine Tasting All Day Every Day \nNo Reservations Needed \nWalk In and have create your own Custom Wine Tasting \nCheers \n843-712-5209 \nClosed on Mondays \n—
URL:https://winetherapynmb.com/event/wine-tasting-all-day-every-day-4/2025-02-20/
LOCATION:Wine Therapy of North Myrtle Beach\, 315 Main St.\, North Myrtle Beach\, SC\, 29582\, United States
CATEGORIES:Wine Tasting
ATTACH;FMTTYPE=image/jpeg:https://winetherapynmb.com/wp-content/uploads/2023/10/image1.jpeg
END:VEVENT
BEGIN:VEVENT
DTSTART;TZID=America/New_York:20250219T120000
DTEND;TZID=America/New_York:20250219T210000
DTSTAMP:20260423T015352
CREATED:20231018T223928Z
LAST-MODIFIED:20231018T223928Z
UID:8130-1739966400-1739998800@winetherapynmb.com
SUMMARY:Self Service Wine Tasting All Day Every Day
DESCRIPTION:Self Service Wine Tasting All Day Every Day \nNo Reservations Needed \nWalk In and have create your own Custom Wine Tasting \nCheers \n843-712-5209 \nClosed on Mondays \n—
URL:https://winetherapynmb.com/event/wine-tasting-all-day-every-day-4/2025-02-19/
LOCATION:Wine Therapy of North Myrtle Beach\, 315 Main St.\, North Myrtle Beach\, SC\, 29582\, United States
CATEGORIES:Wine Tasting
ATTACH;FMTTYPE=image/jpeg:https://winetherapynmb.com/wp-content/uploads/2023/10/image1.jpeg
END:VEVENT
BEGIN:VEVENT
DTSTART;TZID=America/New_York:20250218T120000
DTEND;TZID=America/New_York:20250218T210000
DTSTAMP:20260423T015352
CREATED:20231018T223928Z
LAST-MODIFIED:20231018T223928Z
UID:8129-1739880000-1739912400@winetherapynmb.com
SUMMARY:Self Service Wine Tasting All Day Every Day
DESCRIPTION:Self Service Wine Tasting All Day Every Day \nNo Reservations Needed \nWalk In and have create your own Custom Wine Tasting \nCheers \n843-712-5209 \nClosed on Mondays \n—
URL:https://winetherapynmb.com/event/wine-tasting-all-day-every-day-4/2025-02-18/
LOCATION:Wine Therapy of North Myrtle Beach\, 315 Main St.\, North Myrtle Beach\, SC\, 29582\, United States
CATEGORIES:Wine Tasting
ATTACH;FMTTYPE=image/jpeg:https://winetherapynmb.com/wp-content/uploads/2023/10/image1.jpeg
END:VEVENT
BEGIN:VEVENT
DTSTART;TZID=America/New_York:20250216T120000
DTEND;TZID=America/New_York:20250216T210000
DTSTAMP:20260423T015352
CREATED:20231018T223928Z
LAST-MODIFIED:20231018T223928Z
UID:8128-1739707200-1739739600@winetherapynmb.com
SUMMARY:Self Service Wine Tasting All Day Every Day
DESCRIPTION:Self Service Wine Tasting All Day Every Day \nNo Reservations Needed \nWalk In and have create your own Custom Wine Tasting \nCheers \n843-712-5209 \nClosed on Mondays \n—
URL:https://winetherapynmb.com/event/wine-tasting-all-day-every-day-4/2025-02-16/
LOCATION:Wine Therapy of North Myrtle Beach\, 315 Main St.\, North Myrtle Beach\, SC\, 29582\, United States
CATEGORIES:Wine Tasting
ATTACH;FMTTYPE=image/jpeg:https://winetherapynmb.com/wp-content/uploads/2023/10/image1.jpeg
END:VEVENT
BEGIN:VEVENT
DTSTART;TZID=America/New_York:20250215T120000
DTEND;TZID=America/New_York:20250215T210000
DTSTAMP:20260423T015352
CREATED:20231018T223928Z
LAST-MODIFIED:20231018T223928Z
UID:8127-1739620800-1739653200@winetherapynmb.com
SUMMARY:Self Service Wine Tasting All Day Every Day
DESCRIPTION:Self Service Wine Tasting All Day Every Day \nNo Reservations Needed \nWalk In and have create your own Custom Wine Tasting \nCheers \n843-712-5209 \nClosed on Mondays \n—
URL:https://winetherapynmb.com/event/wine-tasting-all-day-every-day-4/2025-02-15/
LOCATION:Wine Therapy of North Myrtle Beach\, 315 Main St.\, North Myrtle Beach\, SC\, 29582\, United States
CATEGORIES:Wine Tasting
ATTACH;FMTTYPE=image/jpeg:https://winetherapynmb.com/wp-content/uploads/2023/10/image1.jpeg
END:VEVENT
BEGIN:VEVENT
DTSTART;TZID=America/New_York:20250214T120000
DTEND;TZID=America/New_York:20250214T210000
DTSTAMP:20260423T015352
CREATED:20231018T223928Z
LAST-MODIFIED:20231018T223928Z
UID:8126-1739534400-1739566800@winetherapynmb.com
SUMMARY:Self Service Wine Tasting All Day Every Day
DESCRIPTION:Self Service Wine Tasting All Day Every Day \nNo Reservations Needed \nWalk In and have create your own Custom Wine Tasting \nCheers \n843-712-5209 \nClosed on Mondays \n—
URL:https://winetherapynmb.com/event/wine-tasting-all-day-every-day-4/2025-02-14/
LOCATION:Wine Therapy of North Myrtle Beach\, 315 Main St.\, North Myrtle Beach\, SC\, 29582\, United States
CATEGORIES:Wine Tasting
ATTACH;FMTTYPE=image/jpeg:https://winetherapynmb.com/wp-content/uploads/2023/10/image1.jpeg
END:VEVENT
BEGIN:VEVENT
DTSTART;TZID=America/New_York:20250213T120000
DTEND;TZID=America/New_York:20250213T210000
DTSTAMP:20260423T015352
CREATED:20231018T223928Z
LAST-MODIFIED:20231018T223928Z
UID:8125-1739448000-1739480400@winetherapynmb.com
SUMMARY:Self Service Wine Tasting All Day Every Day
DESCRIPTION:Self Service Wine Tasting All Day Every Day \nNo Reservations Needed \nWalk In and have create your own Custom Wine Tasting \nCheers \n843-712-5209 \nClosed on Mondays \n—
URL:https://winetherapynmb.com/event/wine-tasting-all-day-every-day-4/2025-02-13/
LOCATION:Wine Therapy of North Myrtle Beach\, 315 Main St.\, North Myrtle Beach\, SC\, 29582\, United States
CATEGORIES:Wine Tasting
ATTACH;FMTTYPE=image/jpeg:https://winetherapynmb.com/wp-content/uploads/2023/10/image1.jpeg
END:VEVENT
BEGIN:VEVENT
DTSTART;TZID=America/New_York:20250212T120000
DTEND;TZID=America/New_York:20250212T210000
DTSTAMP:20260423T015352
CREATED:20231018T223928Z
LAST-MODIFIED:20231018T223928Z
UID:8124-1739361600-1739394000@winetherapynmb.com
SUMMARY:Self Service Wine Tasting All Day Every Day
DESCRIPTION:Self Service Wine Tasting All Day Every Day \nNo Reservations Needed \nWalk In and have create your own Custom Wine Tasting \nCheers \n843-712-5209 \nClosed on Mondays \n—
URL:https://winetherapynmb.com/event/wine-tasting-all-day-every-day-4/2025-02-12/
LOCATION:Wine Therapy of North Myrtle Beach\, 315 Main St.\, North Myrtle Beach\, SC\, 29582\, United States
CATEGORIES:Wine Tasting
ATTACH;FMTTYPE=image/jpeg:https://winetherapynmb.com/wp-content/uploads/2023/10/image1.jpeg
END:VEVENT
BEGIN:VEVENT
DTSTART;TZID=America/New_York:20250211T120000
DTEND;TZID=America/New_York:20250211T210000
DTSTAMP:20260423T015352
CREATED:20231018T223928Z
LAST-MODIFIED:20231018T223928Z
UID:8123-1739275200-1739307600@winetherapynmb.com
SUMMARY:Self Service Wine Tasting All Day Every Day
DESCRIPTION:Self Service Wine Tasting All Day Every Day \nNo Reservations Needed \nWalk In and have create your own Custom Wine Tasting \nCheers \n843-712-5209 \nClosed on Mondays \n—
URL:https://winetherapynmb.com/event/wine-tasting-all-day-every-day-4/2025-02-11/
LOCATION:Wine Therapy of North Myrtle Beach\, 315 Main St.\, North Myrtle Beach\, SC\, 29582\, United States
CATEGORIES:Wine Tasting
ATTACH;FMTTYPE=image/jpeg:https://winetherapynmb.com/wp-content/uploads/2023/10/image1.jpeg
END:VEVENT
BEGIN:VEVENT
DTSTART;TZID=America/New_York:20250209T120000
DTEND;TZID=America/New_York:20250209T210000
DTSTAMP:20260423T015352
CREATED:20231018T223928Z
LAST-MODIFIED:20231018T223928Z
UID:8122-1739102400-1739134800@winetherapynmb.com
SUMMARY:Self Service Wine Tasting All Day Every Day
DESCRIPTION:Self Service Wine Tasting All Day Every Day \nNo Reservations Needed \nWalk In and have create your own Custom Wine Tasting \nCheers \n843-712-5209 \nClosed on Mondays \n—
URL:https://winetherapynmb.com/event/wine-tasting-all-day-every-day-4/2025-02-09/
LOCATION:Wine Therapy of North Myrtle Beach\, 315 Main St.\, North Myrtle Beach\, SC\, 29582\, United States
CATEGORIES:Wine Tasting
ATTACH;FMTTYPE=image/jpeg:https://winetherapynmb.com/wp-content/uploads/2023/10/image1.jpeg
END:VEVENT
BEGIN:VEVENT
DTSTART;TZID=America/New_York:20250208T120000
DTEND;TZID=America/New_York:20250208T210000
DTSTAMP:20260423T015352
CREATED:20231018T223928Z
LAST-MODIFIED:20231018T223928Z
UID:8121-1739016000-1739048400@winetherapynmb.com
SUMMARY:Self Service Wine Tasting All Day Every Day
DESCRIPTION:Self Service Wine Tasting All Day Every Day \nNo Reservations Needed \nWalk In and have create your own Custom Wine Tasting \nCheers \n843-712-5209 \nClosed on Mondays \n—
URL:https://winetherapynmb.com/event/wine-tasting-all-day-every-day-4/2025-02-08/
LOCATION:Wine Therapy of North Myrtle Beach\, 315 Main St.\, North Myrtle Beach\, SC\, 29582\, United States
CATEGORIES:Wine Tasting
ATTACH;FMTTYPE=image/jpeg:https://winetherapynmb.com/wp-content/uploads/2023/10/image1.jpeg
END:VEVENT
BEGIN:VEVENT
DTSTART;TZID=America/New_York:20250207T120000
DTEND;TZID=America/New_York:20250207T210000
DTSTAMP:20260423T015352
CREATED:20231018T223928Z
LAST-MODIFIED:20231018T223928Z
UID:8120-1738929600-1738962000@winetherapynmb.com
SUMMARY:Self Service Wine Tasting All Day Every Day
DESCRIPTION:Self Service Wine Tasting All Day Every Day \nNo Reservations Needed \nWalk In and have create your own Custom Wine Tasting \nCheers \n843-712-5209 \nClosed on Mondays \n—
URL:https://winetherapynmb.com/event/wine-tasting-all-day-every-day-4/2025-02-07/
LOCATION:Wine Therapy of North Myrtle Beach\, 315 Main St.\, North Myrtle Beach\, SC\, 29582\, United States
CATEGORIES:Wine Tasting
ATTACH;FMTTYPE=image/jpeg:https://winetherapynmb.com/wp-content/uploads/2023/10/image1.jpeg
END:VEVENT
BEGIN:VEVENT
DTSTART;TZID=America/New_York:20250206T120000
DTEND;TZID=America/New_York:20250206T210000
DTSTAMP:20260423T015352
CREATED:20231018T223928Z
LAST-MODIFIED:20231018T223928Z
UID:8119-1738843200-1738875600@winetherapynmb.com
SUMMARY:Self Service Wine Tasting All Day Every Day
DESCRIPTION:Self Service Wine Tasting All Day Every Day \nNo Reservations Needed \nWalk In and have create your own Custom Wine Tasting \nCheers \n843-712-5209 \nClosed on Mondays \n—
URL:https://winetherapynmb.com/event/wine-tasting-all-day-every-day-4/2025-02-06/
LOCATION:Wine Therapy of North Myrtle Beach\, 315 Main St.\, North Myrtle Beach\, SC\, 29582\, United States
CATEGORIES:Wine Tasting
ATTACH;FMTTYPE=image/jpeg:https://winetherapynmb.com/wp-content/uploads/2023/10/image1.jpeg
END:VEVENT
BEGIN:VEVENT
DTSTART;TZID=America/New_York:20250205T120000
DTEND;TZID=America/New_York:20250205T210000
DTSTAMP:20260423T015352
CREATED:20231018T223928Z
LAST-MODIFIED:20231018T223928Z
UID:8118-1738756800-1738789200@winetherapynmb.com
SUMMARY:Self Service Wine Tasting All Day Every Day
DESCRIPTION:Self Service Wine Tasting All Day Every Day \nNo Reservations Needed \nWalk In and have create your own Custom Wine Tasting \nCheers \n843-712-5209 \nClosed on Mondays \n—
URL:https://winetherapynmb.com/event/wine-tasting-all-day-every-day-4/2025-02-05/
LOCATION:Wine Therapy of North Myrtle Beach\, 315 Main St.\, North Myrtle Beach\, SC\, 29582\, United States
CATEGORIES:Wine Tasting
ATTACH;FMTTYPE=image/jpeg:https://winetherapynmb.com/wp-content/uploads/2023/10/image1.jpeg
END:VEVENT
BEGIN:VEVENT
DTSTART;TZID=America/New_York:20250204T120000
DTEND;TZID=America/New_York:20250204T210000
DTSTAMP:20260423T015352
CREATED:20231018T223928Z
LAST-MODIFIED:20231018T223928Z
UID:8117-1738670400-1738702800@winetherapynmb.com
SUMMARY:Self Service Wine Tasting All Day Every Day
DESCRIPTION:Self Service Wine Tasting All Day Every Day \nNo Reservations Needed \nWalk In and have create your own Custom Wine Tasting \nCheers \n843-712-5209 \nClosed on Mondays \n—
URL:https://winetherapynmb.com/event/wine-tasting-all-day-every-day-4/2025-02-04/
LOCATION:Wine Therapy of North Myrtle Beach\, 315 Main St.\, North Myrtle Beach\, SC\, 29582\, United States
CATEGORIES:Wine Tasting
ATTACH;FMTTYPE=image/jpeg:https://winetherapynmb.com/wp-content/uploads/2023/10/image1.jpeg
END:VEVENT
BEGIN:VEVENT
DTSTART;TZID=America/New_York:20250202T120000
DTEND;TZID=America/New_York:20250202T210000
DTSTAMP:20260423T015352
CREATED:20231018T223928Z
LAST-MODIFIED:20231018T223928Z
UID:8116-1738497600-1738530000@winetherapynmb.com
SUMMARY:Self Service Wine Tasting All Day Every Day
DESCRIPTION:Self Service Wine Tasting All Day Every Day \nNo Reservations Needed \nWalk In and have create your own Custom Wine Tasting \nCheers \n843-712-5209 \nClosed on Mondays \n—
URL:https://winetherapynmb.com/event/wine-tasting-all-day-every-day-4/2025-02-02/
LOCATION:Wine Therapy of North Myrtle Beach\, 315 Main St.\, North Myrtle Beach\, SC\, 29582\, United States
CATEGORIES:Wine Tasting
ATTACH;FMTTYPE=image/jpeg:https://winetherapynmb.com/wp-content/uploads/2023/10/image1.jpeg
END:VEVENT
BEGIN:VEVENT
DTSTART;TZID=America/New_York:20250201T120000
DTEND;TZID=America/New_York:20250201T210000
DTSTAMP:20260423T015352
CREATED:20231018T223928Z
LAST-MODIFIED:20231018T223928Z
UID:8115-1738411200-1738443600@winetherapynmb.com
SUMMARY:Self Service Wine Tasting All Day Every Day
DESCRIPTION:Self Service Wine Tasting All Day Every Day \nNo Reservations Needed \nWalk In and have create your own Custom Wine Tasting \nCheers \n843-712-5209 \nClosed on Mondays \n—
URL:https://winetherapynmb.com/event/wine-tasting-all-day-every-day-4/2025-02-01/
LOCATION:Wine Therapy of North Myrtle Beach\, 315 Main St.\, North Myrtle Beach\, SC\, 29582\, United States
CATEGORIES:Wine Tasting
ATTACH;FMTTYPE=image/jpeg:https://winetherapynmb.com/wp-content/uploads/2023/10/image1.jpeg
END:VEVENT
BEGIN:VEVENT
DTSTART;TZID=America/New_York:20250131T120000
DTEND;TZID=America/New_York:20250131T210000
DTSTAMP:20260423T015352
CREATED:20231018T223928Z
LAST-MODIFIED:20231018T223928Z
UID:8114-1738324800-1738357200@winetherapynmb.com
SUMMARY:Self Service Wine Tasting All Day Every Day
DESCRIPTION:Self Service Wine Tasting All Day Every Day \nNo Reservations Needed \nWalk In and have create your own Custom Wine Tasting \nCheers \n843-712-5209 \nClosed on Mondays \n—
URL:https://winetherapynmb.com/event/wine-tasting-all-day-every-day-4/2025-01-31/
LOCATION:Wine Therapy of North Myrtle Beach\, 315 Main St.\, North Myrtle Beach\, SC\, 29582\, United States
CATEGORIES:Wine Tasting
ATTACH;FMTTYPE=image/jpeg:https://winetherapynmb.com/wp-content/uploads/2023/10/image1.jpeg
END:VEVENT
END:VCALENDAR