BEGIN:VCALENDAR
VERSION:2.0
PRODID:-//Wine Therapy of North Myrtle Beach - ECPv6.15.20//NONSGML v1.0//EN
CALSCALE:GREGORIAN
METHOD:PUBLISH
X-WR-CALNAME:Wine Therapy of North Myrtle Beach
X-ORIGINAL-URL:https://winetherapynmb.com
X-WR-CALDESC:Events for Wine Therapy of North Myrtle Beach
REFRESH-INTERVAL;VALUE=DURATION:PT1H
X-Robots-Tag:noindex
X-PUBLISHED-TTL:PT1H
BEGIN:VTIMEZONE
TZID:America/New_York
BEGIN:DAYLIGHT
TZOFFSETFROM:-0500
TZOFFSETTO:-0400
TZNAME:EDT
DTSTART:20240310T070000
END:DAYLIGHT
BEGIN:STANDARD
TZOFFSETFROM:-0400
TZOFFSETTO:-0500
TZNAME:EST
DTSTART:20241103T060000
END:STANDARD
BEGIN:DAYLIGHT
TZOFFSETFROM:-0500
TZOFFSETTO:-0400
TZNAME:EDT
DTSTART:20250309T070000
END:DAYLIGHT
BEGIN:STANDARD
TZOFFSETFROM:-0400
TZOFFSETTO:-0500
TZNAME:EST
DTSTART:20251102T060000
END:STANDARD
BEGIN:DAYLIGHT
TZOFFSETFROM:-0500
TZOFFSETTO:-0400
TZNAME:EDT
DTSTART:20260308T070000
END:DAYLIGHT
BEGIN:STANDARD
TZOFFSETFROM:-0400
TZOFFSETTO:-0500
TZNAME:EST
DTSTART:20261101T060000
END:STANDARD
END:VTIMEZONE
BEGIN:VEVENT
DTSTART;TZID=America/New_York:20251003T120000
DTEND;TZID=America/New_York:20251003T210000
DTSTAMP:20260422T185039
CREATED:20231018T223928Z
LAST-MODIFIED:20231018T223928Z
UID:8324-1759492800-1759525200@winetherapynmb.com
SUMMARY:Self Service Wine Tasting All Day Every Day
DESCRIPTION:Self Service Wine Tasting All Day Every Day \nNo Reservations Needed \nWalk In and have create your own Custom Wine Tasting \nCheers \n843-712-5209 \nClosed on Mondays \n—
URL:https://winetherapynmb.com/event/wine-tasting-all-day-every-day-4/2025-10-03/
LOCATION:Wine Therapy of North Myrtle Beach\, 315 Main St.\, North Myrtle Beach\, SC\, 29582\, United States
CATEGORIES:Wine Tasting
ATTACH;FMTTYPE=image/jpeg:https://winetherapynmb.com/wp-content/uploads/2023/10/image1.jpeg
END:VEVENT
BEGIN:VEVENT
DTSTART;TZID=America/New_York:20251002T120000
DTEND;TZID=America/New_York:20251002T210000
DTSTAMP:20260422T185039
CREATED:20231018T223928Z
LAST-MODIFIED:20231018T223928Z
UID:8323-1759406400-1759438800@winetherapynmb.com
SUMMARY:Self Service Wine Tasting All Day Every Day
DESCRIPTION:Self Service Wine Tasting All Day Every Day \nNo Reservations Needed \nWalk In and have create your own Custom Wine Tasting \nCheers \n843-712-5209 \nClosed on Mondays \n—
URL:https://winetherapynmb.com/event/wine-tasting-all-day-every-day-4/2025-10-02/
LOCATION:Wine Therapy of North Myrtle Beach\, 315 Main St.\, North Myrtle Beach\, SC\, 29582\, United States
CATEGORIES:Wine Tasting
ATTACH;FMTTYPE=image/jpeg:https://winetherapynmb.com/wp-content/uploads/2023/10/image1.jpeg
END:VEVENT
BEGIN:VEVENT
DTSTART;TZID=America/New_York:20251001T120000
DTEND;TZID=America/New_York:20251001T210000
DTSTAMP:20260422T185039
CREATED:20231018T223928Z
LAST-MODIFIED:20231018T223928Z
UID:8322-1759320000-1759352400@winetherapynmb.com
SUMMARY:Self Service Wine Tasting All Day Every Day
DESCRIPTION:Self Service Wine Tasting All Day Every Day \nNo Reservations Needed \nWalk In and have create your own Custom Wine Tasting \nCheers \n843-712-5209 \nClosed on Mondays \n—
URL:https://winetherapynmb.com/event/wine-tasting-all-day-every-day-4/2025-10-01/
LOCATION:Wine Therapy of North Myrtle Beach\, 315 Main St.\, North Myrtle Beach\, SC\, 29582\, United States
CATEGORIES:Wine Tasting
ATTACH;FMTTYPE=image/jpeg:https://winetherapynmb.com/wp-content/uploads/2023/10/image1.jpeg
END:VEVENT
BEGIN:VEVENT
DTSTART;TZID=America/New_York:20250930T120000
DTEND;TZID=America/New_York:20250930T210000
DTSTAMP:20260422T185039
CREATED:20231018T223928Z
LAST-MODIFIED:20231018T223928Z
UID:8321-1759233600-1759266000@winetherapynmb.com
SUMMARY:Self Service Wine Tasting All Day Every Day
DESCRIPTION:Self Service Wine Tasting All Day Every Day \nNo Reservations Needed \nWalk In and have create your own Custom Wine Tasting \nCheers \n843-712-5209 \nClosed on Mondays \n—
URL:https://winetherapynmb.com/event/wine-tasting-all-day-every-day-4/2025-09-30/
LOCATION:Wine Therapy of North Myrtle Beach\, 315 Main St.\, North Myrtle Beach\, SC\, 29582\, United States
CATEGORIES:Wine Tasting
ATTACH;FMTTYPE=image/jpeg:https://winetherapynmb.com/wp-content/uploads/2023/10/image1.jpeg
END:VEVENT
BEGIN:VEVENT
DTSTART;TZID=America/New_York:20250928T130000
DTEND;TZID=America/New_York:20250928T210000
DTSTAMP:20260422T185039
CREATED:20250823T151949Z
LAST-MODIFIED:20250823T151949Z
UID:8942-1759064400-1759093200@winetherapynmb.com
SUMMARY:Sunday Funday NFL Football
DESCRIPTION:Come out and see your favorite NFL Game on Sunday \n 
URL:https://winetherapynmb.com/event/sunday-funday-nfl-football/2025-09-28/
LOCATION:Wine Therapy of North Myrtle Beach\, 315 Main St.\, North Myrtle Beach\, SC\, 29582\, United States
ATTACH;FMTTYPE=image/jpeg:https://winetherapynmb.com/wp-content/uploads/2025/08/game-day.jpg
END:VEVENT
BEGIN:VEVENT
DTSTART;TZID=America/New_York:20250928T120000
DTEND;TZID=America/New_York:20250928T210000
DTSTAMP:20260422T185039
CREATED:20231018T223928Z
LAST-MODIFIED:20231018T223928Z
UID:8320-1759060800-1759093200@winetherapynmb.com
SUMMARY:Self Service Wine Tasting All Day Every Day
DESCRIPTION:Self Service Wine Tasting All Day Every Day \nNo Reservations Needed \nWalk In and have create your own Custom Wine Tasting \nCheers \n843-712-5209 \nClosed on Mondays \n—
URL:https://winetherapynmb.com/event/wine-tasting-all-day-every-day-4/2025-09-28/
LOCATION:Wine Therapy of North Myrtle Beach\, 315 Main St.\, North Myrtle Beach\, SC\, 29582\, United States
CATEGORIES:Wine Tasting
ATTACH;FMTTYPE=image/jpeg:https://winetherapynmb.com/wp-content/uploads/2023/10/image1.jpeg
END:VEVENT
BEGIN:VEVENT
DTSTART;VALUE=DATE:20250928
DTEND;VALUE=DATE:20250929
DTSTAMP:20260422T185039
CREATED:20250605T141850Z
LAST-MODIFIED:20250605T141850Z
UID:7883-1759017600-1759103999@winetherapynmb.com
SUMMARY:1/2 Price Self Service Wine Machine All Day
DESCRIPTION:Every 4 weeks on Sunday we offer all 32 wines in the self-service wine stations at 50% off until sold out.  Join us from 12pm until all sold out every 4 weeks for a great value and lots of fun.  Come early\, bring your friends and stay until sold out.
URL:https://winetherapynmb.com/event/1-2-price-self-service-wine-machine-all-day-2/2025-09-28/
LOCATION:Wine Therapy of North Myrtle Beach\, 315 Main St.\, North Myrtle Beach\, SC\, 29582\, United States
CATEGORIES:Wine Tasting
ATTACH;FMTTYPE=image/jpeg:https://winetherapynmb.com/wp-content/uploads/2025/06/image0-1.jpeg
END:VEVENT
BEGIN:VEVENT
DTSTART;TZID=America/New_York:20250927T120000
DTEND;TZID=America/New_York:20250927T210000
DTSTAMP:20260422T185039
CREATED:20231018T223928Z
LAST-MODIFIED:20231018T223928Z
UID:8319-1758974400-1759006800@winetherapynmb.com
SUMMARY:Self Service Wine Tasting All Day Every Day
DESCRIPTION:Self Service Wine Tasting All Day Every Day \nNo Reservations Needed \nWalk In and have create your own Custom Wine Tasting \nCheers \n843-712-5209 \nClosed on Mondays \n—
URL:https://winetherapynmb.com/event/wine-tasting-all-day-every-day-4/2025-09-27/
LOCATION:Wine Therapy of North Myrtle Beach\, 315 Main St.\, North Myrtle Beach\, SC\, 29582\, United States
CATEGORIES:Wine Tasting
ATTACH;FMTTYPE=image/jpeg:https://winetherapynmb.com/wp-content/uploads/2023/10/image1.jpeg
END:VEVENT
BEGIN:VEVENT
DTSTART;TZID=America/New_York:20250926T120000
DTEND;TZID=America/New_York:20250926T210000
DTSTAMP:20260422T185039
CREATED:20231018T223928Z
LAST-MODIFIED:20231018T223928Z
UID:8318-1758888000-1758920400@winetherapynmb.com
SUMMARY:Self Service Wine Tasting All Day Every Day
DESCRIPTION:Self Service Wine Tasting All Day Every Day \nNo Reservations Needed \nWalk In and have create your own Custom Wine Tasting \nCheers \n843-712-5209 \nClosed on Mondays \n—
URL:https://winetherapynmb.com/event/wine-tasting-all-day-every-day-4/2025-09-26/
LOCATION:Wine Therapy of North Myrtle Beach\, 315 Main St.\, North Myrtle Beach\, SC\, 29582\, United States
CATEGORIES:Wine Tasting
ATTACH;FMTTYPE=image/jpeg:https://winetherapynmb.com/wp-content/uploads/2023/10/image1.jpeg
END:VEVENT
BEGIN:VEVENT
DTSTART;TZID=America/New_York:20250925T120000
DTEND;TZID=America/New_York:20250925T210000
DTSTAMP:20260422T185039
CREATED:20231018T223928Z
LAST-MODIFIED:20231018T223928Z
UID:8317-1758801600-1758834000@winetherapynmb.com
SUMMARY:Self Service Wine Tasting All Day Every Day
DESCRIPTION:Self Service Wine Tasting All Day Every Day \nNo Reservations Needed \nWalk In and have create your own Custom Wine Tasting \nCheers \n843-712-5209 \nClosed on Mondays \n—
URL:https://winetherapynmb.com/event/wine-tasting-all-day-every-day-4/2025-09-25/
LOCATION:Wine Therapy of North Myrtle Beach\, 315 Main St.\, North Myrtle Beach\, SC\, 29582\, United States
CATEGORIES:Wine Tasting
ATTACH;FMTTYPE=image/jpeg:https://winetherapynmb.com/wp-content/uploads/2023/10/image1.jpeg
END:VEVENT
BEGIN:VEVENT
DTSTART;TZID=America/New_York:20250924T120000
DTEND;TZID=America/New_York:20250924T210000
DTSTAMP:20260422T185039
CREATED:20231018T223928Z
LAST-MODIFIED:20231018T223928Z
UID:8316-1758715200-1758747600@winetherapynmb.com
SUMMARY:Self Service Wine Tasting All Day Every Day
DESCRIPTION:Self Service Wine Tasting All Day Every Day \nNo Reservations Needed \nWalk In and have create your own Custom Wine Tasting \nCheers \n843-712-5209 \nClosed on Mondays \n—
URL:https://winetherapynmb.com/event/wine-tasting-all-day-every-day-4/2025-09-24/
LOCATION:Wine Therapy of North Myrtle Beach\, 315 Main St.\, North Myrtle Beach\, SC\, 29582\, United States
CATEGORIES:Wine Tasting
ATTACH;FMTTYPE=image/jpeg:https://winetherapynmb.com/wp-content/uploads/2023/10/image1.jpeg
END:VEVENT
BEGIN:VEVENT
DTSTART;TZID=America/New_York:20250923T120000
DTEND;TZID=America/New_York:20250923T210000
DTSTAMP:20260422T185039
CREATED:20231018T223928Z
LAST-MODIFIED:20231018T223928Z
UID:8315-1758628800-1758661200@winetherapynmb.com
SUMMARY:Self Service Wine Tasting All Day Every Day
DESCRIPTION:Self Service Wine Tasting All Day Every Day \nNo Reservations Needed \nWalk In and have create your own Custom Wine Tasting \nCheers \n843-712-5209 \nClosed on Mondays \n—
URL:https://winetherapynmb.com/event/wine-tasting-all-day-every-day-4/2025-09-23/
LOCATION:Wine Therapy of North Myrtle Beach\, 315 Main St.\, North Myrtle Beach\, SC\, 29582\, United States
CATEGORIES:Wine Tasting
ATTACH;FMTTYPE=image/jpeg:https://winetherapynmb.com/wp-content/uploads/2023/10/image1.jpeg
END:VEVENT
BEGIN:VEVENT
DTSTART;TZID=America/New_York:20250921T130000
DTEND;TZID=America/New_York:20250921T210000
DTSTAMP:20260422T185039
CREATED:20250823T151949Z
LAST-MODIFIED:20250823T151949Z
UID:8941-1758459600-1758488400@winetherapynmb.com
SUMMARY:Sunday Funday NFL Football
DESCRIPTION:Come out and see your favorite NFL Game on Sunday \n 
URL:https://winetherapynmb.com/event/sunday-funday-nfl-football/2025-09-21/
LOCATION:Wine Therapy of North Myrtle Beach\, 315 Main St.\, North Myrtle Beach\, SC\, 29582\, United States
ATTACH;FMTTYPE=image/jpeg:https://winetherapynmb.com/wp-content/uploads/2025/08/game-day.jpg
END:VEVENT
BEGIN:VEVENT
DTSTART;TZID=America/New_York:20250921T120000
DTEND;TZID=America/New_York:20250921T210000
DTSTAMP:20260422T185039
CREATED:20231018T223928Z
LAST-MODIFIED:20231018T223928Z
UID:8314-1758456000-1758488400@winetherapynmb.com
SUMMARY:Self Service Wine Tasting All Day Every Day
DESCRIPTION:Self Service Wine Tasting All Day Every Day \nNo Reservations Needed \nWalk In and have create your own Custom Wine Tasting \nCheers \n843-712-5209 \nClosed on Mondays \n—
URL:https://winetherapynmb.com/event/wine-tasting-all-day-every-day-4/2025-09-21/
LOCATION:Wine Therapy of North Myrtle Beach\, 315 Main St.\, North Myrtle Beach\, SC\, 29582\, United States
CATEGORIES:Wine Tasting
ATTACH;FMTTYPE=image/jpeg:https://winetherapynmb.com/wp-content/uploads/2023/10/image1.jpeg
END:VEVENT
BEGIN:VEVENT
DTSTART;TZID=America/New_York:20250920T120000
DTEND;TZID=America/New_York:20250920T210000
DTSTAMP:20260422T185039
CREATED:20231018T223928Z
LAST-MODIFIED:20231018T223928Z
UID:8313-1758369600-1758402000@winetherapynmb.com
SUMMARY:Self Service Wine Tasting All Day Every Day
DESCRIPTION:Self Service Wine Tasting All Day Every Day \nNo Reservations Needed \nWalk In and have create your own Custom Wine Tasting \nCheers \n843-712-5209 \nClosed on Mondays \n—
URL:https://winetherapynmb.com/event/wine-tasting-all-day-every-day-4/2025-09-20/
LOCATION:Wine Therapy of North Myrtle Beach\, 315 Main St.\, North Myrtle Beach\, SC\, 29582\, United States
CATEGORIES:Wine Tasting
ATTACH;FMTTYPE=image/jpeg:https://winetherapynmb.com/wp-content/uploads/2023/10/image1.jpeg
END:VEVENT
BEGIN:VEVENT
DTSTART;TZID=America/New_York:20250919T120000
DTEND;TZID=America/New_York:20250919T210000
DTSTAMP:20260422T185039
CREATED:20231018T223928Z
LAST-MODIFIED:20231018T223928Z
UID:8312-1758283200-1758315600@winetherapynmb.com
SUMMARY:Self Service Wine Tasting All Day Every Day
DESCRIPTION:Self Service Wine Tasting All Day Every Day \nNo Reservations Needed \nWalk In and have create your own Custom Wine Tasting \nCheers \n843-712-5209 \nClosed on Mondays \n—
URL:https://winetherapynmb.com/event/wine-tasting-all-day-every-day-4/2025-09-19/
LOCATION:Wine Therapy of North Myrtle Beach\, 315 Main St.\, North Myrtle Beach\, SC\, 29582\, United States
CATEGORIES:Wine Tasting
ATTACH;FMTTYPE=image/jpeg:https://winetherapynmb.com/wp-content/uploads/2023/10/image1.jpeg
END:VEVENT
BEGIN:VEVENT
DTSTART;TZID=America/New_York:20250918T120000
DTEND;TZID=America/New_York:20250918T210000
DTSTAMP:20260422T185039
CREATED:20231018T223928Z
LAST-MODIFIED:20231018T223928Z
UID:8311-1758196800-1758229200@winetherapynmb.com
SUMMARY:Self Service Wine Tasting All Day Every Day
DESCRIPTION:Self Service Wine Tasting All Day Every Day \nNo Reservations Needed \nWalk In and have create your own Custom Wine Tasting \nCheers \n843-712-5209 \nClosed on Mondays \n—
URL:https://winetherapynmb.com/event/wine-tasting-all-day-every-day-4/2025-09-18/
LOCATION:Wine Therapy of North Myrtle Beach\, 315 Main St.\, North Myrtle Beach\, SC\, 29582\, United States
CATEGORIES:Wine Tasting
ATTACH;FMTTYPE=image/jpeg:https://winetherapynmb.com/wp-content/uploads/2023/10/image1.jpeg
END:VEVENT
BEGIN:VEVENT
DTSTART;TZID=America/New_York:20250917T120000
DTEND;TZID=America/New_York:20250917T210000
DTSTAMP:20260422T185039
CREATED:20231018T223928Z
LAST-MODIFIED:20231018T223928Z
UID:8310-1758110400-1758142800@winetherapynmb.com
SUMMARY:Self Service Wine Tasting All Day Every Day
DESCRIPTION:Self Service Wine Tasting All Day Every Day \nNo Reservations Needed \nWalk In and have create your own Custom Wine Tasting \nCheers \n843-712-5209 \nClosed on Mondays \n—
URL:https://winetherapynmb.com/event/wine-tasting-all-day-every-day-4/2025-09-17/
LOCATION:Wine Therapy of North Myrtle Beach\, 315 Main St.\, North Myrtle Beach\, SC\, 29582\, United States
CATEGORIES:Wine Tasting
ATTACH;FMTTYPE=image/jpeg:https://winetherapynmb.com/wp-content/uploads/2023/10/image1.jpeg
END:VEVENT
BEGIN:VEVENT
DTSTART;TZID=America/New_York:20250916T120000
DTEND;TZID=America/New_York:20250916T210000
DTSTAMP:20260422T185039
CREATED:20231018T223928Z
LAST-MODIFIED:20231018T223928Z
UID:8309-1758024000-1758056400@winetherapynmb.com
SUMMARY:Self Service Wine Tasting All Day Every Day
DESCRIPTION:Self Service Wine Tasting All Day Every Day \nNo Reservations Needed \nWalk In and have create your own Custom Wine Tasting \nCheers \n843-712-5209 \nClosed on Mondays \n—
URL:https://winetherapynmb.com/event/wine-tasting-all-day-every-day-4/2025-09-16/
LOCATION:Wine Therapy of North Myrtle Beach\, 315 Main St.\, North Myrtle Beach\, SC\, 29582\, United States
CATEGORIES:Wine Tasting
ATTACH;FMTTYPE=image/jpeg:https://winetherapynmb.com/wp-content/uploads/2023/10/image1.jpeg
END:VEVENT
BEGIN:VEVENT
DTSTART;TZID=America/New_York:20250914T130000
DTEND;TZID=America/New_York:20250914T210000
DTSTAMP:20260422T185039
CREATED:20250823T151949Z
LAST-MODIFIED:20250823T151949Z
UID:8940-1757854800-1757883600@winetherapynmb.com
SUMMARY:Sunday Funday NFL Football
DESCRIPTION:Come out and see your favorite NFL Game on Sunday \n 
URL:https://winetherapynmb.com/event/sunday-funday-nfl-football/2025-09-14/
LOCATION:Wine Therapy of North Myrtle Beach\, 315 Main St.\, North Myrtle Beach\, SC\, 29582\, United States
ATTACH;FMTTYPE=image/jpeg:https://winetherapynmb.com/wp-content/uploads/2025/08/game-day.jpg
END:VEVENT
BEGIN:VEVENT
DTSTART;TZID=America/New_York:20250914T120000
DTEND;TZID=America/New_York:20250914T210000
DTSTAMP:20260422T185039
CREATED:20231018T223928Z
LAST-MODIFIED:20231018T223928Z
UID:8308-1757851200-1757883600@winetherapynmb.com
SUMMARY:Self Service Wine Tasting All Day Every Day
DESCRIPTION:Self Service Wine Tasting All Day Every Day \nNo Reservations Needed \nWalk In and have create your own Custom Wine Tasting \nCheers \n843-712-5209 \nClosed on Mondays \n—
URL:https://winetherapynmb.com/event/wine-tasting-all-day-every-day-4/2025-09-14/
LOCATION:Wine Therapy of North Myrtle Beach\, 315 Main St.\, North Myrtle Beach\, SC\, 29582\, United States
CATEGORIES:Wine Tasting
ATTACH;FMTTYPE=image/jpeg:https://winetherapynmb.com/wp-content/uploads/2023/10/image1.jpeg
END:VEVENT
BEGIN:VEVENT
DTSTART;TZID=America/New_York:20250913T120000
DTEND;TZID=America/New_York:20250913T210000
DTSTAMP:20260422T185039
CREATED:20231018T223928Z
LAST-MODIFIED:20231018T223928Z
UID:8307-1757764800-1757797200@winetherapynmb.com
SUMMARY:Self Service Wine Tasting All Day Every Day
DESCRIPTION:Self Service Wine Tasting All Day Every Day \nNo Reservations Needed \nWalk In and have create your own Custom Wine Tasting \nCheers \n843-712-5209 \nClosed on Mondays \n—
URL:https://winetherapynmb.com/event/wine-tasting-all-day-every-day-4/2025-09-13/
LOCATION:Wine Therapy of North Myrtle Beach\, 315 Main St.\, North Myrtle Beach\, SC\, 29582\, United States
CATEGORIES:Wine Tasting
ATTACH;FMTTYPE=image/jpeg:https://winetherapynmb.com/wp-content/uploads/2023/10/image1.jpeg
END:VEVENT
BEGIN:VEVENT
DTSTART;TZID=America/New_York:20250912T120000
DTEND;TZID=America/New_York:20250912T210000
DTSTAMP:20260422T185039
CREATED:20231018T223928Z
LAST-MODIFIED:20231018T223928Z
UID:8306-1757678400-1757710800@winetherapynmb.com
SUMMARY:Self Service Wine Tasting All Day Every Day
DESCRIPTION:Self Service Wine Tasting All Day Every Day \nNo Reservations Needed \nWalk In and have create your own Custom Wine Tasting \nCheers \n843-712-5209 \nClosed on Mondays \n—
URL:https://winetherapynmb.com/event/wine-tasting-all-day-every-day-4/2025-09-12/
LOCATION:Wine Therapy of North Myrtle Beach\, 315 Main St.\, North Myrtle Beach\, SC\, 29582\, United States
CATEGORIES:Wine Tasting
ATTACH;FMTTYPE=image/jpeg:https://winetherapynmb.com/wp-content/uploads/2023/10/image1.jpeg
END:VEVENT
BEGIN:VEVENT
DTSTART;TZID=America/New_York:20250911T120000
DTEND;TZID=America/New_York:20250911T210000
DTSTAMP:20260422T185039
CREATED:20231018T223928Z
LAST-MODIFIED:20231018T223928Z
UID:8305-1757592000-1757624400@winetherapynmb.com
SUMMARY:Self Service Wine Tasting All Day Every Day
DESCRIPTION:Self Service Wine Tasting All Day Every Day \nNo Reservations Needed \nWalk In and have create your own Custom Wine Tasting \nCheers \n843-712-5209 \nClosed on Mondays \n—
URL:https://winetherapynmb.com/event/wine-tasting-all-day-every-day-4/2025-09-11/
LOCATION:Wine Therapy of North Myrtle Beach\, 315 Main St.\, North Myrtle Beach\, SC\, 29582\, United States
CATEGORIES:Wine Tasting
ATTACH;FMTTYPE=image/jpeg:https://winetherapynmb.com/wp-content/uploads/2023/10/image1.jpeg
END:VEVENT
BEGIN:VEVENT
DTSTART;TZID=America/New_York:20250910T120000
DTEND;TZID=America/New_York:20250910T210000
DTSTAMP:20260422T185039
CREATED:20231018T223928Z
LAST-MODIFIED:20231018T223928Z
UID:8304-1757505600-1757538000@winetherapynmb.com
SUMMARY:Self Service Wine Tasting All Day Every Day
DESCRIPTION:Self Service Wine Tasting All Day Every Day \nNo Reservations Needed \nWalk In and have create your own Custom Wine Tasting \nCheers \n843-712-5209 \nClosed on Mondays \n—
URL:https://winetherapynmb.com/event/wine-tasting-all-day-every-day-4/2025-09-10/
LOCATION:Wine Therapy of North Myrtle Beach\, 315 Main St.\, North Myrtle Beach\, SC\, 29582\, United States
CATEGORIES:Wine Tasting
ATTACH;FMTTYPE=image/jpeg:https://winetherapynmb.com/wp-content/uploads/2023/10/image1.jpeg
END:VEVENT
BEGIN:VEVENT
DTSTART;TZID=America/New_York:20250909T120000
DTEND;TZID=America/New_York:20250909T210000
DTSTAMP:20260422T185039
CREATED:20231018T223928Z
LAST-MODIFIED:20231018T223928Z
UID:8303-1757419200-1757451600@winetherapynmb.com
SUMMARY:Self Service Wine Tasting All Day Every Day
DESCRIPTION:Self Service Wine Tasting All Day Every Day \nNo Reservations Needed \nWalk In and have create your own Custom Wine Tasting \nCheers \n843-712-5209 \nClosed on Mondays \n—
URL:https://winetherapynmb.com/event/wine-tasting-all-day-every-day-4/2025-09-09/
LOCATION:Wine Therapy of North Myrtle Beach\, 315 Main St.\, North Myrtle Beach\, SC\, 29582\, United States
CATEGORIES:Wine Tasting
ATTACH;FMTTYPE=image/jpeg:https://winetherapynmb.com/wp-content/uploads/2023/10/image1.jpeg
END:VEVENT
BEGIN:VEVENT
DTSTART;TZID=America/New_York:20250907T130000
DTEND;TZID=America/New_York:20250907T210000
DTSTAMP:20260422T185039
CREATED:20250823T151949Z
LAST-MODIFIED:20250823T151949Z
UID:8937-1757250000-1757278800@winetherapynmb.com
SUMMARY:Sunday Funday NFL Football
DESCRIPTION:Come out and see your favorite NFL Game on Sunday \n 
URL:https://winetherapynmb.com/event/sunday-funday-nfl-football/2025-09-07/
LOCATION:Wine Therapy of North Myrtle Beach\, 315 Main St.\, North Myrtle Beach\, SC\, 29582\, United States
ATTACH;FMTTYPE=image/jpeg:https://winetherapynmb.com/wp-content/uploads/2025/08/game-day.jpg
END:VEVENT
BEGIN:VEVENT
DTSTART;TZID=America/New_York:20250907T120000
DTEND;TZID=America/New_York:20250907T210000
DTSTAMP:20260422T185039
CREATED:20231018T223928Z
LAST-MODIFIED:20231018T223928Z
UID:8302-1757246400-1757278800@winetherapynmb.com
SUMMARY:Self Service Wine Tasting All Day Every Day
DESCRIPTION:Self Service Wine Tasting All Day Every Day \nNo Reservations Needed \nWalk In and have create your own Custom Wine Tasting \nCheers \n843-712-5209 \nClosed on Mondays \n—
URL:https://winetherapynmb.com/event/wine-tasting-all-day-every-day-4/2025-09-07/
LOCATION:Wine Therapy of North Myrtle Beach\, 315 Main St.\, North Myrtle Beach\, SC\, 29582\, United States
CATEGORIES:Wine Tasting
ATTACH;FMTTYPE=image/jpeg:https://winetherapynmb.com/wp-content/uploads/2023/10/image1.jpeg
END:VEVENT
BEGIN:VEVENT
DTSTART;TZID=America/New_York:20250906T120000
DTEND;TZID=America/New_York:20250906T210000
DTSTAMP:20260422T185039
CREATED:20231018T223928Z
LAST-MODIFIED:20231018T223928Z
UID:8301-1757160000-1757192400@winetherapynmb.com
SUMMARY:Self Service Wine Tasting All Day Every Day
DESCRIPTION:Self Service Wine Tasting All Day Every Day \nNo Reservations Needed \nWalk In and have create your own Custom Wine Tasting \nCheers \n843-712-5209 \nClosed on Mondays \n—
URL:https://winetherapynmb.com/event/wine-tasting-all-day-every-day-4/2025-09-06/
LOCATION:Wine Therapy of North Myrtle Beach\, 315 Main St.\, North Myrtle Beach\, SC\, 29582\, United States
CATEGORIES:Wine Tasting
ATTACH;FMTTYPE=image/jpeg:https://winetherapynmb.com/wp-content/uploads/2023/10/image1.jpeg
END:VEVENT
BEGIN:VEVENT
DTSTART;TZID=America/New_York:20250905T120000
DTEND;TZID=America/New_York:20250905T210000
DTSTAMP:20260422T185039
CREATED:20231018T223928Z
LAST-MODIFIED:20231018T223928Z
UID:8300-1757073600-1757106000@winetherapynmb.com
SUMMARY:Self Service Wine Tasting All Day Every Day
DESCRIPTION:Self Service Wine Tasting All Day Every Day \nNo Reservations Needed \nWalk In and have create your own Custom Wine Tasting \nCheers \n843-712-5209 \nClosed on Mondays \n—
URL:https://winetherapynmb.com/event/wine-tasting-all-day-every-day-4/2025-09-05/
LOCATION:Wine Therapy of North Myrtle Beach\, 315 Main St.\, North Myrtle Beach\, SC\, 29582\, United States
CATEGORIES:Wine Tasting
ATTACH;FMTTYPE=image/jpeg:https://winetherapynmb.com/wp-content/uploads/2023/10/image1.jpeg
END:VEVENT
END:VCALENDAR