BEGIN:VCALENDAR
VERSION:2.0
PRODID:-//Wine Therapy of North Myrtle Beach - ECPv6.15.20//NONSGML v1.0//EN
CALSCALE:GREGORIAN
METHOD:PUBLISH
X-WR-CALNAME:Wine Therapy of North Myrtle Beach
X-ORIGINAL-URL:https://winetherapynmb.com
X-WR-CALDESC:Events for Wine Therapy of North Myrtle Beach
REFRESH-INTERVAL;VALUE=DURATION:PT1H
X-Robots-Tag:noindex
X-PUBLISHED-TTL:PT1H
BEGIN:VTIMEZONE
TZID:America/New_York
BEGIN:DAYLIGHT
TZOFFSETFROM:-0500
TZOFFSETTO:-0400
TZNAME:EDT
DTSTART:20250309T070000
END:DAYLIGHT
BEGIN:STANDARD
TZOFFSETFROM:-0400
TZOFFSETTO:-0500
TZNAME:EST
DTSTART:20251102T060000
END:STANDARD
BEGIN:DAYLIGHT
TZOFFSETFROM:-0500
TZOFFSETTO:-0400
TZNAME:EDT
DTSTART:20260308T070000
END:DAYLIGHT
BEGIN:STANDARD
TZOFFSETFROM:-0400
TZOFFSETTO:-0500
TZNAME:EST
DTSTART:20261101T060000
END:STANDARD
BEGIN:DAYLIGHT
TZOFFSETFROM:-0500
TZOFFSETTO:-0400
TZNAME:EDT
DTSTART:20270314T070000
END:DAYLIGHT
BEGIN:STANDARD
TZOFFSETFROM:-0400
TZOFFSETTO:-0500
TZNAME:EST
DTSTART:20271107T060000
END:STANDARD
END:VTIMEZONE
BEGIN:VEVENT
DTSTART;TZID=America/New_York:20260913T120000
DTEND;TZID=America/New_York:20260913T210000
DTSTAMP:20260423T070554
CREATED:20231018T223928Z
LAST-MODIFIED:20231018T223928Z
UID:8620-1789300800-1789333200@winetherapynmb.com
SUMMARY:Self Service Wine Tasting All Day Every Day
DESCRIPTION:Self Service Wine Tasting All Day Every Day \nNo Reservations Needed \nWalk In and have create your own Custom Wine Tasting \nCheers \n843-712-5209 \nClosed on Mondays \n—
URL:https://winetherapynmb.com/event/wine-tasting-all-day-every-day-4/2026-09-13/
LOCATION:Wine Therapy of North Myrtle Beach\, 315 Main St.\, North Myrtle Beach\, SC\, 29582\, United States
CATEGORIES:Wine Tasting
ATTACH;FMTTYPE=image/jpeg:https://winetherapynmb.com/wp-content/uploads/2023/10/image1.jpeg
END:VEVENT
BEGIN:VEVENT
DTSTART;TZID=America/New_York:20260912T120000
DTEND;TZID=America/New_York:20260912T210000
DTSTAMP:20260423T070554
CREATED:20231018T223928Z
LAST-MODIFIED:20231018T223928Z
UID:8619-1789214400-1789246800@winetherapynmb.com
SUMMARY:Self Service Wine Tasting All Day Every Day
DESCRIPTION:Self Service Wine Tasting All Day Every Day \nNo Reservations Needed \nWalk In and have create your own Custom Wine Tasting \nCheers \n843-712-5209 \nClosed on Mondays \n—
URL:https://winetherapynmb.com/event/wine-tasting-all-day-every-day-4/2026-09-12/
LOCATION:Wine Therapy of North Myrtle Beach\, 315 Main St.\, North Myrtle Beach\, SC\, 29582\, United States
CATEGORIES:Wine Tasting
ATTACH;FMTTYPE=image/jpeg:https://winetherapynmb.com/wp-content/uploads/2023/10/image1.jpeg
END:VEVENT
BEGIN:VEVENT
DTSTART;TZID=America/New_York:20260911T120000
DTEND;TZID=America/New_York:20260911T210000
DTSTAMP:20260423T070554
CREATED:20231018T223928Z
LAST-MODIFIED:20231018T223928Z
UID:8618-1789128000-1789160400@winetherapynmb.com
SUMMARY:Self Service Wine Tasting All Day Every Day
DESCRIPTION:Self Service Wine Tasting All Day Every Day \nNo Reservations Needed \nWalk In and have create your own Custom Wine Tasting \nCheers \n843-712-5209 \nClosed on Mondays \n—
URL:https://winetherapynmb.com/event/wine-tasting-all-day-every-day-4/2026-09-11/
LOCATION:Wine Therapy of North Myrtle Beach\, 315 Main St.\, North Myrtle Beach\, SC\, 29582\, United States
CATEGORIES:Wine Tasting
ATTACH;FMTTYPE=image/jpeg:https://winetherapynmb.com/wp-content/uploads/2023/10/image1.jpeg
END:VEVENT
BEGIN:VEVENT
DTSTART;TZID=America/New_York:20260910T120000
DTEND;TZID=America/New_York:20260910T210000
DTSTAMP:20260423T070554
CREATED:20231018T223928Z
LAST-MODIFIED:20231018T223928Z
UID:8617-1789041600-1789074000@winetherapynmb.com
SUMMARY:Self Service Wine Tasting All Day Every Day
DESCRIPTION:Self Service Wine Tasting All Day Every Day \nNo Reservations Needed \nWalk In and have create your own Custom Wine Tasting \nCheers \n843-712-5209 \nClosed on Mondays \n—
URL:https://winetherapynmb.com/event/wine-tasting-all-day-every-day-4/2026-09-10/
LOCATION:Wine Therapy of North Myrtle Beach\, 315 Main St.\, North Myrtle Beach\, SC\, 29582\, United States
CATEGORIES:Wine Tasting
ATTACH;FMTTYPE=image/jpeg:https://winetherapynmb.com/wp-content/uploads/2023/10/image1.jpeg
END:VEVENT
BEGIN:VEVENT
DTSTART;TZID=America/New_York:20260909T120000
DTEND;TZID=America/New_York:20260909T210000
DTSTAMP:20260423T070554
CREATED:20231018T223928Z
LAST-MODIFIED:20231018T223928Z
UID:8616-1788955200-1788987600@winetherapynmb.com
SUMMARY:Self Service Wine Tasting All Day Every Day
DESCRIPTION:Self Service Wine Tasting All Day Every Day \nNo Reservations Needed \nWalk In and have create your own Custom Wine Tasting \nCheers \n843-712-5209 \nClosed on Mondays \n—
URL:https://winetherapynmb.com/event/wine-tasting-all-day-every-day-4/2026-09-09/
LOCATION:Wine Therapy of North Myrtle Beach\, 315 Main St.\, North Myrtle Beach\, SC\, 29582\, United States
CATEGORIES:Wine Tasting
ATTACH;FMTTYPE=image/jpeg:https://winetherapynmb.com/wp-content/uploads/2023/10/image1.jpeg
END:VEVENT
BEGIN:VEVENT
DTSTART;TZID=America/New_York:20260908T120000
DTEND;TZID=America/New_York:20260908T210000
DTSTAMP:20260423T070554
CREATED:20231018T223928Z
LAST-MODIFIED:20231018T223928Z
UID:8615-1788868800-1788901200@winetherapynmb.com
SUMMARY:Self Service Wine Tasting All Day Every Day
DESCRIPTION:Self Service Wine Tasting All Day Every Day \nNo Reservations Needed \nWalk In and have create your own Custom Wine Tasting \nCheers \n843-712-5209 \nClosed on Mondays \n—
URL:https://winetherapynmb.com/event/wine-tasting-all-day-every-day-4/2026-09-08/
LOCATION:Wine Therapy of North Myrtle Beach\, 315 Main St.\, North Myrtle Beach\, SC\, 29582\, United States
CATEGORIES:Wine Tasting
ATTACH;FMTTYPE=image/jpeg:https://winetherapynmb.com/wp-content/uploads/2023/10/image1.jpeg
END:VEVENT
BEGIN:VEVENT
DTSTART;TZID=America/New_York:20260906T120000
DTEND;TZID=America/New_York:20260906T210000
DTSTAMP:20260423T070554
CREATED:20231018T223928Z
LAST-MODIFIED:20231018T223928Z
UID:8614-1788696000-1788728400@winetherapynmb.com
SUMMARY:Self Service Wine Tasting All Day Every Day
DESCRIPTION:Self Service Wine Tasting All Day Every Day \nNo Reservations Needed \nWalk In and have create your own Custom Wine Tasting \nCheers \n843-712-5209 \nClosed on Mondays \n—
URL:https://winetherapynmb.com/event/wine-tasting-all-day-every-day-4/2026-09-06/
LOCATION:Wine Therapy of North Myrtle Beach\, 315 Main St.\, North Myrtle Beach\, SC\, 29582\, United States
CATEGORIES:Wine Tasting
ATTACH;FMTTYPE=image/jpeg:https://winetherapynmb.com/wp-content/uploads/2023/10/image1.jpeg
END:VEVENT
BEGIN:VEVENT
DTSTART;TZID=America/New_York:20260905T120000
DTEND;TZID=America/New_York:20260905T210000
DTSTAMP:20260423T070554
CREATED:20231018T223928Z
LAST-MODIFIED:20231018T223928Z
UID:8613-1788609600-1788642000@winetherapynmb.com
SUMMARY:Self Service Wine Tasting All Day Every Day
DESCRIPTION:Self Service Wine Tasting All Day Every Day \nNo Reservations Needed \nWalk In and have create your own Custom Wine Tasting \nCheers \n843-712-5209 \nClosed on Mondays \n—
URL:https://winetherapynmb.com/event/wine-tasting-all-day-every-day-4/2026-09-05/
LOCATION:Wine Therapy of North Myrtle Beach\, 315 Main St.\, North Myrtle Beach\, SC\, 29582\, United States
CATEGORIES:Wine Tasting
ATTACH;FMTTYPE=image/jpeg:https://winetherapynmb.com/wp-content/uploads/2023/10/image1.jpeg
END:VEVENT
BEGIN:VEVENT
DTSTART;TZID=America/New_York:20260904T120000
DTEND;TZID=America/New_York:20260904T210000
DTSTAMP:20260423T070554
CREATED:20231018T223928Z
LAST-MODIFIED:20231018T223928Z
UID:8612-1788523200-1788555600@winetherapynmb.com
SUMMARY:Self Service Wine Tasting All Day Every Day
DESCRIPTION:Self Service Wine Tasting All Day Every Day \nNo Reservations Needed \nWalk In and have create your own Custom Wine Tasting \nCheers \n843-712-5209 \nClosed on Mondays \n—
URL:https://winetherapynmb.com/event/wine-tasting-all-day-every-day-4/2026-09-04/
LOCATION:Wine Therapy of North Myrtle Beach\, 315 Main St.\, North Myrtle Beach\, SC\, 29582\, United States
CATEGORIES:Wine Tasting
ATTACH;FMTTYPE=image/jpeg:https://winetherapynmb.com/wp-content/uploads/2023/10/image1.jpeg
END:VEVENT
BEGIN:VEVENT
DTSTART;TZID=America/New_York:20260903T120000
DTEND;TZID=America/New_York:20260903T210000
DTSTAMP:20260423T070554
CREATED:20231018T223928Z
LAST-MODIFIED:20231018T223928Z
UID:8611-1788436800-1788469200@winetherapynmb.com
SUMMARY:Self Service Wine Tasting All Day Every Day
DESCRIPTION:Self Service Wine Tasting All Day Every Day \nNo Reservations Needed \nWalk In and have create your own Custom Wine Tasting \nCheers \n843-712-5209 \nClosed on Mondays \n—
URL:https://winetherapynmb.com/event/wine-tasting-all-day-every-day-4/2026-09-03/
LOCATION:Wine Therapy of North Myrtle Beach\, 315 Main St.\, North Myrtle Beach\, SC\, 29582\, United States
CATEGORIES:Wine Tasting
ATTACH;FMTTYPE=image/jpeg:https://winetherapynmb.com/wp-content/uploads/2023/10/image1.jpeg
END:VEVENT
BEGIN:VEVENT
DTSTART;TZID=America/New_York:20260902T120000
DTEND;TZID=America/New_York:20260902T210000
DTSTAMP:20260423T070554
CREATED:20231018T223928Z
LAST-MODIFIED:20231018T223928Z
UID:8610-1788350400-1788382800@winetherapynmb.com
SUMMARY:Self Service Wine Tasting All Day Every Day
DESCRIPTION:Self Service Wine Tasting All Day Every Day \nNo Reservations Needed \nWalk In and have create your own Custom Wine Tasting \nCheers \n843-712-5209 \nClosed on Mondays \n—
URL:https://winetherapynmb.com/event/wine-tasting-all-day-every-day-4/2026-09-02/
LOCATION:Wine Therapy of North Myrtle Beach\, 315 Main St.\, North Myrtle Beach\, SC\, 29582\, United States
CATEGORIES:Wine Tasting
ATTACH;FMTTYPE=image/jpeg:https://winetherapynmb.com/wp-content/uploads/2023/10/image1.jpeg
END:VEVENT
BEGIN:VEVENT
DTSTART;TZID=America/New_York:20260901T120000
DTEND;TZID=America/New_York:20260901T210000
DTSTAMP:20260423T070554
CREATED:20231018T223928Z
LAST-MODIFIED:20231018T223928Z
UID:8609-1788264000-1788296400@winetherapynmb.com
SUMMARY:Self Service Wine Tasting All Day Every Day
DESCRIPTION:Self Service Wine Tasting All Day Every Day \nNo Reservations Needed \nWalk In and have create your own Custom Wine Tasting \nCheers \n843-712-5209 \nClosed on Mondays \n—
URL:https://winetherapynmb.com/event/wine-tasting-all-day-every-day-4/2026-09-01/
LOCATION:Wine Therapy of North Myrtle Beach\, 315 Main St.\, North Myrtle Beach\, SC\, 29582\, United States
CATEGORIES:Wine Tasting
ATTACH;FMTTYPE=image/jpeg:https://winetherapynmb.com/wp-content/uploads/2023/10/image1.jpeg
END:VEVENT
BEGIN:VEVENT
DTSTART;TZID=America/New_York:20260830T120000
DTEND;TZID=America/New_York:20260830T210000
DTSTAMP:20260423T070554
CREATED:20231018T223928Z
LAST-MODIFIED:20231018T223928Z
UID:8608-1788091200-1788123600@winetherapynmb.com
SUMMARY:Self Service Wine Tasting All Day Every Day
DESCRIPTION:Self Service Wine Tasting All Day Every Day \nNo Reservations Needed \nWalk In and have create your own Custom Wine Tasting \nCheers \n843-712-5209 \nClosed on Mondays \n—
URL:https://winetherapynmb.com/event/wine-tasting-all-day-every-day-4/2026-08-30/
LOCATION:Wine Therapy of North Myrtle Beach\, 315 Main St.\, North Myrtle Beach\, SC\, 29582\, United States
CATEGORIES:Wine Tasting
ATTACH;FMTTYPE=image/jpeg:https://winetherapynmb.com/wp-content/uploads/2023/10/image1.jpeg
END:VEVENT
BEGIN:VEVENT
DTSTART;VALUE=DATE:20260830
DTEND;VALUE=DATE:20260831
DTSTAMP:20260423T070554
CREATED:20250605T141850Z
LAST-MODIFIED:20250605T141850Z
UID:7896-1788048000-1788134399@winetherapynmb.com
SUMMARY:1/2 Price Self Service Wine Machine All Day
DESCRIPTION:Every 4 weeks on Sunday we offer all 32 wines in the self-service wine stations at 50% off until sold out.  Join us from 12pm until all sold out every 4 weeks for a great value and lots of fun.  Come early\, bring your friends and stay until sold out.
URL:https://winetherapynmb.com/event/1-2-price-self-service-wine-machine-all-day-2/2026-08-30/
LOCATION:Wine Therapy of North Myrtle Beach\, 315 Main St.\, North Myrtle Beach\, SC\, 29582\, United States
CATEGORIES:Wine Tasting
ATTACH;FMTTYPE=image/jpeg:https://winetherapynmb.com/wp-content/uploads/2025/06/image0-1.jpeg
END:VEVENT
BEGIN:VEVENT
DTSTART;TZID=America/New_York:20260829T120000
DTEND;TZID=America/New_York:20260829T210000
DTSTAMP:20260423T070554
CREATED:20231018T223928Z
LAST-MODIFIED:20231018T223928Z
UID:8607-1788004800-1788037200@winetherapynmb.com
SUMMARY:Self Service Wine Tasting All Day Every Day
DESCRIPTION:Self Service Wine Tasting All Day Every Day \nNo Reservations Needed \nWalk In and have create your own Custom Wine Tasting \nCheers \n843-712-5209 \nClosed on Mondays \n—
URL:https://winetherapynmb.com/event/wine-tasting-all-day-every-day-4/2026-08-29/
LOCATION:Wine Therapy of North Myrtle Beach\, 315 Main St.\, North Myrtle Beach\, SC\, 29582\, United States
CATEGORIES:Wine Tasting
ATTACH;FMTTYPE=image/jpeg:https://winetherapynmb.com/wp-content/uploads/2023/10/image1.jpeg
END:VEVENT
BEGIN:VEVENT
DTSTART;TZID=America/New_York:20260828T120000
DTEND;TZID=America/New_York:20260828T210000
DTSTAMP:20260423T070554
CREATED:20231018T223928Z
LAST-MODIFIED:20231018T223928Z
UID:8606-1787918400-1787950800@winetherapynmb.com
SUMMARY:Self Service Wine Tasting All Day Every Day
DESCRIPTION:Self Service Wine Tasting All Day Every Day \nNo Reservations Needed \nWalk In and have create your own Custom Wine Tasting \nCheers \n843-712-5209 \nClosed on Mondays \n—
URL:https://winetherapynmb.com/event/wine-tasting-all-day-every-day-4/2026-08-28/
LOCATION:Wine Therapy of North Myrtle Beach\, 315 Main St.\, North Myrtle Beach\, SC\, 29582\, United States
CATEGORIES:Wine Tasting
ATTACH;FMTTYPE=image/jpeg:https://winetherapynmb.com/wp-content/uploads/2023/10/image1.jpeg
END:VEVENT
BEGIN:VEVENT
DTSTART;TZID=America/New_York:20260827T120000
DTEND;TZID=America/New_York:20260827T210000
DTSTAMP:20260423T070554
CREATED:20231018T223928Z
LAST-MODIFIED:20231018T223928Z
UID:8605-1787832000-1787864400@winetherapynmb.com
SUMMARY:Self Service Wine Tasting All Day Every Day
DESCRIPTION:Self Service Wine Tasting All Day Every Day \nNo Reservations Needed \nWalk In and have create your own Custom Wine Tasting \nCheers \n843-712-5209 \nClosed on Mondays \n—
URL:https://winetherapynmb.com/event/wine-tasting-all-day-every-day-4/2026-08-27/
LOCATION:Wine Therapy of North Myrtle Beach\, 315 Main St.\, North Myrtle Beach\, SC\, 29582\, United States
CATEGORIES:Wine Tasting
ATTACH;FMTTYPE=image/jpeg:https://winetherapynmb.com/wp-content/uploads/2023/10/image1.jpeg
END:VEVENT
BEGIN:VEVENT
DTSTART;TZID=America/New_York:20260826T120000
DTEND;TZID=America/New_York:20260826T210000
DTSTAMP:20260423T070554
CREATED:20231018T223928Z
LAST-MODIFIED:20231018T223928Z
UID:8604-1787745600-1787778000@winetherapynmb.com
SUMMARY:Self Service Wine Tasting All Day Every Day
DESCRIPTION:Self Service Wine Tasting All Day Every Day \nNo Reservations Needed \nWalk In and have create your own Custom Wine Tasting \nCheers \n843-712-5209 \nClosed on Mondays \n—
URL:https://winetherapynmb.com/event/wine-tasting-all-day-every-day-4/2026-08-26/
LOCATION:Wine Therapy of North Myrtle Beach\, 315 Main St.\, North Myrtle Beach\, SC\, 29582\, United States
CATEGORIES:Wine Tasting
ATTACH;FMTTYPE=image/jpeg:https://winetherapynmb.com/wp-content/uploads/2023/10/image1.jpeg
END:VEVENT
BEGIN:VEVENT
DTSTART;TZID=America/New_York:20260825T120000
DTEND;TZID=America/New_York:20260825T210000
DTSTAMP:20260423T070554
CREATED:20231018T223928Z
LAST-MODIFIED:20231018T223928Z
UID:8603-1787659200-1787691600@winetherapynmb.com
SUMMARY:Self Service Wine Tasting All Day Every Day
DESCRIPTION:Self Service Wine Tasting All Day Every Day \nNo Reservations Needed \nWalk In and have create your own Custom Wine Tasting \nCheers \n843-712-5209 \nClosed on Mondays \n—
URL:https://winetherapynmb.com/event/wine-tasting-all-day-every-day-4/2026-08-25/
LOCATION:Wine Therapy of North Myrtle Beach\, 315 Main St.\, North Myrtle Beach\, SC\, 29582\, United States
CATEGORIES:Wine Tasting
ATTACH;FMTTYPE=image/jpeg:https://winetherapynmb.com/wp-content/uploads/2023/10/image1.jpeg
END:VEVENT
BEGIN:VEVENT
DTSTART;TZID=America/New_York:20260823T120000
DTEND;TZID=America/New_York:20260823T210000
DTSTAMP:20260423T070554
CREATED:20231018T223928Z
LAST-MODIFIED:20231018T223928Z
UID:8602-1787486400-1787518800@winetherapynmb.com
SUMMARY:Self Service Wine Tasting All Day Every Day
DESCRIPTION:Self Service Wine Tasting All Day Every Day \nNo Reservations Needed \nWalk In and have create your own Custom Wine Tasting \nCheers \n843-712-5209 \nClosed on Mondays \n—
URL:https://winetherapynmb.com/event/wine-tasting-all-day-every-day-4/2026-08-23/
LOCATION:Wine Therapy of North Myrtle Beach\, 315 Main St.\, North Myrtle Beach\, SC\, 29582\, United States
CATEGORIES:Wine Tasting
ATTACH;FMTTYPE=image/jpeg:https://winetherapynmb.com/wp-content/uploads/2023/10/image1.jpeg
END:VEVENT
BEGIN:VEVENT
DTSTART;TZID=America/New_York:20260822T120000
DTEND;TZID=America/New_York:20260822T210000
DTSTAMP:20260423T070554
CREATED:20231018T223928Z
LAST-MODIFIED:20231018T223928Z
UID:8601-1787400000-1787432400@winetherapynmb.com
SUMMARY:Self Service Wine Tasting All Day Every Day
DESCRIPTION:Self Service Wine Tasting All Day Every Day \nNo Reservations Needed \nWalk In and have create your own Custom Wine Tasting \nCheers \n843-712-5209 \nClosed on Mondays \n—
URL:https://winetherapynmb.com/event/wine-tasting-all-day-every-day-4/2026-08-22/
LOCATION:Wine Therapy of North Myrtle Beach\, 315 Main St.\, North Myrtle Beach\, SC\, 29582\, United States
CATEGORIES:Wine Tasting
ATTACH;FMTTYPE=image/jpeg:https://winetherapynmb.com/wp-content/uploads/2023/10/image1.jpeg
END:VEVENT
BEGIN:VEVENT
DTSTART;TZID=America/New_York:20260821T120000
DTEND;TZID=America/New_York:20260821T210000
DTSTAMP:20260423T070554
CREATED:20231018T223928Z
LAST-MODIFIED:20231018T223928Z
UID:8600-1787313600-1787346000@winetherapynmb.com
SUMMARY:Self Service Wine Tasting All Day Every Day
DESCRIPTION:Self Service Wine Tasting All Day Every Day \nNo Reservations Needed \nWalk In and have create your own Custom Wine Tasting \nCheers \n843-712-5209 \nClosed on Mondays \n—
URL:https://winetherapynmb.com/event/wine-tasting-all-day-every-day-4/2026-08-21/
LOCATION:Wine Therapy of North Myrtle Beach\, 315 Main St.\, North Myrtle Beach\, SC\, 29582\, United States
CATEGORIES:Wine Tasting
ATTACH;FMTTYPE=image/jpeg:https://winetherapynmb.com/wp-content/uploads/2023/10/image1.jpeg
END:VEVENT
BEGIN:VEVENT
DTSTART;TZID=America/New_York:20260820T120000
DTEND;TZID=America/New_York:20260820T210000
DTSTAMP:20260423T070554
CREATED:20231018T223928Z
LAST-MODIFIED:20231018T223928Z
UID:8599-1787227200-1787259600@winetherapynmb.com
SUMMARY:Self Service Wine Tasting All Day Every Day
DESCRIPTION:Self Service Wine Tasting All Day Every Day \nNo Reservations Needed \nWalk In and have create your own Custom Wine Tasting \nCheers \n843-712-5209 \nClosed on Mondays \n—
URL:https://winetherapynmb.com/event/wine-tasting-all-day-every-day-4/2026-08-20/
LOCATION:Wine Therapy of North Myrtle Beach\, 315 Main St.\, North Myrtle Beach\, SC\, 29582\, United States
CATEGORIES:Wine Tasting
ATTACH;FMTTYPE=image/jpeg:https://winetherapynmb.com/wp-content/uploads/2023/10/image1.jpeg
END:VEVENT
BEGIN:VEVENT
DTSTART;TZID=America/New_York:20260819T120000
DTEND;TZID=America/New_York:20260819T210000
DTSTAMP:20260423T070554
CREATED:20231018T223928Z
LAST-MODIFIED:20231018T223928Z
UID:8598-1787140800-1787173200@winetherapynmb.com
SUMMARY:Self Service Wine Tasting All Day Every Day
DESCRIPTION:Self Service Wine Tasting All Day Every Day \nNo Reservations Needed \nWalk In and have create your own Custom Wine Tasting \nCheers \n843-712-5209 \nClosed on Mondays \n—
URL:https://winetherapynmb.com/event/wine-tasting-all-day-every-day-4/2026-08-19/
LOCATION:Wine Therapy of North Myrtle Beach\, 315 Main St.\, North Myrtle Beach\, SC\, 29582\, United States
CATEGORIES:Wine Tasting
ATTACH;FMTTYPE=image/jpeg:https://winetherapynmb.com/wp-content/uploads/2023/10/image1.jpeg
END:VEVENT
BEGIN:VEVENT
DTSTART;TZID=America/New_York:20260818T120000
DTEND;TZID=America/New_York:20260818T210000
DTSTAMP:20260423T070554
CREATED:20231018T223928Z
LAST-MODIFIED:20231018T223928Z
UID:8597-1787054400-1787086800@winetherapynmb.com
SUMMARY:Self Service Wine Tasting All Day Every Day
DESCRIPTION:Self Service Wine Tasting All Day Every Day \nNo Reservations Needed \nWalk In and have create your own Custom Wine Tasting \nCheers \n843-712-5209 \nClosed on Mondays \n—
URL:https://winetherapynmb.com/event/wine-tasting-all-day-every-day-4/2026-08-18/
LOCATION:Wine Therapy of North Myrtle Beach\, 315 Main St.\, North Myrtle Beach\, SC\, 29582\, United States
CATEGORIES:Wine Tasting
ATTACH;FMTTYPE=image/jpeg:https://winetherapynmb.com/wp-content/uploads/2023/10/image1.jpeg
END:VEVENT
BEGIN:VEVENT
DTSTART;TZID=America/New_York:20260816T120000
DTEND;TZID=America/New_York:20260816T210000
DTSTAMP:20260423T070554
CREATED:20231018T223928Z
LAST-MODIFIED:20231018T223928Z
UID:8596-1786881600-1786914000@winetherapynmb.com
SUMMARY:Self Service Wine Tasting All Day Every Day
DESCRIPTION:Self Service Wine Tasting All Day Every Day \nNo Reservations Needed \nWalk In and have create your own Custom Wine Tasting \nCheers \n843-712-5209 \nClosed on Mondays \n—
URL:https://winetherapynmb.com/event/wine-tasting-all-day-every-day-4/2026-08-16/
LOCATION:Wine Therapy of North Myrtle Beach\, 315 Main St.\, North Myrtle Beach\, SC\, 29582\, United States
CATEGORIES:Wine Tasting
ATTACH;FMTTYPE=image/jpeg:https://winetherapynmb.com/wp-content/uploads/2023/10/image1.jpeg
END:VEVENT
BEGIN:VEVENT
DTSTART;TZID=America/New_York:20260815T120000
DTEND;TZID=America/New_York:20260815T210000
DTSTAMP:20260423T070554
CREATED:20231018T223928Z
LAST-MODIFIED:20231018T223928Z
UID:8595-1786795200-1786827600@winetherapynmb.com
SUMMARY:Self Service Wine Tasting All Day Every Day
DESCRIPTION:Self Service Wine Tasting All Day Every Day \nNo Reservations Needed \nWalk In and have create your own Custom Wine Tasting \nCheers \n843-712-5209 \nClosed on Mondays \n—
URL:https://winetherapynmb.com/event/wine-tasting-all-day-every-day-4/2026-08-15/
LOCATION:Wine Therapy of North Myrtle Beach\, 315 Main St.\, North Myrtle Beach\, SC\, 29582\, United States
CATEGORIES:Wine Tasting
ATTACH;FMTTYPE=image/jpeg:https://winetherapynmb.com/wp-content/uploads/2023/10/image1.jpeg
END:VEVENT
BEGIN:VEVENT
DTSTART;TZID=America/New_York:20260814T120000
DTEND;TZID=America/New_York:20260814T210000
DTSTAMP:20260423T070554
CREATED:20231018T223928Z
LAST-MODIFIED:20231018T223928Z
UID:8594-1786708800-1786741200@winetherapynmb.com
SUMMARY:Self Service Wine Tasting All Day Every Day
DESCRIPTION:Self Service Wine Tasting All Day Every Day \nNo Reservations Needed \nWalk In and have create your own Custom Wine Tasting \nCheers \n843-712-5209 \nClosed on Mondays \n—
URL:https://winetherapynmb.com/event/wine-tasting-all-day-every-day-4/2026-08-14/
LOCATION:Wine Therapy of North Myrtle Beach\, 315 Main St.\, North Myrtle Beach\, SC\, 29582\, United States
CATEGORIES:Wine Tasting
ATTACH;FMTTYPE=image/jpeg:https://winetherapynmb.com/wp-content/uploads/2023/10/image1.jpeg
END:VEVENT
BEGIN:VEVENT
DTSTART;TZID=America/New_York:20260813T120000
DTEND;TZID=America/New_York:20260813T210000
DTSTAMP:20260423T070554
CREATED:20231018T223928Z
LAST-MODIFIED:20231018T223928Z
UID:8593-1786622400-1786654800@winetherapynmb.com
SUMMARY:Self Service Wine Tasting All Day Every Day
DESCRIPTION:Self Service Wine Tasting All Day Every Day \nNo Reservations Needed \nWalk In and have create your own Custom Wine Tasting \nCheers \n843-712-5209 \nClosed on Mondays \n—
URL:https://winetherapynmb.com/event/wine-tasting-all-day-every-day-4/2026-08-13/
LOCATION:Wine Therapy of North Myrtle Beach\, 315 Main St.\, North Myrtle Beach\, SC\, 29582\, United States
CATEGORIES:Wine Tasting
ATTACH;FMTTYPE=image/jpeg:https://winetherapynmb.com/wp-content/uploads/2023/10/image1.jpeg
END:VEVENT
BEGIN:VEVENT
DTSTART;TZID=America/New_York:20260812T120000
DTEND;TZID=America/New_York:20260812T210000
DTSTAMP:20260423T070554
CREATED:20231018T223928Z
LAST-MODIFIED:20231018T223928Z
UID:8592-1786536000-1786568400@winetherapynmb.com
SUMMARY:Self Service Wine Tasting All Day Every Day
DESCRIPTION:Self Service Wine Tasting All Day Every Day \nNo Reservations Needed \nWalk In and have create your own Custom Wine Tasting \nCheers \n843-712-5209 \nClosed on Mondays \n—
URL:https://winetherapynmb.com/event/wine-tasting-all-day-every-day-4/2026-08-12/
LOCATION:Wine Therapy of North Myrtle Beach\, 315 Main St.\, North Myrtle Beach\, SC\, 29582\, United States
CATEGORIES:Wine Tasting
ATTACH;FMTTYPE=image/jpeg:https://winetherapynmb.com/wp-content/uploads/2023/10/image1.jpeg
END:VEVENT
END:VCALENDAR