BEGIN:VCALENDAR
VERSION:2.0
PRODID:-//Wine Therapy of North Myrtle Beach - ECPv6.15.20//NONSGML v1.0//EN
CALSCALE:GREGORIAN
METHOD:PUBLISH
X-WR-CALNAME:Wine Therapy of North Myrtle Beach
X-ORIGINAL-URL:https://winetherapynmb.com
X-WR-CALDESC:Events for Wine Therapy of North Myrtle Beach
REFRESH-INTERVAL;VALUE=DURATION:PT1H
X-Robots-Tag:noindex
X-PUBLISHED-TTL:PT1H
BEGIN:VTIMEZONE
TZID:UTC
BEGIN:STANDARD
TZOFFSETFROM:+0000
TZOFFSETTO:+0000
TZNAME:UTC
DTSTART:20200101T000000
END:STANDARD
END:VTIMEZONE
BEGIN:VEVENT
DTSTART;TZID=UTC:20210612T170000
DTEND;TZID=UTC:20210612T200000
DTSTAMP:20260423T182803
CREATED:20210508T133500Z
LAST-MODIFIED:20210508T133500Z
UID:330-1623517200-1623528000@winetherapynmb.com
SUMMARY:Victoria Grace Humphreys Local Singer- Songwriter Acoustic Guitar
DESCRIPTION:
URL:https://winetherapynmb.com/event/victoria-grace-humphreys-local-singer-songwriter-acoustic-guitar-3/
LOCATION:Wine Therapy\, 681 Main St.\, North Myrtle Beach\, SC\, 29582\, United States
ATTACH;FMTTYPE=image/jpeg:https://winetherapynmb.com/wp-content/uploads/2021/05/Victoria-Grace-Humphreys.jpeg
END:VEVENT
BEGIN:VEVENT
DTSTART;TZID=UTC:20210612T120000
DTEND;TZID=UTC:20210612T230000
DTSTAMP:20260423T182803
CREATED:20210603T081332Z
LAST-MODIFIED:20210603T081727Z
UID:355-1623499200-1623538800@winetherapynmb.com
SUMMARY:Rose' All Day
DESCRIPTION:There will be door prices\, large format Rose’ bottle drawings\, live music\, food and fun.
URL:https://winetherapynmb.com/event/rose-all-day/
LOCATION:Wine Therapy\, 681 Main St.\, North Myrtle Beach\, SC\, 29582\, United States
ATTACH;FMTTYPE=image/jpeg:https://winetherapynmb.com/wp-content/uploads/2021/06/Duo-M-_-Prest-003-scaled.jpg
END:VEVENT
BEGIN:VEVENT
DTSTART;TZID=UTC:20210611T170000
DTEND;TZID=UTC:20210611T200000
DTSTAMP:20260423T182803
CREATED:20210508T133301Z
LAST-MODIFIED:20210508T133425Z
UID:327-1623430800-1623441600@winetherapynmb.com
SUMMARY:Victoria Grace Humphreys Local Singer- Songwriter Acoustic Guitar
DESCRIPTION:
URL:https://winetherapynmb.com/event/victoria-grace-humphreys-local-singer-songwriter-acoustic-guitar-2/
LOCATION:Wine Therapy\, 681 Main St.\, North Myrtle Beach\, SC\, 29582\, United States
ATTACH;FMTTYPE=image/jpeg:https://winetherapynmb.com/wp-content/uploads/2021/05/Victoria-Grace-Humphreys.jpeg
END:VEVENT
BEGIN:VEVENT
DTSTART;TZID=UTC:20210601T110000
DTEND;TZID=UTC:20210601T220000
DTSTAMP:20260423T182803
CREATED:20210409T232529Z
LAST-MODIFIED:20210409T232704Z
UID:294-1622545200-1622584800@winetherapynmb.com
SUMMARY:Daily Wine Tasting
DESCRIPTION:Pre-set and Build Your Own Wine\, Champagne & Sparkling Tastings available 11am -10pm daily ~ or Sample something new – Meads\, Ciders and Ports
URL:https://winetherapynmb.com/event/daily-wine-tasting/
LOCATION:Wine Therapy\, 681 Main St.\, North Myrtle Beach\, SC\, 29582\, United States
ATTACH;FMTTYPE=image/jpeg:https://winetherapynmb.com/wp-content/uploads/2021/04/fmf_105085-1-scaled.jpg
END:VEVENT
END:VCALENDAR