BEGIN:VCALENDAR
VERSION:2.0
PRODID:-//Wine Therapy of North Myrtle Beach - ECPv6.15.20//NONSGML v1.0//EN
CALSCALE:GREGORIAN
METHOD:PUBLISH
X-WR-CALNAME:Wine Therapy of North Myrtle Beach
X-ORIGINAL-URL:https://winetherapynmb.com
X-WR-CALDESC:Events for Wine Therapy of North Myrtle Beach
REFRESH-INTERVAL;VALUE=DURATION:PT1H
X-Robots-Tag:noindex
X-PUBLISHED-TTL:PT1H
BEGIN:VTIMEZONE
TZID:America/New_York
BEGIN:DAYLIGHT
TZOFFSETFROM:-0500
TZOFFSETTO:-0400
TZNAME:EDT
DTSTART:20220313T070000
END:DAYLIGHT
BEGIN:STANDARD
TZOFFSETFROM:-0400
TZOFFSETTO:-0500
TZNAME:EST
DTSTART:20221106T060000
END:STANDARD
BEGIN:DAYLIGHT
TZOFFSETFROM:-0500
TZOFFSETTO:-0400
TZNAME:EDT
DTSTART:20230312T070000
END:DAYLIGHT
BEGIN:STANDARD
TZOFFSETFROM:-0400
TZOFFSETTO:-0500
TZNAME:EST
DTSTART:20231105T060000
END:STANDARD
BEGIN:DAYLIGHT
TZOFFSETFROM:-0500
TZOFFSETTO:-0400
TZNAME:EDT
DTSTART:20240310T070000
END:DAYLIGHT
BEGIN:STANDARD
TZOFFSETFROM:-0400
TZOFFSETTO:-0500
TZNAME:EST
DTSTART:20241103T060000
END:STANDARD
BEGIN:DAYLIGHT
TZOFFSETFROM:-0500
TZOFFSETTO:-0400
TZNAME:EDT
DTSTART:20250309T070000
END:DAYLIGHT
BEGIN:STANDARD
TZOFFSETFROM:-0400
TZOFFSETTO:-0500
TZNAME:EST
DTSTART:20251102T060000
END:STANDARD
END:VTIMEZONE
BEGIN:VEVENT
DTSTART;TZID=America/New_York:20240524T120000
DTEND;TZID=America/New_York:20240527T210000
DTSTAMP:20260423T203831
CREATED:20240319T141510Z
LAST-MODIFIED:20240319T141722Z
UID:6992-1716552000-1716843600@winetherapynmb.com
SUMMARY:3 Year Anniversary Weekend Friday to Sunday
DESCRIPTION:Happy 3rd Birthday to WINE THERAPY \nTHANK YOU ALL
URL:https://winetherapynmb.com/event/3-year-anniversary-weekend/
LOCATION:Wine Therapy of North Myrtle Beach\, 315 Main St.\, North Myrtle Beach\, SC\, 29582\, United States
CATEGORIES:Holiday Event,Wine Tasting
ATTACH;FMTTYPE=image/jpeg:https://winetherapynmb.com/wp-content/uploads/2024/03/qtq80-KMsmZl.jpeg
END:VEVENT
BEGIN:VEVENT
DTSTART;TZID=America/New_York:20240505T120000
DTEND;TZID=America/New_York:20240505T180000
DTSTAMP:20260423T203831
CREATED:20231018T224205Z
LAST-MODIFIED:20231018T224205Z
UID:5567-1714910400-1714932000@winetherapynmb.com
SUMMARY:Sunday Funday Wine Tasting
DESCRIPTION:Wine Tasting All Day Every Day \nNo Reservations Needed \nWalk In and have a Custom-Made Wine Tasting \nCheers \n843-712-5209 \n—
URL:https://winetherapynmb.com/event/sunday-funday-wine-tasting/2024-05-05/
LOCATION:Wine Therapy of North Myrtle Beach\, 315 Main St.\, North Myrtle Beach\, SC\, 29582\, United States
CATEGORIES:Wine Tasting
ATTACH;FMTTYPE=image/jpeg:https://winetherapynmb.com/wp-content/uploads/2023/06/IMG_2910.jpg
END:VEVENT
BEGIN:VEVENT
DTSTART;TZID=America/New_York:20240503T120000
DTEND;TZID=America/New_York:20240503T210000
DTSTAMP:20260423T203831
CREATED:20240424T182436Z
LAST-MODIFIED:20240424T182436Z
UID:7225-1714737600-1714770000@winetherapynmb.com
SUMMARY:13 SOUTH AFRICAN WINE TASTING ALL DAY
DESCRIPTION:Try 13 different South African Wines on Presale all day on Friday May 3rd 12-9pm
URL:https://winetherapynmb.com/event/13-south-african-wine-tasting-all-day/
LOCATION:Wine Therapy of North Myrtle Beach\, 315 Main St.\, North Myrtle Beach\, SC\, 29582\, United States
CATEGORIES:Wine Tasting
ATTACH;FMTTYPE=image/jpeg:https://winetherapynmb.com/wp-content/uploads/2024/04/south-africa-scaled.jpg
END:VEVENT
BEGIN:VEVENT
DTSTART;TZID=America/New_York:20240502T150000
DTEND;TZID=America/New_York:20240502T210000
DTSTAMP:20260423T203831
CREATED:20231018T223439Z
LAST-MODIFIED:20231018T223439Z
UID:5478-1714662000-1714683600@winetherapynmb.com
SUMMARY:Wine Tasting All Day Every Day
DESCRIPTION:Wine Tasting All Day Every Day \nNo Reservations Needed \nWalk In and have a Custom-Made Wine Tasting \nCheers \n843-712-5209 \n—
URL:https://winetherapynmb.com/event/wine-tasting-all-day-every-day-3/2024-05-02/
LOCATION:Wine Therapy of North Myrtle Beach\, 315 Main St.\, North Myrtle Beach\, SC\, 29582\, United States
CATEGORIES:Wine Tasting
ATTACH;FMTTYPE=image/jpeg:https://winetherapynmb.com/wp-content/uploads/2023/06/Wine-Therapy-Wine-Tastings-All-Day-Every-Day.jpg
END:VEVENT
BEGIN:VEVENT
DTSTART;TZID=America/New_York:20240501T150000
DTEND;TZID=America/New_York:20240501T210000
DTSTAMP:20260423T203831
CREATED:20231018T222732Z
LAST-MODIFIED:20231018T222732Z
UID:5418-1714575600-1714597200@winetherapynmb.com
SUMMARY:Wine Tasting All Day Every Day
DESCRIPTION:Wine Tasting All Day Every Day \nNo Reservations Needed \nWalk In and have a Custom-Made Wine Tasting \nCheers \n843-712-5209 \n—
URL:https://winetherapynmb.com/event/wine-tasting-all-day-every-day-2/2024-05-01/
LOCATION:Wine Therapy of North Myrtle Beach\, 315 Main St.\, North Myrtle Beach\, SC\, 29582\, United States
CATEGORIES:Wine Tasting
ATTACH;FMTTYPE=image/jpeg:https://winetherapynmb.com/wp-content/uploads/2023/06/Wine-Therapy-Wine-Tastings-All-Day-Every-Day.jpg
END:VEVENT
BEGIN:VEVENT
DTSTART;TZID=America/New_York:20240428T120000
DTEND;TZID=America/New_York:20240428T180000
DTSTAMP:20260423T203831
CREATED:20231018T224205Z
LAST-MODIFIED:20231018T224205Z
UID:5566-1714305600-1714327200@winetherapynmb.com
SUMMARY:Sunday Funday Wine Tasting
DESCRIPTION:Wine Tasting All Day Every Day \nNo Reservations Needed \nWalk In and have a Custom-Made Wine Tasting \nCheers \n843-712-5209 \n—
URL:https://winetherapynmb.com/event/sunday-funday-wine-tasting/2024-04-28/
LOCATION:Wine Therapy of North Myrtle Beach\, 315 Main St.\, North Myrtle Beach\, SC\, 29582\, United States
CATEGORIES:Wine Tasting
ATTACH;FMTTYPE=image/jpeg:https://winetherapynmb.com/wp-content/uploads/2023/06/IMG_2910.jpg
END:VEVENT
BEGIN:VEVENT
DTSTART;TZID=America/New_York:20240425T150000
DTEND;TZID=America/New_York:20240425T210000
DTSTAMP:20260423T203831
CREATED:20231018T223439Z
LAST-MODIFIED:20231018T223439Z
UID:5477-1714057200-1714078800@winetherapynmb.com
SUMMARY:Wine Tasting All Day Every Day
DESCRIPTION:Wine Tasting All Day Every Day \nNo Reservations Needed \nWalk In and have a Custom-Made Wine Tasting \nCheers \n843-712-5209 \n—
URL:https://winetherapynmb.com/event/wine-tasting-all-day-every-day-3/2024-04-25/
LOCATION:Wine Therapy of North Myrtle Beach\, 315 Main St.\, North Myrtle Beach\, SC\, 29582\, United States
CATEGORIES:Wine Tasting
ATTACH;FMTTYPE=image/jpeg:https://winetherapynmb.com/wp-content/uploads/2023/06/Wine-Therapy-Wine-Tastings-All-Day-Every-Day.jpg
END:VEVENT
BEGIN:VEVENT
DTSTART;TZID=America/New_York:20240424T150000
DTEND;TZID=America/New_York:20240424T210000
DTSTAMP:20260423T203831
CREATED:20231018T222732Z
LAST-MODIFIED:20231018T222732Z
UID:5417-1713970800-1713992400@winetherapynmb.com
SUMMARY:Wine Tasting All Day Every Day
DESCRIPTION:Wine Tasting All Day Every Day \nNo Reservations Needed \nWalk In and have a Custom-Made Wine Tasting \nCheers \n843-712-5209 \n—
URL:https://winetherapynmb.com/event/wine-tasting-all-day-every-day-2/2024-04-24/
LOCATION:Wine Therapy of North Myrtle Beach\, 315 Main St.\, North Myrtle Beach\, SC\, 29582\, United States
CATEGORIES:Wine Tasting
ATTACH;FMTTYPE=image/jpeg:https://winetherapynmb.com/wp-content/uploads/2023/06/Wine-Therapy-Wine-Tastings-All-Day-Every-Day.jpg
END:VEVENT
BEGIN:VEVENT
DTSTART;TZID=America/New_York:20240319T120000
DTEND;TZID=America/New_York:20240319T210000
DTSTAMP:20260423T203831
CREATED:20230604T190902Z
LAST-MODIFIED:20240319T140839Z
UID:3508-1710849600-1710882000@winetherapynmb.com
SUMMARY:Wine Tasting All Day Every Day
DESCRIPTION:Wine Tasting All Day Every Day Starting at 12 Noon \nNo Reservations Needed \nWalk In and have a Custom-Made Wine Tasting \nCheers \n843-712-5209 \n—
URL:https://winetherapynmb.com/event/wine-tasting-all-day-every-day/
LOCATION:Wine Therapy of North Myrtle Beach\, 315 Main St.\, North Myrtle Beach\, SC\, 29582\, United States
CATEGORIES:Wine Tasting
ATTACH;FMTTYPE=image/jpeg:https://winetherapynmb.com/wp-content/uploads/2023/06/Wine-Therapy-Wine-Tastings-All-Day-Every-Day.jpg
END:VEVENT
BEGIN:VEVENT
DTSTART;TZID=America/New_York:20231022T120000
DTEND;TZID=America/New_York:20231022T180000
DTSTAMP:20260423T203831
CREATED:20231018T224205Z
LAST-MODIFIED:20231018T224205Z
UID:5538-1697976000-1697997600@winetherapynmb.com
SUMMARY:Sunday Funday Wine Tasting
DESCRIPTION:Wine Tasting All Day Every Day \nNo Reservations Needed \nWalk In and have a Custom-Made Wine Tasting \nCheers \n843-712-5209 \n—
URL:https://winetherapynmb.com/event/sunday-funday-wine-tasting/2023-10-22/
LOCATION:Wine Therapy of North Myrtle Beach\, 315 Main St.\, North Myrtle Beach\, SC\, 29582\, United States
CATEGORIES:Wine Tasting
ATTACH;FMTTYPE=image/jpeg:https://winetherapynmb.com/wp-content/uploads/2023/06/IMG_2910.jpg
END:VEVENT
BEGIN:VEVENT
DTSTART;TZID=America/New_York:20231019T150000
DTEND;TZID=America/New_York:20231019T210000
DTSTAMP:20260423T203831
CREATED:20231018T223439Z
LAST-MODIFIED:20231018T223602Z
UID:5421-1697727600-1697749200@winetherapynmb.com
SUMMARY:Wine Tasting All Day Every Day
DESCRIPTION:Wine Tasting All Day Every Day \nNo Reservations Needed \nWalk In and have a Custom-Made Wine Tasting \nCheers \n843-712-5209 \n—
URL:https://winetherapynmb.com/event/wine-tasting-all-day-every-day-3/2023-10-19/
LOCATION:Wine Therapy of North Myrtle Beach\, 315 Main St.\, North Myrtle Beach\, SC\, 29582\, United States
CATEGORIES:Wine Tasting
ATTACH;FMTTYPE=image/jpeg:https://winetherapynmb.com/wp-content/uploads/2023/06/Wine-Therapy-Wine-Tastings-All-Day-Every-Day.jpg
END:VEVENT
BEGIN:VEVENT
DTSTART;TZID=America/New_York:20231018T150000
DTEND;TZID=America/New_York:20231018T210000
DTSTAMP:20260423T203831
CREATED:20231018T222732Z
LAST-MODIFIED:20231018T222732Z
UID:5389-1697641200-1697662800@winetherapynmb.com
SUMMARY:Wine Tasting All Day Every Day
DESCRIPTION:Wine Tasting All Day Every Day \nNo Reservations Needed \nWalk In and have a Custom-Made Wine Tasting \nCheers \n843-712-5209 \n—
URL:https://winetherapynmb.com/event/wine-tasting-all-day-every-day-2/2023-10-18/
LOCATION:Wine Therapy of North Myrtle Beach\, 315 Main St.\, North Myrtle Beach\, SC\, 29582\, United States
CATEGORIES:Wine Tasting
ATTACH;FMTTYPE=image/jpeg:https://winetherapynmb.com/wp-content/uploads/2023/06/Wine-Therapy-Wine-Tastings-All-Day-Every-Day.jpg
END:VEVENT
BEGIN:VEVENT
DTSTART;VALUE=DATE:20231001
DTEND;VALUE=DATE:20231010
DTSTAMP:20260423T203831
CREATED:20231003T205954Z
LAST-MODIFIED:20231003T210129Z
UID:5232-1696118400-1696895999@winetherapynmb.com
SUMMARY:Closed Oct 1-9th for Family Vacation
DESCRIPTION:Sorry we are closed October 1st-9th for a family vacation.  We will be open Tuesday October 10th at 3pm. \nSee you rested when we get back.  Cheers
URL:https://winetherapynmb.com/event/closed-oct-1-9th-for-family-vacation/2023-10-01/
LOCATION:Wine Therapy of North Myrtle Beach\, 315 Main St.\, North Myrtle Beach\, SC\, 29582\, United States
ATTACH;FMTTYPE=image/jpeg:https://winetherapynmb.com/wp-content/uploads/2023/06/IMG_2692-scaled.jpg
END:VEVENT
BEGIN:VEVENT
DTSTART;TZID=America/New_York:20230826T180000
DTEND;TZID=America/New_York:20230826T210000
DTSTAMP:20260423T203831
CREATED:20230509T212348Z
LAST-MODIFIED:20230509T212348Z
UID:3234-1693072800-1693083600@winetherapynmb.com
SUMMARY:Music: Wagon Load of Trouble
DESCRIPTION:
URL:https://winetherapynmb.com/event/music-wagon-load-of-trouble/
LOCATION:Wine Therapy of North Myrtle Beach\, 315 Main St.\, North Myrtle Beach\, SC\, 29582\, United States
ATTACH;FMTTYPE=image/jpeg:https://winetherapynmb.com/wp-content/uploads/2023/05/Wine-Therapy.jpg
END:VEVENT
BEGIN:VEVENT
DTSTART;TZID=America/New_York:20230810T173000
DTEND;TZID=America/New_York:20230810T210000
DTSTAMP:20260423T203831
CREATED:20230803T131513Z
LAST-MODIFIED:20230803T131513Z
UID:4879-1691688600-1691701200@winetherapynmb.com
SUMMARY:Joesph Wagner Wine Rep Wine Tasting
DESCRIPTION:
URL:https://winetherapynmb.com/event/joesph-wagner-wine-rep-wine-tasting/
LOCATION:Wine Therapy of North Myrtle Beach\, 315 Main St.\, North Myrtle Beach\, SC\, 29582\, United States
CATEGORIES:Wine Tasting
ATTACH;FMTTYPE=image/jpeg:https://winetherapynmb.com/wp-content/uploads/2022/07/joseph-wagner-wines.jpg
END:VEVENT
BEGIN:VEVENT
DTSTART;TZID=America/New_York:20230808T170000
DTEND;TZID=America/New_York:20230808T210000
DTSTAMP:20260423T203831
CREATED:20230803T131142Z
LAST-MODIFIED:20230803T131142Z
UID:4877-1691514000-1691528400@winetherapynmb.com
SUMMARY:Sorry Closing Early Tuesday August 8th at 5pm for a Private Event
DESCRIPTION:Sorry Closing Early Tuesday August 8th at 5pm for a Private Event \nTake a picture off this note for 10% off on Wednesday August 9th
URL:https://winetherapynmb.com/event/sorry-closing-early-tuesday-august-8th-at-5pm-for-a-private-event/
LOCATION:Wine Therapy of North Myrtle Beach\, 315 Main St.\, North Myrtle Beach\, SC\, 29582\, United States
ATTACH;FMTTYPE=image/jpeg:https://winetherapynmb.com/wp-content/uploads/2023/06/IMG_2692-scaled.jpg
END:VEVENT
BEGIN:VEVENT
DTSTART;TZID=America/New_York:20230726T173000
DTEND;TZID=America/New_York:20230726T193000
DTSTAMP:20260423T203831
CREATED:20230702T181158Z
LAST-MODIFIED:20230702T182717Z
UID:4693-1690392600-1690399800@winetherapynmb.com
SUMMARY:Whiskey Bourbon Tasting Class
DESCRIPTION:
URL:https://winetherapynmb.com/event/whiskey-bourbon-tasting-class/
LOCATION:Wine Therapy of North Myrtle Beach\, 315 Main St.\, North Myrtle Beach\, SC\, 29582\, United States
ATTACH;FMTTYPE=image/jpeg:https://winetherapynmb.com/wp-content/uploads/2023/07/IMG_7297.jpg
END:VEVENT
BEGIN:VEVENT
DTSTART;TZID=America/New_York:20230714T180000
DTEND;TZID=America/New_York:20230714T210000
DTSTAMP:20260423T203831
CREATED:20230205T160157Z
LAST-MODIFIED:20230205T160157Z
UID:2902-1689357600-1689368400@winetherapynmb.com
SUMMARY:Live Music: WILL NESS
DESCRIPTION:
URL:https://winetherapynmb.com/event/live-music-will-ness/2023-07-14/
LOCATION:Wine Therapy of North Myrtle Beach\, 315 Main St.\, North Myrtle Beach\, SC\, 29582\, United States
CATEGORIES:Wine Tasting
ATTACH;FMTTYPE=image/jpeg:https://winetherapynmb.com/wp-content/uploads/2023/02/Will-Ness.jpg
END:VEVENT
BEGIN:VEVENT
DTSTART;TZID=America/New_York:20230713T173000
DTEND;TZID=America/New_York:20230713T193000
DTSTAMP:20260423T203831
CREATED:20230702T180909Z
LAST-MODIFIED:20230702T180909Z
UID:4691-1689269400-1689276600@winetherapynmb.com
SUMMARY:Martini Pairing Class
DESCRIPTION:$25
URL:https://winetherapynmb.com/event/martini-pairing-class/
LOCATION:Wine Therapy of North Myrtle Beach\, 315 Main St.\, North Myrtle Beach\, SC\, 29582\, United States
ATTACH;FMTTYPE=image/jpeg:https://winetherapynmb.com/wp-content/uploads/2023/07/IMG_7316.jpg
END:VEVENT
BEGIN:VEVENT
DTSTART;TZID=America/New_York:20230706T173000
DTEND;TZID=America/New_York:20230706T193000
DTSTAMP:20260423T203831
CREATED:20230702T180743Z
LAST-MODIFIED:20230702T180743Z
UID:4689-1688664600-1688671800@winetherapynmb.com
SUMMARY:Wine and Pizza Pairing class
DESCRIPTION:$25
URL:https://winetherapynmb.com/event/wine-and-pizza-pairing-class/
LOCATION:Wine Therapy of North Myrtle Beach\, 315 Main St.\, North Myrtle Beach\, SC\, 29582\, United States
CATEGORIES:Wine Tasting
ATTACH;FMTTYPE=image/jpeg:https://winetherapynmb.com/wp-content/uploads/2023/07/IMG_6950.jpg
END:VEVENT
BEGIN:VEVENT
DTSTART;TZID=America/New_York:20230704T140000
DTEND;TZID=America/New_York:20230704T160000
DTSTAMP:20260423T203831
CREATED:20230702T185603Z
LAST-MODIFIED:20230702T185603Z
UID:4698-1688479200-1688486400@winetherapynmb.com
SUMMARY:Fresh D'Ambrosio Gelato Commercial Filming Be in Our Commercial!
DESCRIPTION:Be in our D’Ambrosio Commercial for our new Gelato Program.
URL:https://winetherapynmb.com/event/fresh-dambrosio-gelato-commercial-filming-be-in-our-commercial/
LOCATION:Wine Therapy of North Myrtle Beach\, 315 Main St.\, North Myrtle Beach\, SC\, 29582\, United States
ATTACH;FMTTYPE=image/jpeg:https://winetherapynmb.com/wp-content/uploads/2023/07/9ec121b0-4c30-4283-a862-53a8bc6d70e9.jpg
END:VEVENT
BEGIN:VEVENT
DTSTART;TZID=America/New_York:20230605T080000
DTEND;TZID=America/New_York:20230605T170000
DTSTAMP:20260423T203831
CREATED:20230604T183430Z
LAST-MODIFIED:20240405T152844Z
UID:3292-1685952000-1685984400@winetherapynmb.com
SUMMARY:Closed On Monday
DESCRIPTION:We need a day to rest and enjoy North Myrtle Beach!  See you\, tomorrow!
URL:https://winetherapynmb.com/event/closed-on-monday/
LOCATION:Wine Therapy of North Myrtle Beach\, 315 Main St.\, North Myrtle Beach\, SC\, 29582\, United States
END:VEVENT
BEGIN:VEVENT
DTSTART;TZID=America/New_York:20230526T120000
DTEND;TZID=America/New_York:20230529T180000
DTSTAMP:20260423T203831
CREATED:20230509T212802Z
LAST-MODIFIED:20230509T212802Z
UID:3237-1685102400-1685383200@winetherapynmb.com
SUMMARY:Two Year Anniversary Party
DESCRIPTION:
URL:https://winetherapynmb.com/event/two-year-anniversary-party/
LOCATION:Wine Therapy of North Myrtle Beach\, 315 Main St.\, North Myrtle Beach\, SC\, 29582\, United States
CATEGORIES:Holiday Event,Wine Tasting
ATTACH;FMTTYPE=image/jpeg:https://winetherapynmb.com/wp-content/uploads/2023/05/Two-Year-Anniversiary.jpg
END:VEVENT
BEGIN:VEVENT
DTSTART;TZID=America/New_York:20230429T180000
DTEND;TZID=America/New_York:20230429T210000
DTSTAMP:20260423T203831
CREATED:20230205T155959Z
LAST-MODIFIED:20230205T155959Z
UID:2897-1682791200-1682802000@winetherapynmb.com
SUMMARY:Live Music: Yarborough Brothers Band
DESCRIPTION:
URL:https://winetherapynmb.com/event/live-music-yarborough-brothers-band/2023-04-29/
LOCATION:Wine Therapy of North Myrtle Beach\, 315 Main St.\, North Myrtle Beach\, SC\, 29582\, United States
CATEGORIES:Wine Tasting
ATTACH;FMTTYPE=image/jpeg:https://winetherapynmb.com/wp-content/uploads/2023/02/Yarborough-Brothers-scaled.jpg
END:VEVENT
BEGIN:VEVENT
DTSTART;TZID=America/New_York:20230330T173000
DTEND;TZID=America/New_York:20230330T173000
DTSTAMP:20260423T203831
CREATED:20230304T184651Z
LAST-MODIFIED:20230304T184651Z
UID:2988-1680197400-1680197400@winetherapynmb.com
SUMMARY:Wine Tasting: Port Wine Introduction and Tasting
DESCRIPTION:Call/Text 843-712-5209 for a seat for the Tasting.
URL:https://winetherapynmb.com/event/wine-tasting-port-wine-introduction-and-tasting/
LOCATION:Wine Therapy of North Myrtle Beach\, 315 Main St.\, North Myrtle Beach\, SC\, 29582\, United States
CATEGORIES:Wine Tasting
ATTACH;FMTTYPE=image/jpeg:https://winetherapynmb.com/wp-content/uploads/2022/08/IMG_3146.jpg
END:VEVENT
BEGIN:VEVENT
DTSTART;TZID=America/New_York:20230323T140000
DTEND;TZID=America/New_York:20230323T140000
DTSTAMP:20260423T203831
CREATED:20230304T184502Z
LAST-MODIFIED:20230304T184502Z
UID:2986-1679580000-1679580000@winetherapynmb.com
SUMMARY:Wine Tasting: 101 Wine Tasting Class
DESCRIPTION:Learn the proper way to taste wines! \nCall/Text 843-712-5209 for a seat for the Tasting.
URL:https://winetherapynmb.com/event/wine-tasting-101-wine-tasting-class/
LOCATION:Wine Therapy of North Myrtle Beach\, 315 Main St.\, North Myrtle Beach\, SC\, 29582\, United States
CATEGORIES:Wine Tasting
ATTACH;FMTTYPE=image/jpeg:https://winetherapynmb.com/wp-content/uploads/2022/08/IMG_3146.jpg
ORGANIZER;CN="Wine Therapy of North Myrtle Beach":MAILTO:winetherapyllc@gmail.com
END:VEVENT
BEGIN:VEVENT
DTSTART;TZID=America/New_York:20230317T120000
DTEND;TZID=America/New_York:20230317T210000
DTSTAMP:20260423T203831
CREATED:20230314T203013Z
LAST-MODIFIED:20230314T203013Z
UID:3014-1679054400-1679086800@winetherapynmb.com
SUMMARY:Happy St Paddy's Day GREEN BEER
DESCRIPTION:GREEN BEER HERE $5.50 all day every day
URL:https://winetherapynmb.com/event/happy-st-paddys-day-green-beer/
LOCATION:Wine Therapy of North Myrtle Beach\, 315 Main St.\, North Myrtle Beach\, SC\, 29582\, United States
ATTACH;FMTTYPE=image/jpeg:https://winetherapynmb.com/wp-content/uploads/2023/02/Wine-Therapy-St-Paddys-Day-.jpg
ORGANIZER;CN="Wine Therapy of North Myrtle Beach":MAILTO:winetherapyllc@gmail.com
END:VEVENT
BEGIN:VEVENT
DTSTART;TZID=America/New_York:20230316T173000
DTEND;TZID=America/New_York:20230316T173000
DTSTAMP:20260423T203831
CREATED:20230304T184220Z
LAST-MODIFIED:20230314T201718Z
UID:2984-1678987800-1678987800@winetherapynmb.com
SUMMARY:Wine Tasting: Wines on a Budget
DESCRIPTION:Call/Text 843-712-5209 for a seat for the Tasting.
URL:https://winetherapynmb.com/event/wine-tasting-wines-on-a-budget/
LOCATION:Wine Therapy of North Myrtle Beach\, 315 Main St.\, North Myrtle Beach\, SC\, 29582\, United States
CATEGORIES:Wine Tasting
ATTACH;FMTTYPE=image/jpeg:https://winetherapynmb.com/wp-content/uploads/2023/03/Wine-Tasting-scaled.jpg
ORGANIZER;CN="Wine Therapy of North Myrtle Beach":MAILTO:winetherapyllc@gmail.com
END:VEVENT
BEGIN:VEVENT
DTSTART;TZID=America/New_York:20230311T180000
DTEND;TZID=America/New_York:20230311T210000
DTSTAMP:20260423T203831
CREATED:20230215T213424Z
LAST-MODIFIED:20230215T213440Z
UID:2941-1678557600-1678568400@winetherapynmb.com
SUMMARY:Live Music: Victoria Grace Humphreys
DESCRIPTION:We Are Happy to Welcome back Victoria Grace Humphreys.  Victoria is a gifted song writer and performer.  She was our very first Artist Performer in the Summer 2021!
URL:https://winetherapynmb.com/event/live-music-victoria-grace-humphrey/
LOCATION:Wine Therapy of North Myrtle Beach\, 315 Main St.\, North Myrtle Beach\, SC\, 29582\, United States
CATEGORIES:Wine Tasting
ATTACH;FMTTYPE=image/jpeg:https://winetherapynmb.com/wp-content/uploads/2021/05/Victoria-Grace-Humphreys.jpeg
END:VEVENT
BEGIN:VEVENT
DTSTART;TZID=America/New_York:20230311T080000
DTEND;TZID=America/New_York:20230311T180000
DTSTAMP:20260423T203831
CREATED:20230215T220129Z
LAST-MODIFIED:20230215T220129Z
UID:2945-1678521600-1678557600@winetherapynmb.com
SUMMARY:33rd Annual NMB St Paddy's Parade
DESCRIPTION:We will be open early at 8am. Reserve your seat on our sidewalk space for the parade! \nAfter the PARADE we have live music 6-9pm to keep the party rolling!
URL:https://winetherapynmb.com/event/33rd-annual-nmb-st-paddys-parade/
LOCATION:Wine Therapy of North Myrtle Beach\, 315 Main St.\, North Myrtle Beach\, SC\, 29582\, United States
CATEGORIES:Holiday Event,Wine Tasting
ATTACH;FMTTYPE=image/jpeg:https://winetherapynmb.com/wp-content/uploads/2023/02/Wine-Therapy-St-Paddys-Day-.jpg
ORGANIZER;CN="Wine Therapy of North Myrtle Beach":MAILTO:winetherapyllc@gmail.com
END:VEVENT
END:VCALENDAR