BEGIN:VCALENDAR
VERSION:2.0
PRODID:-//Wine Therapy of North Myrtle Beach - ECPv6.15.20//NONSGML v1.0//EN
CALSCALE:GREGORIAN
METHOD:PUBLISH
X-WR-CALNAME:Wine Therapy of North Myrtle Beach
X-ORIGINAL-URL:https://winetherapynmb.com
X-WR-CALDESC:Events for Wine Therapy of North Myrtle Beach
REFRESH-INTERVAL;VALUE=DURATION:PT1H
X-Robots-Tag:noindex
X-PUBLISHED-TTL:PT1H
BEGIN:VTIMEZONE
TZID:America/New_York
BEGIN:DAYLIGHT
TZOFFSETFROM:-0500
TZOFFSETTO:-0400
TZNAME:EDT
DTSTART:20210314T070000
END:DAYLIGHT
BEGIN:STANDARD
TZOFFSETFROM:-0400
TZOFFSETTO:-0500
TZNAME:EST
DTSTART:20211107T060000
END:STANDARD
BEGIN:DAYLIGHT
TZOFFSETFROM:-0500
TZOFFSETTO:-0400
TZNAME:EDT
DTSTART:20220313T070000
END:DAYLIGHT
BEGIN:STANDARD
TZOFFSETFROM:-0400
TZOFFSETTO:-0500
TZNAME:EST
DTSTART:20221106T060000
END:STANDARD
BEGIN:DAYLIGHT
TZOFFSETFROM:-0500
TZOFFSETTO:-0400
TZNAME:EDT
DTSTART:20230312T070000
END:DAYLIGHT
BEGIN:STANDARD
TZOFFSETFROM:-0400
TZOFFSETTO:-0500
TZNAME:EST
DTSTART:20231105T060000
END:STANDARD
END:VTIMEZONE
BEGIN:VEVENT
DTSTART;TZID=America/New_York:20221217T113000
DTEND;TZID=America/New_York:20221217T133000
DTSTAMP:20260423T195609
CREATED:20221213T171040Z
LAST-MODIFIED:20221213T171040Z
UID:2708-1671276600-1671283800@winetherapynmb.com
SUMMARY:Ugly Sweater Crawl Wine Therapy 11:30am-1:30pm
DESCRIPTION:Ugly Sweater Crawl Wine Therapy 11:30am-1:30pm
URL:https://winetherapynmb.com/event/ugly-sweater-crawl-wine-therapy-1130am-130pm/
LOCATION:Wine Therapy of North Myrtle Beach\, 315 Main St.\, North Myrtle Beach\, SC\, 29582\, United States
CATEGORIES:Holiday Event,Wine Tasting
ATTACH;FMTTYPE=image/jpeg:https://winetherapynmb.com/wp-content/uploads/2022/12/Ugly-Sweater-Wine-Therapy-.jpg
END:VEVENT
BEGIN:VEVENT
DTSTART;TZID=America/New_York:20221215T173000
DTEND;TZID=America/New_York:20221215T183000
DTSTAMP:20260423T195609
CREATED:20221213T164726Z
LAST-MODIFIED:20221213T164726Z
UID:2704-1671125400-1671129000@winetherapynmb.com
SUMMARY:Kristal's Christmas California Wine Tasting
DESCRIPTION:Kristal’s Christmas California Wine Tasting
URL:https://winetherapynmb.com/event/kristals-christmas-california-wine-tasting/
LOCATION:Wine Therapy of North Myrtle Beach\, 315 Main St.\, North Myrtle Beach\, SC\, 29582\, United States
CATEGORIES:Holiday Event,Wine Tasting
ATTACH;FMTTYPE=image/png:https://winetherapynmb.com/wp-content/uploads/2022/12/Wine-Therapy-Christmas-Cali-Tasting.png
END:VEVENT
BEGIN:VEVENT
DTSTART;TZID=America/New_York:20221215T173000
DTEND;TZID=America/New_York:20221215T183000
DTSTAMP:20260423T195609
CREATED:20220819T140421Z
LAST-MODIFIED:20220819T140421Z
UID:2305-1671125400-1671129000@winetherapynmb.com
SUMMARY:California Storied Wine Families Wine Tasting
DESCRIPTION:California Storied Wine Families Wine Tasting \nCheck back for lineup of wines and pricing
URL:https://winetherapynmb.com/event/california-storied-wine-families-wine-tasting/
LOCATION:Wine Therapy of North Myrtle Beach\, 315 Main St.\, North Myrtle Beach\, SC\, 29582\, United States
ATTACH;FMTTYPE=image/jpeg:https://winetherapynmb.com/wp-content/uploads/2022/08/IMG_3146.jpg
END:VEVENT
BEGIN:VEVENT
DTSTART;TZID=America/New_York:20221208T173000
DTEND;TZID=America/New_York:20221208T173000
DTSTAMP:20260423T195609
CREATED:20221129T182229Z
LAST-MODIFIED:20221129T182229Z
UID:2634-1670520600-1670520600@winetherapynmb.com
SUMMARY:12 Days of Christmas Tasting part 2
DESCRIPTION:Wines to be determined \n5:30pm
URL:https://winetherapynmb.com/event/12-days-of-christmas-tasting-part-2/
LOCATION:Wine Therapy of North Myrtle Beach\, 315 Main St.\, North Myrtle Beach\, SC\, 29582\, United States
CATEGORIES:Wine Tasting
ATTACH;FMTTYPE=image/jpeg:https://winetherapynmb.com/wp-content/uploads/2022/08/IMG_3146.jpg
ORGANIZER;CN="Wine Therapy of North Myrtle Beach":MAILTO:winetherapyllc@gmail.com
END:VEVENT
BEGIN:VEVENT
DTSTART;TZID=America/New_York:20221202T180000
DTEND;TZID=America/New_York:20221202T210000
DTSTAMP:20260423T195609
CREATED:20221129T181844Z
LAST-MODIFIED:20221129T181844Z
UID:2632-1670004000-1670014800@winetherapynmb.com
SUMMARY:Michelle Loscalzo and Blakeland Harrison Live Music
DESCRIPTION:Michelle Loscalzo and Blakeland Harrison Live Music
URL:https://winetherapynmb.com/event/michelle-loscalzo-and-blakeland-harrison-live-music/
LOCATION:Wine Therapy of North Myrtle Beach\, 315 Main St.\, North Myrtle Beach\, SC\, 29582\, United States
CATEGORIES:Holiday Event,Wine Tasting
ATTACH;FMTTYPE=image/jpeg:https://winetherapynmb.com/wp-content/uploads/2022/08/Michelle-Loscalzo-and-Blakeland-Harrison-scaled.jpg
ORGANIZER;CN="Wine Therapy of North Myrtle Beach":MAILTO:winetherapyllc@gmail.com
END:VEVENT
BEGIN:VEVENT
DTSTART;TZID=America/New_York:20221201T173000
DTEND;TZID=America/New_York:20221201T173000
DTSTAMP:20260423T195609
CREATED:20221129T181445Z
LAST-MODIFIED:20221129T181445Z
UID:2629-1669915800-1669915800@winetherapynmb.com
SUMMARY:Caymus & Austin Hope Wine Tasting 12 Days of Christmas
DESCRIPTION:Caymus & Austin Hope Wine Tasting 12 Days of Christmas \n843-712-5209 call for a reservation $25 pp 6 2oz pours of the wines available.
URL:https://winetherapynmb.com/event/caymus-austin-hope-wine-tasting-12-days-of-christmas/
LOCATION:Wine Therapy of North Myrtle Beach\, 315 Main St.\, North Myrtle Beach\, SC\, 29582\, United States
CATEGORIES:Holiday Event,Wine Tasting
ATTACH;FMTTYPE=image/jpeg:https://winetherapynmb.com/wp-content/uploads/2022/11/Caymus-and-Austin-Hope-1-scaled.jpg
END:VEVENT
BEGIN:VEVENT
DTSTART;TZID=America/New_York:20221128T080000
DTEND;TZID=America/New_York:20221128T170000
DTSTAMP:20260423T195609
CREATED:20221128T222714Z
LAST-MODIFIED:20221128T222714Z
UID:2599-1669622400-1669654800@winetherapynmb.com
SUMMARY:12 Days of Christmas Tasting Austin Hope & Caymus
DESCRIPTION:Enjoy 6 wines and discounted pricing.
URL:https://winetherapynmb.com/event/12-days-of-christmas-tasting-austin-hope-caymus/
LOCATION:Wine Therapy of North Myrtle Beach\, 315 Main St.\, North Myrtle Beach\, SC\, 29582\, United States
ATTACH;FMTTYPE=image/jpeg:https://winetherapynmb.com/wp-content/uploads/2022/11/Caymus-and-Austin-Hope-scaled.jpg
END:VEVENT
BEGIN:VEVENT
DTSTART;VALUE=DATE:20221124
DTEND;VALUE=DATE:20221125
DTSTAMP:20260423T195609
CREATED:20220819T140124Z
LAST-MODIFIED:20220819T140124Z
UID:2301-1669248000-1669334399@winetherapynmb.com
SUMMARY:Happy Thanksgiving Sorry We Are Closed
DESCRIPTION:Happy Thanksgiving Sorry We Are Closed
URL:https://winetherapynmb.com/event/happy-thanksgiving-sorry-we-are-closed/
LOCATION:Wine Therapy of North Myrtle Beach\, 315 Main St.\, North Myrtle Beach\, SC\, 29582\, United States
CATEGORIES:Holiday Event
END:VEVENT
BEGIN:VEVENT
DTSTART;TZID=America/New_York:20221110T173000
DTEND;TZID=America/New_York:20221110T183000
DTSTAMP:20260423T195609
CREATED:20220819T135902Z
LAST-MODIFIED:20220819T135902Z
UID:2299-1668101400-1668105000@winetherapynmb.com
SUMMARY:Bubbles Bubbles Bubbles Sparking Wine Tasting
DESCRIPTION:Placeholder for our Bubbles Bubbles Bubbles Sparking Wine Tasting \nCheck Back for the lineup or wines and pricing as we get closer to the event
URL:https://winetherapynmb.com/event/bubbles-bubbles-bubbles-sparking-wine-tasting/
LOCATION:Wine Therapy of North Myrtle Beach\, 315 Main St.\, North Myrtle Beach\, SC\, 29582\, United States
CATEGORIES:Wine Tasting
ATTACH;FMTTYPE=image/jpeg:https://winetherapynmb.com/wp-content/uploads/2022/08/IMG_3146.jpg
END:VEVENT
BEGIN:VEVENT
DTSTART;TZID=America/New_York:20221105T180000
DTEND;TZID=America/New_York:20221105T210000
DTSTAMP:20260423T195609
CREATED:20220809T194600Z
LAST-MODIFIED:20220809T194600Z
UID:2230-1667671200-1667682000@winetherapynmb.com
SUMMARY:Dustin Chapman & Ryleigh Madison American Idol Contestants Live Music
DESCRIPTION:It’s a family thing!\n\n\nIn recent years\, Dustin Chapman has seen his career flourish as his determination and never-give-up attitude has brought amazing opportunities and recognitions. In recent years\, Chapman has released his debut EP which peaked at #52 on the iTunes Top Country Albums Chart\, won the prestigious “Entertainer of the Year” award at the 2021 Carolina Country Music Awards\, was named Music Mafia Radio’s 2020 Male Artist of the Year\,  Who Hoo’s Independent Country Countdown’s 2020 Entertainer of the Year\, and 2019 single “Plus One” won a World Songwriting Award\, the International Singers-Songwriters Association Awards for Best Male Single of 2020\, and the X-Pose-Ing Music Award for Best Modern Country Song of 2020. Along with that\, his single “Slow Dance” reached new heights for his career\, as it was added to radio stations all over the world\, and the music video was added to several national networks\, including a feature on CMT’s website.  This song was also awarded a World Songwriting Awards for “Best Country Song of Summer 2020\,” along with his song “Baby” ft. Angel Paez which was recognized as the best musical collaboration of 2020. More recently\, Chapman was chosen to be a contestant on season four of American Idol and released his highly-anticipated single “Words & Alibis” which was shared on several national country music radio stations and music video networks.  \n​ \nDustin also has many new projects in the works\, including originals duets he will be recording with his niece\, Ryleigh Madison. Ryleigh\, who is 16 years old\, performs live with Dustin at each of his shows. The powerhouse vocalist channels inspiration from artists like Patsy Cline\, and draws each audience member in with her emotive vocals. Ryleigh released her debut single “Stranger” in November 2020\, and has been recognized as one of the most promising young vocalists in country music. Moreover\, Ryleigh is currently a featured contestant on the historic 20th season of American.  \n\nThe Uncle/Niece duo will be releasing multiple projects throughout 2022\, with their single “Family Thing” recently released in March. Be on the lookout for all the exciting projects from this duo planned throughout the year. 
URL:https://winetherapynmb.com/event/dustin-chapman-ryleigh-madison-american-idol-contestants-live-music/
LOCATION:Wine Therapy of North Myrtle Beach\, 315 Main St.\, North Myrtle Beach\, SC\, 29582\, United States
ATTACH;FMTTYPE=image/jpeg:https://winetherapynmb.com/wp-content/uploads/2022/04/dustin-chapman.jpg
END:VEVENT
BEGIN:VEVENT
DTSTART;TZID=America/New_York:20221029T120000
DTEND;TZID=America/New_York:20221029T190000
DTSTAMP:20260423T195609
CREATED:20220818T193532Z
LAST-MODIFIED:20220818T204904Z
UID:2274-1667044800-1667070000@winetherapynmb.com
SUMMARY:Block Party Dirty Dons Oysters\, GSB Beer & Wine Therapy
DESCRIPTION:\,Join Wine Therapy with our Friends at Grand Strand Brewing Company & Dirty Dons for the Inaugural OYSTERS BEER LIVE MUSIC BLOCK PARTY in the DOWNTOWN ARTS & INNOVATION DISTRICT. \nDATE: 10/29/2022 \nTIME: 12 noon to 7pm \nLOCATED: 819 N Kings Highway\, Myrtle Beach\, SC 29577 \n 
URL:https://winetherapynmb.com/event/block-party-oysters-beer-wine-therapy/
LOCATION:Wine Therapy of North Myrtle Beach\, 315 Main St.\, North Myrtle Beach\, SC\, 29582\, United States
CATEGORIES:Wine Tasting
ATTACH;FMTTYPE=image/jpeg:https://winetherapynmb.com/wp-content/uploads/2022/08/GSB-Dirty-Dons-Event-scaled.jpg
ORGANIZER;CN="Wine Therapy of North Myrtle Beach":MAILTO:winetherapyllc@gmail.com
END:VEVENT
BEGIN:VEVENT
DTSTART;TZID=America/New_York:20221027T173000
DTEND;TZID=America/New_York:20221027T173000
DTSTAMP:20260423T195609
CREATED:20220819T135518Z
LAST-MODIFIED:20220819T135602Z
UID:2297-1666891800-1666891800@winetherapynmb.com
SUMMARY:The Prisoner Family of Wines - Wine Tasting
DESCRIPTION:Placeholder for our Prisoner Family of Wines – Wine Tasting \nCheck Back for the lineup or wines and pricing as we get closer to the event
URL:https://winetherapynmb.com/event/the-prisoner-family-of-wines-wine-tasting/
LOCATION:Wine Therapy of North Myrtle Beach\, 315 Main St.\, North Myrtle Beach\, SC\, 29582\, United States
CATEGORIES:Wine Tasting
ATTACH;FMTTYPE=image/jpeg:https://winetherapynmb.com/wp-content/uploads/2022/08/IMG_3146.jpg
END:VEVENT
BEGIN:VEVENT
DTSTART;TZID=America/New_York:20221020T173000
DTEND;TZID=America/New_York:20221020T193000
DTSTAMP:20260423T195609
CREATED:20220920T194144Z
LAST-MODIFIED:20220920T194222Z
UID:2424-1666287000-1666294200@winetherapynmb.com
SUMMARY:Charity Wine Tasting theoleo to benefit the conservation of North American Wildlife
DESCRIPTION:Home
URL:https://winetherapynmb.com/event/charity-wine-tasting-theoleo-to-benefit/
LOCATION:Wine Therapy of North Myrtle Beach\, 315 Main St.\, North Myrtle Beach\, SC\, 29582\, United States
CATEGORIES:Wine Tasting
ATTACH;FMTTYPE=image/jpeg:https://winetherapynmb.com/wp-content/uploads/2022/09/Wine-Therapy-Charity.jpg
ORGANIZER;CN="Wine Therapy of North Myrtle Beach":MAILTO:winetherapyllc@gmail.com
END:VEVENT
BEGIN:VEVENT
DTSTART;TZID=America/New_York:20221013T173000
DTEND;TZID=America/New_York:20221013T183000
DTSTAMP:20260423T195609
CREATED:20220819T135406Z
LAST-MODIFIED:20220920T194540Z
UID:2295-1665682200-1665685800@winetherapynmb.com
SUMMARY:The Wines of the Judgement of Paris Wine Tasting
DESCRIPTION:We will recreate the 1976 Judgement of Paris with some of the storied wine what placed in this event \nPlaceholder for our Judgement of Paris Wine Tasting \nCheck Back for the lineup or wines and pricing as we get closer to the event
URL:https://winetherapynmb.com/event/the-wines-of-the-judgement-of-paris-wine-tasting/
LOCATION:Wine Therapy of North Myrtle Beach\, 315 Main St.\, North Myrtle Beach\, SC\, 29582\, United States
CATEGORIES:Wine Tasting
ATTACH;FMTTYPE=image/jpeg:https://winetherapynmb.com/wp-content/uploads/2022/08/IMG_3146.jpg
END:VEVENT
BEGIN:VEVENT
DTSTART;TZID=America/New_York:20221006T173000
DTEND;TZID=America/New_York:20221006T183000
DTSTAMP:20260423T195609
CREATED:20220819T141213Z
LAST-MODIFIED:20220819T141213Z
UID:2307-1665077400-1665081000@winetherapynmb.com
SUMMARY:Orin Swift & Dave Phinney Family of Wines - Wine Tasting
DESCRIPTION:Check back for pricing and wine lineup for our Dave Phinney Orin Swift Wine Tasting
URL:https://winetherapynmb.com/event/orin-swift-dave-phinney-family-of-wines-wine-tasting/
LOCATION:Wine Therapy of North Myrtle Beach\, 315 Main St.\, North Myrtle Beach\, SC\, 29582\, United States
CATEGORIES:Wine Tasting
ATTACH;FMTTYPE=image/jpeg:https://winetherapynmb.com/wp-content/uploads/2022/08/IMG_3146.jpg
END:VEVENT
BEGIN:VEVENT
DTSTART;TZID=America/New_York:20220930T173000
DTEND;TZID=America/New_York:20220930T190000
DTSTAMP:20260423T195609
CREATED:20220819T134831Z
LAST-MODIFIED:20220819T134845Z
UID:2288-1664559000-1664564400@winetherapynmb.com
SUMMARY:Caymus Vineyard & Wagner Family Tasting
DESCRIPTION:Please note we have TWO seatings a 5:30pm and 7:30pm \nPlaceholder for our Caymus Vineyard & Wagner Family Tasting \nCheck Back for the lineup or wines and pricing
URL:https://winetherapynmb.com/event/caymus-vineyard-wagner-family-tasting/2022-09-30/
LOCATION:Wine Therapy of North Myrtle Beach\, 315 Main St.\, North Myrtle Beach\, SC\, 29582\, United States
CATEGORIES:Wine Tasting
ATTACH;FMTTYPE=image/jpeg:https://winetherapynmb.com/wp-content/uploads/2021/06/25699be8-e892-4a45-bf45-629f8ec8f642.jpg
END:VEVENT
BEGIN:VEVENT
DTSTART;TZID=America/New_York:20220924T090000
DTEND;TZID=America/New_York:20220924T210000
DTSTAMP:20260423T195609
CREATED:20220920T194922Z
LAST-MODIFIED:20220920T194922Z
UID:2429-1664010000-1664053200@winetherapynmb.com
SUMMARY:NMB Italian Irish Festival Coal Fired Pizza
DESCRIPTION:Join us for Coal Fired Pizza along with your favorite glass of wine or pint of beer.
URL:https://winetherapynmb.com/event/nmb-italian-irish-festival-coal-fired-pizza/
LOCATION:Wine Therapy of North Myrtle Beach\, 315 Main St.\, North Myrtle Beach\, SC\, 29582\, United States
CATEGORIES:Holiday Event,Wine Tasting
ATTACH;FMTTYPE=image/jpeg:https://winetherapynmb.com/wp-content/uploads/2022/09/Irish-Italian-Wine.jpg
END:VEVENT
BEGIN:VEVENT
DTSTART;TZID=America/New_York:20220922T173000
DTEND;TZID=America/New_York:20220922T183000
DTSTAMP:20260423T195609
CREATED:20220819T134420Z
LAST-MODIFIED:20220819T134420Z
UID:2285-1663867800-1663871400@winetherapynmb.com
SUMMARY:Duckhorn Tasting
DESCRIPTION:Placeholder for our Duckhorn Tasting \nCheck Back for the lineup or wines and pricing
URL:https://winetherapynmb.com/event/duckhorn-tasting/
LOCATION:Wine Therapy of North Myrtle Beach\, 315 Main St.\, North Myrtle Beach\, SC\, 29582\, United States
CATEGORIES:Wine Tasting
ATTACH;FMTTYPE=image/jpeg:https://winetherapynmb.com/wp-content/uploads/2022/08/IMG_3146.jpg
END:VEVENT
BEGIN:VEVENT
DTSTART;TZID=America/New_York:20220917T180000
DTEND;TZID=America/New_York:20220917T210000
DTSTAMP:20260423T195609
CREATED:20220809T201914Z
LAST-MODIFIED:20220809T201914Z
UID:2232-1663437600-1663448400@winetherapynmb.com
SUMMARY:Monkey Business Beach Band Live Music
DESCRIPTION:We are excited for this dynamic duo of Beach Band Music!
URL:https://winetherapynmb.com/event/monkey-business-beach-band-live-music/
LOCATION:Wine Therapy of North Myrtle Beach\, 315 Main St.\, North Myrtle Beach\, SC\, 29582\, United States
ATTACH;FMTTYPE=image/jpeg:https://winetherapynmb.com/wp-content/uploads/2022/08/MBBB-cropped-pic.jpg
END:VEVENT
BEGIN:VEVENT
DTSTART;VALUE=DATE:20220917
DTEND;VALUE=DATE:20220918
DTSTAMP:20260423T195609
CREATED:20220810T163524Z
LAST-MODIFIED:20220810T170958Z
UID:2238-1663372800-1663459199@winetherapynmb.com
SUMMARY:Oktoberfest Celebration
DESCRIPTION:We are celebrating Oktoberfest with German Style Marzen Oktoberfest Style Beers from multiple venders.  Come out and try some Festbier & Marzen Styles.  We will have draft and bottle options along with some Bavarian food options.  For our non-beer drinking friends we will have assorted German Wines to enjoy. \nJoin us Sept 17th through October 3rd
URL:https://winetherapynmb.com/event/oktoberfest-celebration/2022-09-17/
LOCATION:Wine Therapy of North Myrtle Beach\, 315 Main St.\, North Myrtle Beach\, SC\, 29582\, United States
ATTACH;FMTTYPE=image/jpeg:https://winetherapynmb.com/wp-content/uploads/2022/08/Oktoberfest-2022.jpg
END:VEVENT
BEGIN:VEVENT
DTSTART;TZID=America/New_York:20220904T120000
DTEND;TZID=America/New_York:20220904T210000
DTSTAMP:20260423T195609
CREATED:20220830T155700Z
LAST-MODIFIED:20220830T155700Z
UID:2376-1662292800-1662325200@winetherapynmb.com
SUMMARY:OPEN SUNDAY & MONDAY Labor Day Weekend
DESCRIPTION:Normally closed on Sunday and Monday we are happy to announce that we will be open this Sunday and Monday for your WINE THERAPY needs! \nWE WILL BE OPEN LABOR DAY WEEKEND \nSUNDAY 12-9pm \nMONDAY 12-9pm
URL:https://winetherapynmb.com/event/open-sunday-monday-labor-day-weekend/2022-09-04/
LOCATION:Wine Therapy of North Myrtle Beach\, 315 Main St.\, North Myrtle Beach\, SC\, 29582\, United States
CATEGORIES:Holiday Event,Wine Tasting
ATTACH;FMTTYPE=image/jpeg:https://winetherapynmb.com/wp-content/uploads/2022/08/Labor-Day-.jpeg
END:VEVENT
BEGIN:VEVENT
DTSTART;TZID=America/New_York:20220902T180000
DTEND;TZID=America/New_York:20220902T180000
DTSTAMP:20260423T195609
CREATED:20220823T202525Z
LAST-MODIFIED:20220823T202525Z
UID:2349-1662141600-1662141600@winetherapynmb.com
SUMMARY:Introducing the duo of Michelle Loscalzo & Blakeland Harrison
DESCRIPTION:Introducing the duo of Michelle Loscalzo & Blakeland Harrison 6-9pm Live Music \n 
URL:https://winetherapynmb.com/event/introducing-the-duo-of-michelle-loscalzo-blakeland-harrison/
LOCATION:Wine Therapy of North Myrtle Beach\, 315 Main St.\, North Myrtle Beach\, SC\, 29582\, United States
ATTACH;FMTTYPE=image/jpeg:https://winetherapynmb.com/wp-content/uploads/2022/08/Michelle-Loscalzo-and-Blakeland-Harrison-scaled.jpg
ORGANIZER;CN="Wine Therapy of North Myrtle Beach":MAILTO:winetherapyllc@gmail.com
END:VEVENT
BEGIN:VEVENT
DTSTART;TZID=America/New_York:20220901T173000
DTEND;TZID=America/New_York:20220901T190000
DTSTAMP:20260423T195609
CREATED:20220830T154148Z
LAST-MODIFIED:20220830T154148Z
UID:2373-1662053400-1662058800@winetherapynmb.com
SUMMARY:Italian Wine Tasting
DESCRIPTION:Join us Thursday Sept 1st at 5:30pm for a deep dive into Italy and some interesting grape varietals. \nDonna Fugata – Zibibbo\nCiacci Piccolomini d’Aragona – Super Tuscan\nVigneti Del Sole – Montepulciano d’Abruzzo\nDamilano – Nebbiolo \n$12 pp tasting pair with Italian Cheese & Meats for $22 more. \nCall /text 843-712-5209 to reserve your spot. \nWINE THERAPY\n681 Main St\, NMB\, SC 29582\n843-712-5209\nwww.winetherapynmb.co
URL:https://winetherapynmb.com/event/italian-wine-tasting/
LOCATION:Wine Therapy of North Myrtle Beach\, 315 Main St.\, North Myrtle Beach\, SC\, 29582\, United States
CATEGORIES:Wine Tasting
ATTACH;FMTTYPE=image/jpeg:https://winetherapynmb.com/wp-content/uploads/2022/08/Italian-Tasting-scaled.jpg
END:VEVENT
BEGIN:VEVENT
DTSTART;VALUE=DATE:20220828
DTEND;VALUE=DATE:20220829
DTSTAMP:20260423T195609
CREATED:20220823T200927Z
LAST-MODIFIED:20220823T201219Z
UID:2327-1661644800-1661731199@winetherapynmb.com
SUMMARY:We Will Host Your Private Party on Sunday
DESCRIPTION:We will be happy to host your private party.\nInquire about Sunday throughout the year.\nWe are happy to host your…\nbaby shower\nwedding shower\nbirthday\nfamily reunion\nanniversary\ngraduation\nretirement\nbook clubs \n\nOr any get together you can imagine! \nWe can also arrange music for your event as well. \nEmail us at WineTherapyLLC@gmail.com or call/text 843-712-5209 to inquire about packages available. \n 
URL:https://winetherapynmb.com/event/we-will-host-your-private-party-on-sunday/2022-08-28/
LOCATION:Wine Therapy of North Myrtle Beach\, 315 Main St.\, North Myrtle Beach\, SC\, 29582\, United States
CATEGORIES:Holiday Event,Wine Tasting
ATTACH;FMTTYPE=image/jpeg:https://winetherapynmb.com/wp-content/uploads/2022/08/Private-Party-scaled.jpeg
END:VEVENT
BEGIN:VEVENT
DTSTART;TZID=America/New_York:20220825T173000
DTEND;TZID=America/New_York:20220825T203000
DTSTAMP:20260423T195609
CREATED:20220804T234651Z
LAST-MODIFIED:20220804T235414Z
UID:2183-1661448600-1661459400@winetherapynmb.com
SUMMARY:Bordeaux Wine Tasting with John Hubbard from Grapevine Fine Wine
DESCRIPTION:Bordeaux Wine Tasting with John Hubbard from Grapevine Fine Wine \nBringing family made wines from around the world to the families of the Carolinas
URL:https://winetherapynmb.com/event/bordeaux-wine-tasting-with-john-hubbard-from-grapevine-fine-wine/
LOCATION:Wine Therapy of North Myrtle Beach\, 315 Main St.\, North Myrtle Beach\, SC\, 29582\, United States
CATEGORIES:Wine Tasting
ATTACH;FMTTYPE=image/jpeg:https://winetherapynmb.com/wp-content/uploads/2022/08/John-Hubbard-from-Grapevine-Fine-Wine-scaled.jpg
END:VEVENT
BEGIN:VEVENT
DTSTART;VALUE=DATE:20220824
DTEND;VALUE=DATE:20220825
DTSTAMP:20260423T195609
CREATED:20220823T184318Z
LAST-MODIFIED:20220823T184318Z
UID:2315-1661299200-1661385599@winetherapynmb.com
SUMMARY:Wagner Winedown Wednesday Charcuterie & Bottle Special
DESCRIPTION:Wagner Winedown Wednesday Charcuterie & Bottle Special \nJoin us each Wednesday all day for a Bottle of the any Wagner Family of Wine including Caymus Vineyards Selections with Charcuterie. \nWines within the Wagner Portfolio will change over time as availability and inventory changes. \nMust purchase a charcuterie board to get the bottle pricing.
URL:https://winetherapynmb.com/event/wagner-winedown-wednesday-charcuterie-bottle-special/2022-08-24/
LOCATION:Wine Therapy of North Myrtle Beach\, 315 Main St.\, North Myrtle Beach\, SC\, 29582\, United States
CATEGORIES:Wine Tasting
ATTACH;FMTTYPE=image/jpeg:https://winetherapynmb.com/wp-content/uploads/2022/08/Winedown-Wagner-Wednesday.jpg
END:VEVENT
BEGIN:VEVENT
DTSTART;TZID=America/New_York:20220818T173000
DTEND;TZID=America/New_York:20220818T203000
DTSTAMP:20260423T195609
CREATED:20220804T235027Z
LAST-MODIFIED:20220804T235117Z
UID:2186-1660843800-1660854600@winetherapynmb.com
SUMMARY:Sparkling Wine Tasting with Hillary from Winebow Fine Wine
DESCRIPTION:Sparkling Wine Tasting with Hillary from Winebow Fine Wine \nWinebow is a national importer and distributor that offers a dynamic portfolio of fine wine and spirits from around the world. \nWith a commitment to exceptional service\, our vision is to inspire a passion for fine wine and spirits nationwide.
URL:https://winetherapynmb.com/event/sparkling-wine-tasting-with-hillary-from-winebow-fine-wine/
LOCATION:Wine Therapy of North Myrtle Beach\, 315 Main St.\, North Myrtle Beach\, SC\, 29582\, United States
ATTACH;FMTTYPE=image/jpeg:https://winetherapynmb.com/wp-content/uploads/2022/08/Winebow-Fine-Wine-scaled.jpeg
END:VEVENT
BEGIN:VEVENT
DTSTART;TZID=America/New_York:20220811T173000
DTEND;TZID=America/New_York:20220811T203000
DTSTAMP:20260423T195609
CREATED:20220804T234147Z
LAST-MODIFIED:20220804T234147Z
UID:2179-1660239000-1660249800@winetherapynmb.com
SUMMARY:Far Niente Family of Wine Tasting
DESCRIPTION:Discover the timeless magic of Far Niente\, the Napa Valley Wine Estate.\nFar Niente is consistently recognized as a benchmark producer of Napa Valley Chardonnay and Cabernet Sauvignon. Ours is an unparalleled level of time-honored winemaking traditions. \nThere’s not one aspect of Far Niente that isn’t touched by our passion and precision. From the moment we open our gates to your first sip of our wines\, you are transported to a place and experience unrivaled in excellence.
URL:https://winetherapynmb.com/event/far-niente-family-of-wine-tasting/
LOCATION:Wine Therapy of North Myrtle Beach\, 315 Main St.\, North Myrtle Beach\, SC\, 29582\, United States
CATEGORIES:Wine Tasting
ATTACH;FMTTYPE=image/jpeg:https://winetherapynmb.com/wp-content/uploads/2022/08/far-nite-scaled.jpg
END:VEVENT
BEGIN:VEVENT
DTSTART;TZID=America/New_York:20220805T180000
DTEND;TZID=America/New_York:20220805T210000
DTSTAMP:20260423T195609
CREATED:20220714T151637Z
LAST-MODIFIED:20220714T151637Z
UID:2068-1659722400-1659733200@winetherapynmb.com
SUMMARY:Erik Hawks
DESCRIPTION:Erik Hawks Country Music \nBorn and raised in North Carolina\, singer/songwriter Erik Hawks has always had a deep love for country music. \nInfluenced by such artists as Vince Gill\, Ryan Adams\, and Chris Stapleton\, he hangs his hat on writing deep\, emotional songs that strive to be both personal and relatable. \nErik Hawks Country Music Website
URL:https://winetherapynmb.com/event/erik-hawks/
LOCATION:Wine Therapy of North Myrtle Beach\, 315 Main St.\, North Myrtle Beach\, SC\, 29582\, United States
ATTACH;FMTTYPE=image/jpeg:https://winetherapynmb.com/wp-content/uploads/2022/07/erik-hawks-01.jpg
END:VEVENT
BEGIN:VEVENT
DTSTART;TZID=America/New_York:20220804T170000
DTEND;TZID=America/New_York:20220804T210000
DTSTAMP:20260423T195609
CREATED:20220714T215923Z
LAST-MODIFIED:20220714T215923Z
UID:2064-1659632400-1659646800@winetherapynmb.com
SUMMARY:Joseph Wagner Wine Tasting
DESCRIPTION:Join us as we taste through 4 world renowned Joseph Wagner wines (Son of Caymus founder). \nAugust 4th @ 5:30pm $18 per person with discounted pricing on the portfolio that night. \nCall 843-712-5209 to reserve your spot.
URL:https://winetherapynmb.com/event/joseph-wagner-wine-tasting/
LOCATION:SC
CATEGORIES:Wine Tasting
ATTACH;FMTTYPE=image/jpeg:https://winetherapynmb.com/wp-content/uploads/2022/07/joseph-wagner-wines-2.jpg
END:VEVENT
END:VCALENDAR