BEGIN:VCALENDAR
VERSION:2.0
PRODID:-//Wine Therapy of North Myrtle Beach - ECPv6.15.20//NONSGML v1.0//EN
CALSCALE:GREGORIAN
METHOD:PUBLISH
X-WR-CALNAME:Wine Therapy of North Myrtle Beach
X-ORIGINAL-URL:https://winetherapynmb.com
X-WR-CALDESC:Events for Wine Therapy of North Myrtle Beach
REFRESH-INTERVAL;VALUE=DURATION:PT1H
X-Robots-Tag:noindex
X-PUBLISHED-TTL:PT1H
BEGIN:VTIMEZONE
TZID:UTC
BEGIN:STANDARD
TZOFFSETFROM:+0000
TZOFFSETTO:+0000
TZNAME:UTC
DTSTART:20200101T000000
END:STANDARD
END:VTIMEZONE
BEGIN:VEVENT
DTSTART;TZID=UTC:20220222T160000
DTEND;TZID=UTC:20220222T180000
DTSTAMP:20260423T192609
CREATED:20220207T230326Z
LAST-MODIFIED:20220207T230326Z
UID:1342-1645545600-1645552800@winetherapynmb.com
SUMMARY:Beth McLean Financial Advisor Discussing Current Market Events
DESCRIPTION:
URL:https://winetherapynmb.com/event/beth-mclean-financial-advisor-discussing-current-market-events/
LOCATION:SC
END:VEVENT
BEGIN:VEVENT
DTSTART;TZID=UTC:20220218T170000
DTEND;TZID=UTC:20220218T190000
DTSTAMP:20260423T192609
CREATED:20220207T230119Z
LAST-MODIFIED:20220207T230247Z
UID:1340-1645203600-1645210800@winetherapynmb.com
SUMMARY:Wine Tasting with Dave and Jane Lello Owners of Stellekaya from South Africa
DESCRIPTION:$15 per person includes a souvenir glass
URL:https://winetherapynmb.com/event/wine-tasting-with-dave-and-jane-lello-owners-of-stellekaya-from-south-africa/
LOCATION:SC
END:VEVENT
BEGIN:VEVENT
DTSTART;TZID=UTC:20220217T173000
DTEND;TZID=UTC:20220217T193000
DTSTAMP:20260423T192609
CREATED:20211020T130958Z
LAST-MODIFIED:20211020T131053Z
UID:987-1645119000-1645126200@winetherapynmb.com
SUMMARY:Wine Therapy for February's Business After Hours
DESCRIPTION:Located within the new Shops on Main\, Wine Therapy allows you to enjoy wine tasting from old world to new world from around the globe. Wine tastings including by the glass or by flight\, and paring with Cheeses\, charcuterie boards\, and desserts. \nBusiness After Hours\, typically held on the third Thursday of every month\, gives investors/partners and individuals the opportunity to network\, learn more about the host business of the month\, and enjoy each other’s company in a social setting. \nBusiness After Hours events are an immeasurable opportunity for a hosting investors/partners to showcase their business!
URL:https://winetherapynmb.com/event/wine-therapy-for-februarys-business-after-hours/
LOCATION:SC
ATTACH;FMTTYPE=image/jpeg:https://winetherapynmb.com/wp-content/uploads/2021/10/IMG_5071.jpg
END:VEVENT
BEGIN:VEVENT
DTSTART;TZID=UTC:20220211T180000
DTEND;TZID=UTC:20220211T210000
DTSTAMP:20260423T192609
CREATED:20211125T003522Z
LAST-MODIFIED:20211207T073332Z
UID:1151-1644602400-1644613200@winetherapynmb.com
SUMMARY:Greg Rowles Live Music
DESCRIPTION:
URL:https://winetherapynmb.com/event/greg-rowles-live-music-2/
LOCATION:SC
ATTACH;FMTTYPE=image/jpeg:https://winetherapynmb.com/wp-content/uploads/2021/11/IMG_5660-scaled.jpg
END:VEVENT
BEGIN:VEVENT
DTSTART;TZID=UTC:20220210T170000
DTEND;TZID=UTC:20220210T180000
DTSTAMP:20260423T192609
CREATED:20220207T224218Z
LAST-MODIFIED:20220207T224640Z
UID:1334-1644512400-1644516000@winetherapynmb.com
SUMMARY:Complimentary Spanish Wine Tasting
DESCRIPTION:
URL:https://winetherapynmb.com/event/complimentary-spanish-wine-tasting/
LOCATION:SC
END:VEVENT
BEGIN:VEVENT
DTSTART;TZID=UTC:20220204T180000
DTEND;TZID=UTC:20220204T210000
DTSTAMP:20260423T192609
CREATED:20211002T001310Z
LAST-MODIFIED:20211020T141034Z
UID:920-1643997600-1644008400@winetherapynmb.com
SUMMARY:Jimmy "O" Live Music
DESCRIPTION:
URL:https://winetherapynmb.com/event/jimmy-o-8/
LOCATION:SC
ATTACH;FMTTYPE=image/jpeg:https://winetherapynmb.com/wp-content/uploads/2021/10/IMG_4709-1.jpg
END:VEVENT
BEGIN:VEVENT
DTSTART;TZID=UTC:20220202T180000
DTEND;TZID=UTC:20220202T210000
DTSTAMP:20260423T192609
CREATED:20211020T131530Z
LAST-MODIFIED:20211020T141955Z
UID:990-1643824800-1643835600@winetherapynmb.com
SUMMARY:Cyndi Wheeler Nashville Recording Artist Live Music
DESCRIPTION:
URL:https://winetherapynmb.com/event/cyndi-wheeler-nashville-recording-artist-live-music/
LOCATION:SC
ATTACH;FMTTYPE=image/jpeg:https://winetherapynmb.com/wp-content/uploads/2021/10/Cindy-Wheeler.jpg
END:VEVENT
BEGIN:VEVENT
DTSTART;TZID=UTC:20220115T180000
DTEND;TZID=UTC:20220115T210000
DTSTAMP:20260423T192609
CREATED:20211125T003118Z
LAST-MODIFIED:20211207T073337Z
UID:1149-1642269600-1642280400@winetherapynmb.com
SUMMARY:Greg Rowles Live Music
DESCRIPTION:
URL:https://winetherapynmb.com/event/greg-rowles-live-music/
LOCATION:SC
ATTACH;FMTTYPE=image/jpeg:https://winetherapynmb.com/wp-content/uploads/2021/11/IMG_5660-scaled.jpg
END:VEVENT
BEGIN:VEVENT
DTSTART;TZID=UTC:20220113T170000
DTEND;TZID=UTC:20220113T170000
DTSTAMP:20260423T192609
CREATED:20211207T072111Z
LAST-MODIFIED:20211207T072814Z
UID:1208-1642093200-1642093200@winetherapynmb.com
SUMMARY:Napa Ca Premium Wine Tasting
DESCRIPTION:
URL:https://winetherapynmb.com/event/napa-ca-premium-wine-tasting/
LOCATION:SC
ATTACH;FMTTYPE=image/jpeg:https://winetherapynmb.com/wp-content/uploads/2021/11/IMG_5659-1-scaled.jpg
END:VEVENT
BEGIN:VEVENT
DTSTART;TZID=UTC:20220107T180000
DTEND;TZID=UTC:20220107T210000
DTSTAMP:20260423T192609
CREATED:20211002T000953Z
LAST-MODIFIED:20211020T141043Z
UID:917-1641578400-1641589200@winetherapynmb.com
SUMMARY:Jimmy "O" Live Music
DESCRIPTION:
URL:https://winetherapynmb.com/event/jimmy-o-7/
LOCATION:SC
ATTACH;FMTTYPE=image/jpeg:https://winetherapynmb.com/wp-content/uploads/2021/10/IMG_4709.jpg
END:VEVENT
BEGIN:VEVENT
DTSTART;TZID=UTC:20211223T180000
DTEND;TZID=UTC:20211223T210000
DTSTAMP:20260423T192609
CREATED:20211213T113905Z
LAST-MODIFIED:20211213T145549Z
UID:1227-1640282400-1640293200@winetherapynmb.com
SUMMARY:Duster
DESCRIPTION:
URL:https://winetherapynmb.com/event/duster/
LOCATION:SC
ATTACH;FMTTYPE=image/jpeg:https://winetherapynmb.com/wp-content/uploads/2021/12/IMG_5781.jpg
END:VEVENT
BEGIN:VEVENT
DTSTART;TZID=UTC:20211217T180000
DTEND;TZID=UTC:20211217T210000
DTSTAMP:20260423T192609
CREATED:20210824T123454Z
LAST-MODIFIED:20210825T104436Z
UID:800-1639764000-1639774800@winetherapynmb.com
SUMMARY:Cyndi Wheeler
DESCRIPTION:
URL:https://winetherapynmb.com/event/cyndi-wheeler-3/
LOCATION:Wine Therapy of North Myrtle Beach\, 315 Main St.\, North Myrtle Beach\, SC\, 29582\, United States
ATTACH;FMTTYPE=image/jpeg:https://winetherapynmb.com/wp-content/uploads/2021/08/Cindy-Wheeler.jpg
END:VEVENT
BEGIN:VEVENT
DTSTART;TZID=UTC:20211210T180000
DTEND;TZID=UTC:20211210T210000
DTSTAMP:20260423T192609
CREATED:20210824T111310Z
LAST-MODIFIED:20210825T104250Z
UID:792-1639159200-1639170000@winetherapynmb.com
SUMMARY:Paige King Johnson  Blend of Country and Holiday Music
DESCRIPTION:
URL:https://winetherapynmb.com/event/paige-king-johnson-blend-of-country-and-holiday-music-2/
LOCATION:Wine Therapy of North Myrtle Beach\, 315 Main St.\, North Myrtle Beach\, SC\, 29582\, United States
ATTACH;FMTTYPE=image/png:https://winetherapynmb.com/wp-content/uploads/2021/08/Paige-King-Johnson.png
END:VEVENT
BEGIN:VEVENT
DTSTART;VALUE=DATE:20211209
DTEND;VALUE=DATE:20211210
DTSTAMP:20260423T192609
CREATED:20211125T015638Z
LAST-MODIFIED:20211207T071629Z
UID:1184-1639008000-1639094399@winetherapynmb.com
SUMMARY:J Lohr Premium Wine Tasting
DESCRIPTION:
URL:https://winetherapynmb.com/event/j-lohr-premium-wine-tasting/
LOCATION:SC
ATTACH;FMTTYPE=image/jpeg:https://winetherapynmb.com/wp-content/uploads/2021/11/IMG_5586.jpg
END:VEVENT
BEGIN:VEVENT
DTSTART;VALUE=DATE:20211203
DTEND;VALUE=DATE:20211204
DTSTAMP:20260423T192609
CREATED:20211125T013343Z
LAST-MODIFIED:20211125T013343Z
UID:1174-1638489600-1638575999@winetherapynmb.com
SUMMARY:Jimmy "O" Live Music
DESCRIPTION:
URL:https://winetherapynmb.com/event/jimmy-o-live-music/
LOCATION:SC
ATTACH;FMTTYPE=image/jpeg:https://winetherapynmb.com/wp-content/uploads/2021/09/IMG_3400-0001-1-scaled.jpg
END:VEVENT
BEGIN:VEVENT
DTSTART;TZID=UTC:20211112T180000
DTEND;TZID=UTC:20211112T210000
DTSTAMP:20260423T192609
CREATED:20210824T110220Z
LAST-MODIFIED:20210825T104231Z
UID:789-1636740000-1636750800@winetherapynmb.com
SUMMARY:Paige King Johnson  Blend of Country and Holiday Music
DESCRIPTION:
URL:https://winetherapynmb.com/event/paige-king-johnson-blend-of-country-and-holiday-music/
LOCATION:Wine Therapy of North Myrtle Beach\, 315 Main St.\, North Myrtle Beach\, SC\, 29582\, United States
ATTACH;FMTTYPE=image/png:https://winetherapynmb.com/wp-content/uploads/2021/08/Paige-King-Johnson.png
END:VEVENT
BEGIN:VEVENT
DTSTART;TZID=UTC:20211111T170000
DTEND;TZID=UTC:20211111T180000
DTSTAMP:20260423T192609
CREATED:20211108T191100Z
LAST-MODIFIED:20211108T195555Z
UID:1124-1636650000-1636653600@winetherapynmb.com
SUMMARY:Justin Wine Tasting
DESCRIPTION:Reservations (843) 712-5209 \n$18 per person Premium Wine Tasting
URL:https://winetherapynmb.com/event/justin-wine-tasting/
LOCATION:SC
ATTACH;FMTTYPE=image/jpeg:https://winetherapynmb.com/wp-content/uploads/2021/11/IMG_5241-scaled.jpg
END:VEVENT
BEGIN:VEVENT
DTSTART;TZID=UTC:20211105T180000
DTEND;TZID=UTC:20211105T210000
DTSTAMP:20260423T192609
CREATED:20210824T123352Z
LAST-MODIFIED:20210825T104333Z
UID:798-1636135200-1636146000@winetherapynmb.com
SUMMARY:Cyndi Wheeler
DESCRIPTION:
URL:https://winetherapynmb.com/event/cyndi-wheeler-2/
LOCATION:Wine Therapy of North Myrtle Beach\, 315 Main St.\, North Myrtle Beach\, SC\, 29582\, United States
ATTACH;FMTTYPE=image/jpeg:https://winetherapynmb.com/wp-content/uploads/2021/08/Cindy-Wheeler.jpg
END:VEVENT
BEGIN:VEVENT
DTSTART;TZID=UTC:20211104T170000
DTEND;TZID=UTC:20211104T190000
DTSTAMP:20260423T192609
CREATED:20211020T124932Z
LAST-MODIFIED:20211020T124956Z
UID:981-1636045200-1636052400@winetherapynmb.com
SUMMARY:Beer and Wine Tasting Couples Event
DESCRIPTION:
URL:https://winetherapynmb.com/event/beer-and-wine-tasting-couples-event/
LOCATION:SC
ATTACH;FMTTYPE=image/jpeg:https://winetherapynmb.com/wp-content/uploads/2021/10/IMG_4910.jpg
END:VEVENT
BEGIN:VEVENT
DTSTART;TZID=UTC:20211030T180000
DTEND;TZID=UTC:20211030T210000
DTSTAMP:20260423T192609
CREATED:20210929T165526Z
LAST-MODIFIED:20211020T141421Z
UID:888-1635616800-1635627600@winetherapynmb.com
SUMMARY:Jimmy "O" Live Music
DESCRIPTION:
URL:https://winetherapynmb.com/event/jimmy-o-6/
LOCATION:SC
ATTACH;FMTTYPE=image/jpeg:https://winetherapynmb.com/wp-content/uploads/2021/09/IMG_4667.jpg
END:VEVENT
BEGIN:VEVENT
DTSTART;TZID=UTC:20211028T170000
DTEND;TZID=UTC:20211028T180000
DTSTAMP:20260423T192609
CREATED:20211020T124011Z
LAST-MODIFIED:20211020T170822Z
UID:978-1635440400-1635444000@winetherapynmb.com
SUMMARY:Orin Swift Wine Tasting
DESCRIPTION:Reservation Only $18 per person \n4 2oz pours of Premium Wine
URL:https://winetherapynmb.com/event/orin-swift-wine-tasting/
LOCATION:SC
ATTACH;FMTTYPE=image/jpeg:https://winetherapynmb.com/wp-content/uploads/2021/10/IMG_5068.jpg
END:VEVENT
BEGIN:VEVENT
DTSTART;TZID=UTC:20211027T180000
DTEND;TZID=UTC:20211027T180000
DTSTAMP:20260423T192609
CREATED:20211020T125135Z
LAST-MODIFIED:20211020T165951Z
UID:984-1635357600-1635357600@winetherapynmb.com
SUMMARY:Wine and Dessert Pairing & Tasting Event
DESCRIPTION:Wed Oct 27th 6pm – Till
URL:https://winetherapynmb.com/event/wine-and-dessert-pairing-tasting-event/
LOCATION:SC
ATTACH;FMTTYPE=image/jpeg:https://winetherapynmb.com/wp-content/uploads/2021/10/IMG_4874.jpg
END:VEVENT
BEGIN:VEVENT
DTSTART;VALUE=DATE:20211027
DTEND;VALUE=DATE:20211028
DTSTAMP:20260423T192609
CREATED:20211021T071140Z
LAST-MODIFIED:20211021T072827Z
UID:1058-1635292800-1635379199@winetherapynmb.com
SUMMARY:Wine Down Wednesday
DESCRIPTION:
URL:https://winetherapynmb.com/event/wine-down-wednesday/2021-10-27/
LOCATION:SC
ATTACH;FMTTYPE=image/jpeg:https://winetherapynmb.com/wp-content/uploads/2021/10/IMG_5086.jpg
END:VEVENT
BEGIN:VEVENT
DTSTART;TZID=UTC:20211022T180000
DTEND;TZID=UTC:20211022T210000
DTSTAMP:20260423T192609
CREATED:20211021T070942Z
LAST-MODIFIED:20211021T071827Z
UID:1056-1634925600-1634936400@winetherapynmb.com
SUMMARY:Jeff Thomas Live Music
DESCRIPTION:
URL:https://winetherapynmb.com/event/jeff-thomas-live-music/
LOCATION:SC
ATTACH;FMTTYPE=image/jpeg:https://winetherapynmb.com/wp-content/uploads/2021/10/FB_IMG_1608615252175.jpg
END:VEVENT
BEGIN:VEVENT
DTSTART;TZID=UTC:20211021T170000
DTEND;TZID=UTC:20211021T180000
DTSTAMP:20260423T192609
CREATED:20211009T233432Z
LAST-MODIFIED:20211009T233432Z
UID:959-1634835600-1634839200@winetherapynmb.com
SUMMARY:Complimentary Wine Tasting
DESCRIPTION:Spanish Sparkling – Cava
URL:https://winetherapynmb.com/event/complimentary-wine-tasting/
LOCATION:SC
ATTACH;FMTTYPE=image/jpeg:https://winetherapynmb.com/wp-content/uploads/2021/10/2021-10-09_14-19-17_842.jpeg
END:VEVENT
BEGIN:VEVENT
DTSTART;TZID=UTC:20211016T160000
DTEND;TZID=UTC:20211016T180000
DTSTAMP:20260423T192609
CREATED:20211009T234308Z
LAST-MODIFIED:20211009T234308Z
UID:965-1634400000-1634407200@winetherapynmb.com
SUMMARY:OFF the VINE Tasting
DESCRIPTION:
URL:https://winetherapynmb.com/event/off-the-vine-tasting/
LOCATION:SC
ATTACH;FMTTYPE=image/jpeg:https://winetherapynmb.com/wp-content/uploads/2021/10/Event-10.16.21-scaled.jpeg
END:VEVENT
BEGIN:VEVENT
DTSTART;TZID=UTC:20211014T170000
DTEND;TZID=UTC:20211014T180000
DTSTAMP:20260423T192609
CREATED:20211009T233903Z
LAST-MODIFIED:20211009T233903Z
UID:962-1634230800-1634234400@winetherapynmb.com
SUMMARY:Complimentary Wine Tasting
DESCRIPTION:THE FREAKSHOW Wines
URL:https://winetherapynmb.com/event/complimentary-wine-tasting-2/
LOCATION:SC
ATTACH;FMTTYPE=image/jpeg:https://winetherapynmb.com/wp-content/uploads/2021/10/2021-10-09_13-20-37_280.jpeg
END:VEVENT
BEGIN:VEVENT
DTSTART;TZID=UTC:20211013T180000
DTEND;TZID=UTC:20211013T210000
DTSTAMP:20260423T192609
CREATED:20210824T112250Z
LAST-MODIFIED:20210825T104443Z
UID:794-1634148000-1634158800@winetherapynmb.com
SUMMARY:Cyndi Wheeler
DESCRIPTION:
URL:https://winetherapynmb.com/event/cyndi-wheeler/
LOCATION:Wine Therapy of North Myrtle Beach\, 315 Main St.\, North Myrtle Beach\, SC\, 29582\, United States
ATTACH;FMTTYPE=image/jpeg:https://winetherapynmb.com/wp-content/uploads/2021/08/Cindy-Wheeler.jpg
END:VEVENT
BEGIN:VEVENT
DTSTART;TZID=UTC:20211009T180000
DTEND;TZID=UTC:20211009T210000
DTSTAMP:20260423T192609
CREATED:20210929T165428Z
LAST-MODIFIED:20211020T141142Z
UID:886-1633802400-1633813200@winetherapynmb.com
SUMMARY:Jimmy "O" Live Music
DESCRIPTION:
URL:https://winetherapynmb.com/event/jimmy-o-5/
LOCATION:SC
ATTACH;FMTTYPE=image/jpeg:https://winetherapynmb.com/wp-content/uploads/2021/09/IMG_3400-0001-1-scaled.jpg
END:VEVENT
BEGIN:VEVENT
DTSTART;TZID=UTC:20210930T170000
DTEND;TZID=UTC:20210930T180000
DTSTAMP:20260423T192609
CREATED:20210929T165152Z
LAST-MODIFIED:20210929T171050Z
UID:883-1633021200-1633024800@winetherapynmb.com
SUMMARY:The Prisoner Wine Tasting
DESCRIPTION:
URL:https://winetherapynmb.com/event/the-prisoner-wine-tasting/
LOCATION:SC
ATTACH;FMTTYPE=image/jpeg:https://winetherapynmb.com/wp-content/uploads/2021/09/IMG_4629.jpg
END:VEVENT
END:VCALENDAR