BEGIN:VCALENDAR
VERSION:2.0
PRODID:-//Wine Therapy of North Myrtle Beach - ECPv6.15.20//NONSGML v1.0//EN
CALSCALE:GREGORIAN
METHOD:PUBLISH
X-WR-CALNAME:Wine Therapy of North Myrtle Beach
X-ORIGINAL-URL:https://winetherapynmb.com
X-WR-CALDESC:Events for Wine Therapy of North Myrtle Beach
REFRESH-INTERVAL;VALUE=DURATION:PT1H
X-Robots-Tag:noindex
X-PUBLISHED-TTL:PT1H
BEGIN:VTIMEZONE
TZID:UTC
BEGIN:STANDARD
TZOFFSETFROM:+0000
TZOFFSETTO:+0000
TZNAME:UTC
DTSTART:20200101T000000
END:STANDARD
END:VTIMEZONE
BEGIN:VEVENT
DTSTART;TZID=UTC:20220407T173000
DTEND;TZID=UTC:20220407T183000
DTSTAMP:20260423T114710
CREATED:20220220T053235Z
LAST-MODIFIED:20220220T065311Z
UID:1412-1649352600-1649356200@winetherapynmb.com
SUMMARY:Therapy for the Rebellious\, Riddler\, Pessimist and Troublemaker in Us All
DESCRIPTION:
URL:https://winetherapynmb.com/event/therapy-for-the-rebellious-riddler-pessimist-and-troublemaker-in-us-all/
LOCATION:SC
ATTACH;FMTTYPE=image/jpeg:https://winetherapynmb.com/wp-content/uploads/2022/02/IMG_6912-scaled.jpg
END:VEVENT
BEGIN:VEVENT
DTSTART;TZID=UTC:20220406T173000
DTEND;TZID=UTC:20220406T193000
DTSTAMP:20260423T114710
CREATED:20220311T013450Z
LAST-MODIFIED:20220311T013711Z
UID:1515-1649266200-1649273400@winetherapynmb.com
SUMMARY:Wine Tasting and Pairing Event  ​
DESCRIPTION:
URL:https://winetherapynmb.com/event/wine-tasting-and-pairing-event/
LOCATION:SC
ATTACH;FMTTYPE=image/jpeg:https://winetherapynmb.com/wp-content/uploads/2022/03/wineWednesday-with-the-Wine-Yogi.jpg
END:VEVENT
BEGIN:VEVENT
DTSTART;TZID=UTC:20220402T180000
DTEND;TZID=UTC:20220402T210000
DTSTAMP:20260423T114710
CREATED:20210929T165734Z
LAST-MODIFIED:20210929T170524Z
UID:890-1648922400-1648933200@winetherapynmb.com
SUMMARY:Cyndi Wheeler
DESCRIPTION:
URL:https://winetherapynmb.com/event/cyndi-wheeler-4/
LOCATION:SC
ATTACH;FMTTYPE=image/jpeg:https://winetherapynmb.com/wp-content/uploads/2021/08/Cindy-Wheeler.jpg
END:VEVENT
BEGIN:VEVENT
DTSTART;TZID=UTC:20220401T180000
DTEND;TZID=UTC:20220401T210000
DTSTAMP:20260423T114710
CREATED:20211002T161239Z
LAST-MODIFIED:20211020T141018Z
UID:928-1648836000-1648846800@winetherapynmb.com
SUMMARY:Jimmy "O" Live Music
DESCRIPTION:
URL:https://winetherapynmb.com/event/jimmy-o-10/
LOCATION:SC
ATTACH;FMTTYPE=image/jpeg:https://winetherapynmb.com/wp-content/uploads/2021/10/IMG_4709-3.jpg
END:VEVENT
BEGIN:VEVENT
DTSTART;TZID=UTC:20220326T180000
DTEND;TZID=UTC:20220326T210000
DTSTAMP:20260423T114710
CREATED:20220225T232720Z
LAST-MODIFIED:20220225T232720Z
UID:1461-1648317600-1648328400@winetherapynmb.com
SUMMARY:Live Music Mike Hall
DESCRIPTION:
URL:https://winetherapynmb.com/event/live-music-mike-hall/
LOCATION:SC
ATTACH;FMTTYPE=image/jpeg:https://winetherapynmb.com/wp-content/uploads/2022/02/MIke-Hall.jpg
END:VEVENT
BEGIN:VEVENT
DTSTART;TZID=UTC:20220324T173000
DTEND;TZID=UTC:20220324T183000
DTSTAMP:20260423T114710
CREATED:20220220T051911Z
LAST-MODIFIED:20220220T052008Z
UID:1402-1648143000-1648146600@winetherapynmb.com
SUMMARY:Frogs Leap Premium Wine Tasting
DESCRIPTION:Includes Souvenir Glass
URL:https://winetherapynmb.com/event/frogs-leap-premium-wine-tasting/
LOCATION:SC
ATTACH;FMTTYPE=image/jpeg:https://winetherapynmb.com/wp-content/uploads/2022/02/IMG_6918-scaled.jpg
END:VEVENT
BEGIN:VEVENT
DTSTART;TZID=UTC:20220323T060000
DTEND;TZID=UTC:20220323T200000
DTSTAMP:20260423T114710
CREATED:20220215T181844Z
LAST-MODIFIED:20220215T181844Z
UID:1373-1648015200-1648065600@winetherapynmb.com
SUMMARY:Wine Glass Etching Class with Board and Brush
DESCRIPTION:Call for reservations 843-712-5209
URL:https://winetherapynmb.com/event/wine-glass-etching-class-with-board-and-brush-2/
LOCATION:SC
END:VEVENT
BEGIN:VEVENT
DTSTART;TZID=UTC:20220319T180000
DTEND;TZID=UTC:20220319T210000
DTSTAMP:20260423T114710
CREATED:20211125T012130Z
LAST-MODIFIED:20211207T073312Z
UID:1153-1647712800-1647723600@winetherapynmb.com
SUMMARY:Greg Rowles Live Music
DESCRIPTION:
URL:https://winetherapynmb.com/event/greg-rowles-live-music-3/
LOCATION:SC
ATTACH;FMTTYPE=image/jpeg:https://winetherapynmb.com/wp-content/uploads/2021/11/IMG_5660-scaled.jpg
END:VEVENT
BEGIN:VEVENT
DTSTART;VALUE=DATE:20220313
DTEND;VALUE=DATE:20220314
DTSTAMP:20260423T114710
CREATED:20220225T232238Z
LAST-MODIFIED:20220225T232238Z
UID:1455-1647129600-1647215999@winetherapynmb.com
SUMMARY:New Hours
DESCRIPTION:
URL:https://winetherapynmb.com/event/new-hours/
LOCATION:SC
ATTACH;FMTTYPE=image/jpeg:https://winetherapynmb.com/wp-content/uploads/2022/02/New-Hours.jpg
END:VEVENT
BEGIN:VEVENT
DTSTART;TZID=UTC:20220312T180000
DTEND;TZID=UTC:20220312T210000
DTSTAMP:20260423T114710
CREATED:20211213T122005Z
LAST-MODIFIED:20211213T122017Z
UID:1238-1647108000-1647118800@winetherapynmb.com
SUMMARY:Paige King Johnson Live Music
DESCRIPTION:
URL:https://winetherapynmb.com/event/paige-king-johnson-live-music/
LOCATION:SC
ATTACH;FMTTYPE=image/jpeg:https://winetherapynmb.com/wp-content/uploads/2021/12/IMG_4067-e1655513987602.jpg
END:VEVENT
BEGIN:VEVENT
DTSTART;TZID=UTC:20220311T180000
DTEND;TZID=UTC:20220311T210000
DTSTAMP:20260423T114710
CREATED:20211020T141721Z
LAST-MODIFIED:20211020T142824Z
UID:1015-1647021600-1647032400@winetherapynmb.com
SUMMARY:Cyndi Wheeler Nashville Recording Artist Live Music
DESCRIPTION:
URL:https://winetherapynmb.com/event/cyndi-wheeler-nashville-recording-artist-live-music-2/
LOCATION:SC
ATTACH;FMTTYPE=image/jpeg:https://winetherapynmb.com/wp-content/uploads/2021/10/Cindy-Wheeler.jpg
END:VEVENT
BEGIN:VEVENT
DTSTART;TZID=UTC:20220310T173000
DTEND;TZID=UTC:20220310T183000
DTSTAMP:20260423T114710
CREATED:20220311T013055Z
LAST-MODIFIED:20220311T013055Z
UID:1512-1646933400-1646937000@winetherapynmb.com
SUMMARY:Complimentary Wine Tasting
DESCRIPTION:
URL:https://winetherapynmb.com/event/complimentary-wine-tasting-3/
LOCATION:SC
ATTACH;FMTTYPE=image/jpeg:https://winetherapynmb.com/wp-content/uploads/2022/03/IMG_7177-1.jpg
END:VEVENT
BEGIN:VEVENT
DTSTART;TZID=UTC:20220304T180000
DTEND;TZID=UTC:20220304T210000
DTSTAMP:20260423T114710
CREATED:20211002T001412Z
LAST-MODIFIED:20211020T141024Z
UID:923-1646416800-1646427600@winetherapynmb.com
SUMMARY:Jimmy "O" Live Music
DESCRIPTION:
URL:https://winetherapynmb.com/event/jimmy-o-9/
LOCATION:SC
ATTACH;FMTTYPE=image/jpeg:https://winetherapynmb.com/wp-content/uploads/2021/10/IMG_4709-2.jpg
END:VEVENT
BEGIN:VEVENT
DTSTART;TZID=UTC:20220304T160000
DTEND;TZID=UTC:20220304T233000
DTSTAMP:20260423T114710
CREATED:20220225T233051Z
LAST-MODIFIED:20220225T233051Z
UID:1463-1646409600-1646436600@winetherapynmb.com
SUMMARY:Kristal Wine Tasting and Pairing Class
DESCRIPTION:$20pp Call to Reserve a Spot
URL:https://winetherapynmb.com/event/kristal-wine-tasting-and-pairing-class/
LOCATION:SC
ATTACH;FMTTYPE=image/jpeg:https://winetherapynmb.com/wp-content/uploads/2022/02/Kristal.jpg
END:VEVENT
BEGIN:VEVENT
DTSTART;TZID=UTC:20220303T170000
DTEND;TZID=UTC:20220303T180000
DTSTAMP:20260423T114710
CREATED:20220220T061954Z
LAST-MODIFIED:20220220T061954Z
UID:1422-1646326800-1646330400@winetherapynmb.com
SUMMARY:Molly Dooker Premium Wine Tasting
DESCRIPTION:
URL:https://winetherapynmb.com/event/molly-dooker-premium-wine-tasting/
LOCATION:SC
ATTACH;FMTTYPE=image/jpeg:https://winetherapynmb.com/wp-content/uploads/2022/02/IMG_6756-scaled.jpg
END:VEVENT
BEGIN:VEVENT
DTSTART;TZID=UTC:20220225T180000
DTEND;TZID=UTC:20220225T210000
DTSTAMP:20260423T114710
CREATED:20220215T175340Z
LAST-MODIFIED:20220621T015154Z
UID:1366-1645812000-1645822800@winetherapynmb.com
SUMMARY:Dom Wier Live Music
DESCRIPTION:
URL:https://winetherapynmb.com/event/dom-wier-live-music/2022-02-25/
LOCATION:SC
ATTACH;FMTTYPE=image/jpeg:https://winetherapynmb.com/wp-content/uploads/2022/02/dom-wier.jpg
END:VEVENT
BEGIN:VEVENT
DTSTART;TZID=UTC:20220224T170000
DTEND;TZID=UTC:20220224T180000
DTSTAMP:20260423T114710
CREATED:20220207T224734Z
LAST-MODIFIED:20220207T224734Z
UID:1336-1645722000-1645725600@winetherapynmb.com
SUMMARY:Complimentary Italian Wine Tasting
DESCRIPTION:
URL:https://winetherapynmb.com/event/complimentary-italian-wine-tasting/
LOCATION:SC
END:VEVENT
BEGIN:VEVENT
DTSTART;TZID=UTC:20220223T180000
DTEND;TZID=UTC:20220223T200000
DTSTAMP:20260423T114710
CREATED:20220207T230435Z
LAST-MODIFIED:20220208T173021Z
UID:1344-1645639200-1645646400@winetherapynmb.com
SUMMARY:Wine Glass Etching Class with Board and Brush
DESCRIPTION:Call for booking info (843) 712-5209
URL:https://winetherapynmb.com/event/wine-glass-etching-class-with-board-and-brush/
LOCATION:SC
END:VEVENT
BEGIN:VEVENT
DTSTART;TZID=UTC:20220222T160000
DTEND;TZID=UTC:20220222T180000
DTSTAMP:20260423T114710
CREATED:20220207T230326Z
LAST-MODIFIED:20220207T230326Z
UID:1342-1645545600-1645552800@winetherapynmb.com
SUMMARY:Beth McLean Financial Advisor Discussing Current Market Events
DESCRIPTION:
URL:https://winetherapynmb.com/event/beth-mclean-financial-advisor-discussing-current-market-events/
LOCATION:SC
END:VEVENT
BEGIN:VEVENT
DTSTART;TZID=UTC:20220218T170000
DTEND;TZID=UTC:20220218T190000
DTSTAMP:20260423T114710
CREATED:20220207T230119Z
LAST-MODIFIED:20220207T230247Z
UID:1340-1645203600-1645210800@winetherapynmb.com
SUMMARY:Wine Tasting with Dave and Jane Lello Owners of Stellekaya from South Africa
DESCRIPTION:$15 per person includes a souvenir glass
URL:https://winetherapynmb.com/event/wine-tasting-with-dave-and-jane-lello-owners-of-stellekaya-from-south-africa/
LOCATION:SC
END:VEVENT
BEGIN:VEVENT
DTSTART;TZID=UTC:20220217T173000
DTEND;TZID=UTC:20220217T193000
DTSTAMP:20260423T114710
CREATED:20211020T130958Z
LAST-MODIFIED:20211020T131053Z
UID:987-1645119000-1645126200@winetherapynmb.com
SUMMARY:Wine Therapy for February's Business After Hours
DESCRIPTION:Located within the new Shops on Main\, Wine Therapy allows you to enjoy wine tasting from old world to new world from around the globe. Wine tastings including by the glass or by flight\, and paring with Cheeses\, charcuterie boards\, and desserts. \nBusiness After Hours\, typically held on the third Thursday of every month\, gives investors/partners and individuals the opportunity to network\, learn more about the host business of the month\, and enjoy each other’s company in a social setting. \nBusiness After Hours events are an immeasurable opportunity for a hosting investors/partners to showcase their business!
URL:https://winetherapynmb.com/event/wine-therapy-for-februarys-business-after-hours/
LOCATION:SC
ATTACH;FMTTYPE=image/jpeg:https://winetherapynmb.com/wp-content/uploads/2021/10/IMG_5071.jpg
END:VEVENT
BEGIN:VEVENT
DTSTART;TZID=UTC:20220211T180000
DTEND;TZID=UTC:20220211T210000
DTSTAMP:20260423T114710
CREATED:20211125T003522Z
LAST-MODIFIED:20211207T073332Z
UID:1151-1644602400-1644613200@winetherapynmb.com
SUMMARY:Greg Rowles Live Music
DESCRIPTION:
URL:https://winetherapynmb.com/event/greg-rowles-live-music-2/
LOCATION:SC
ATTACH;FMTTYPE=image/jpeg:https://winetherapynmb.com/wp-content/uploads/2021/11/IMG_5660-scaled.jpg
END:VEVENT
BEGIN:VEVENT
DTSTART;TZID=UTC:20220210T170000
DTEND;TZID=UTC:20220210T180000
DTSTAMP:20260423T114710
CREATED:20220207T224218Z
LAST-MODIFIED:20220207T224640Z
UID:1334-1644512400-1644516000@winetherapynmb.com
SUMMARY:Complimentary Spanish Wine Tasting
DESCRIPTION:
URL:https://winetherapynmb.com/event/complimentary-spanish-wine-tasting/
LOCATION:SC
END:VEVENT
BEGIN:VEVENT
DTSTART;TZID=UTC:20220204T180000
DTEND;TZID=UTC:20220204T210000
DTSTAMP:20260423T114710
CREATED:20211002T001310Z
LAST-MODIFIED:20211020T141034Z
UID:920-1643997600-1644008400@winetherapynmb.com
SUMMARY:Jimmy "O" Live Music
DESCRIPTION:
URL:https://winetherapynmb.com/event/jimmy-o-8/
LOCATION:SC
ATTACH;FMTTYPE=image/jpeg:https://winetherapynmb.com/wp-content/uploads/2021/10/IMG_4709-1.jpg
END:VEVENT
BEGIN:VEVENT
DTSTART;TZID=UTC:20220202T180000
DTEND;TZID=UTC:20220202T210000
DTSTAMP:20260423T114710
CREATED:20211020T131530Z
LAST-MODIFIED:20211020T141955Z
UID:990-1643824800-1643835600@winetherapynmb.com
SUMMARY:Cyndi Wheeler Nashville Recording Artist Live Music
DESCRIPTION:
URL:https://winetherapynmb.com/event/cyndi-wheeler-nashville-recording-artist-live-music/
LOCATION:SC
ATTACH;FMTTYPE=image/jpeg:https://winetherapynmb.com/wp-content/uploads/2021/10/Cindy-Wheeler.jpg
END:VEVENT
BEGIN:VEVENT
DTSTART;TZID=UTC:20220115T180000
DTEND;TZID=UTC:20220115T210000
DTSTAMP:20260423T114710
CREATED:20211125T003118Z
LAST-MODIFIED:20211207T073337Z
UID:1149-1642269600-1642280400@winetherapynmb.com
SUMMARY:Greg Rowles Live Music
DESCRIPTION:
URL:https://winetherapynmb.com/event/greg-rowles-live-music/
LOCATION:SC
ATTACH;FMTTYPE=image/jpeg:https://winetherapynmb.com/wp-content/uploads/2021/11/IMG_5660-scaled.jpg
END:VEVENT
BEGIN:VEVENT
DTSTART;TZID=UTC:20220113T170000
DTEND;TZID=UTC:20220113T170000
DTSTAMP:20260423T114710
CREATED:20211207T072111Z
LAST-MODIFIED:20211207T072814Z
UID:1208-1642093200-1642093200@winetherapynmb.com
SUMMARY:Napa Ca Premium Wine Tasting
DESCRIPTION:
URL:https://winetherapynmb.com/event/napa-ca-premium-wine-tasting/
LOCATION:SC
ATTACH;FMTTYPE=image/jpeg:https://winetherapynmb.com/wp-content/uploads/2021/11/IMG_5659-1-scaled.jpg
END:VEVENT
BEGIN:VEVENT
DTSTART;TZID=UTC:20220107T180000
DTEND;TZID=UTC:20220107T210000
DTSTAMP:20260423T114710
CREATED:20211002T000953Z
LAST-MODIFIED:20211020T141043Z
UID:917-1641578400-1641589200@winetherapynmb.com
SUMMARY:Jimmy "O" Live Music
DESCRIPTION:
URL:https://winetherapynmb.com/event/jimmy-o-7/
LOCATION:SC
ATTACH;FMTTYPE=image/jpeg:https://winetherapynmb.com/wp-content/uploads/2021/10/IMG_4709.jpg
END:VEVENT
BEGIN:VEVENT
DTSTART;TZID=UTC:20211223T180000
DTEND;TZID=UTC:20211223T210000
DTSTAMP:20260423T114710
CREATED:20211213T113905Z
LAST-MODIFIED:20211213T145549Z
UID:1227-1640282400-1640293200@winetherapynmb.com
SUMMARY:Duster
DESCRIPTION:
URL:https://winetherapynmb.com/event/duster/
LOCATION:SC
ATTACH;FMTTYPE=image/jpeg:https://winetherapynmb.com/wp-content/uploads/2021/12/IMG_5781.jpg
END:VEVENT
BEGIN:VEVENT
DTSTART;TZID=UTC:20211217T180000
DTEND;TZID=UTC:20211217T210000
DTSTAMP:20260423T114710
CREATED:20210824T123454Z
LAST-MODIFIED:20210825T104436Z
UID:800-1639764000-1639774800@winetherapynmb.com
SUMMARY:Cyndi Wheeler
DESCRIPTION:
URL:https://winetherapynmb.com/event/cyndi-wheeler-3/
LOCATION:Wine Therapy of North Myrtle Beach\, 315 Main St.\, North Myrtle Beach\, SC\, 29582\, United States
ATTACH;FMTTYPE=image/jpeg:https://winetherapynmb.com/wp-content/uploads/2021/08/Cindy-Wheeler.jpg
END:VEVENT
END:VCALENDAR