BEGIN:VCALENDAR
VERSION:2.0
PRODID:-//Wine Therapy of North Myrtle Beach - ECPv6.15.20//NONSGML v1.0//EN
CALSCALE:GREGORIAN
METHOD:PUBLISH
X-WR-CALNAME:Wine Therapy of North Myrtle Beach
X-ORIGINAL-URL:https://winetherapynmb.com
X-WR-CALDESC:Events for Wine Therapy of North Myrtle Beach
REFRESH-INTERVAL;VALUE=DURATION:PT1H
X-Robots-Tag:noindex
X-PUBLISHED-TTL:PT1H
BEGIN:VTIMEZONE
TZID:America/New_York
BEGIN:DAYLIGHT
TZOFFSETFROM:-0500
TZOFFSETTO:-0400
TZNAME:EDT
DTSTART:20240310T070000
END:DAYLIGHT
BEGIN:STANDARD
TZOFFSETFROM:-0400
TZOFFSETTO:-0500
TZNAME:EST
DTSTART:20241103T060000
END:STANDARD
BEGIN:DAYLIGHT
TZOFFSETFROM:-0500
TZOFFSETTO:-0400
TZNAME:EDT
DTSTART:20250309T070000
END:DAYLIGHT
BEGIN:STANDARD
TZOFFSETFROM:-0400
TZOFFSETTO:-0500
TZNAME:EST
DTSTART:20251102T060000
END:STANDARD
BEGIN:DAYLIGHT
TZOFFSETFROM:-0500
TZOFFSETTO:-0400
TZNAME:EDT
DTSTART:20260308T070000
END:DAYLIGHT
BEGIN:STANDARD
TZOFFSETFROM:-0400
TZOFFSETTO:-0500
TZNAME:EST
DTSTART:20261101T060000
END:STANDARD
END:VTIMEZONE
BEGIN:VEVENT
DTSTART;TZID=America/New_York:20250402T120000
DTEND;TZID=America/New_York:20250402T210000
DTSTAMP:20260423T000336
CREATED:20231018T223928Z
LAST-MODIFIED:20231018T223928Z
UID:8166-1743595200-1743627600@winetherapynmb.com
SUMMARY:Self Service Wine Tasting All Day Every Day
DESCRIPTION:Self Service Wine Tasting All Day Every Day \nNo Reservations Needed \nWalk In and have create your own Custom Wine Tasting \nCheers \n843-712-5209 \nClosed on Mondays \n—
URL:https://winetherapynmb.com/event/wine-tasting-all-day-every-day-4/2025-04-02/
LOCATION:Wine Therapy of North Myrtle Beach\, 315 Main St.\, North Myrtle Beach\, SC\, 29582\, United States
CATEGORIES:Wine Tasting
ATTACH;FMTTYPE=image/jpeg:https://winetherapynmb.com/wp-content/uploads/2023/10/image1.jpeg
END:VEVENT
BEGIN:VEVENT
DTSTART;TZID=America/New_York:20250401T120000
DTEND;TZID=America/New_York:20250401T210000
DTSTAMP:20260423T000336
CREATED:20231018T223928Z
LAST-MODIFIED:20231018T223928Z
UID:8165-1743508800-1743541200@winetherapynmb.com
SUMMARY:Self Service Wine Tasting All Day Every Day
DESCRIPTION:Self Service Wine Tasting All Day Every Day \nNo Reservations Needed \nWalk In and have create your own Custom Wine Tasting \nCheers \n843-712-5209 \nClosed on Mondays \n—
URL:https://winetherapynmb.com/event/wine-tasting-all-day-every-day-4/2025-04-01/
LOCATION:Wine Therapy of North Myrtle Beach\, 315 Main St.\, North Myrtle Beach\, SC\, 29582\, United States
CATEGORIES:Wine Tasting
ATTACH;FMTTYPE=image/jpeg:https://winetherapynmb.com/wp-content/uploads/2023/10/image1.jpeg
END:VEVENT
BEGIN:VEVENT
DTSTART;TZID=America/New_York:20250330T120000
DTEND;TZID=America/New_York:20250330T210000
DTSTAMP:20260423T000336
CREATED:20231018T223928Z
LAST-MODIFIED:20231018T223928Z
UID:8164-1743336000-1743368400@winetherapynmb.com
SUMMARY:Self Service Wine Tasting All Day Every Day
DESCRIPTION:Self Service Wine Tasting All Day Every Day \nNo Reservations Needed \nWalk In and have create your own Custom Wine Tasting \nCheers \n843-712-5209 \nClosed on Mondays \n—
URL:https://winetherapynmb.com/event/wine-tasting-all-day-every-day-4/2025-03-30/
LOCATION:Wine Therapy of North Myrtle Beach\, 315 Main St.\, North Myrtle Beach\, SC\, 29582\, United States
CATEGORIES:Wine Tasting
ATTACH;FMTTYPE=image/jpeg:https://winetherapynmb.com/wp-content/uploads/2023/10/image1.jpeg
END:VEVENT
BEGIN:VEVENT
DTSTART;TZID=America/New_York:20250329T120000
DTEND;TZID=America/New_York:20250329T210000
DTSTAMP:20260423T000336
CREATED:20231018T223928Z
LAST-MODIFIED:20231018T223928Z
UID:8163-1743249600-1743282000@winetherapynmb.com
SUMMARY:Self Service Wine Tasting All Day Every Day
DESCRIPTION:Self Service Wine Tasting All Day Every Day \nNo Reservations Needed \nWalk In and have create your own Custom Wine Tasting \nCheers \n843-712-5209 \nClosed on Mondays \n—
URL:https://winetherapynmb.com/event/wine-tasting-all-day-every-day-4/2025-03-29/
LOCATION:Wine Therapy of North Myrtle Beach\, 315 Main St.\, North Myrtle Beach\, SC\, 29582\, United States
CATEGORIES:Wine Tasting
ATTACH;FMTTYPE=image/jpeg:https://winetherapynmb.com/wp-content/uploads/2023/10/image1.jpeg
END:VEVENT
BEGIN:VEVENT
DTSTART;TZID=America/New_York:20250328T120000
DTEND;TZID=America/New_York:20250328T210000
DTSTAMP:20260423T000336
CREATED:20231018T223928Z
LAST-MODIFIED:20231018T223928Z
UID:8162-1743163200-1743195600@winetherapynmb.com
SUMMARY:Self Service Wine Tasting All Day Every Day
DESCRIPTION:Self Service Wine Tasting All Day Every Day \nNo Reservations Needed \nWalk In and have create your own Custom Wine Tasting \nCheers \n843-712-5209 \nClosed on Mondays \n—
URL:https://winetherapynmb.com/event/wine-tasting-all-day-every-day-4/2025-03-28/
LOCATION:Wine Therapy of North Myrtle Beach\, 315 Main St.\, North Myrtle Beach\, SC\, 29582\, United States
CATEGORIES:Wine Tasting
ATTACH;FMTTYPE=image/jpeg:https://winetherapynmb.com/wp-content/uploads/2023/10/image1.jpeg
END:VEVENT
BEGIN:VEVENT
DTSTART;TZID=America/New_York:20250327T120000
DTEND;TZID=America/New_York:20250327T210000
DTSTAMP:20260423T000336
CREATED:20231018T223928Z
LAST-MODIFIED:20231018T223928Z
UID:8161-1743076800-1743109200@winetherapynmb.com
SUMMARY:Self Service Wine Tasting All Day Every Day
DESCRIPTION:Self Service Wine Tasting All Day Every Day \nNo Reservations Needed \nWalk In and have create your own Custom Wine Tasting \nCheers \n843-712-5209 \nClosed on Mondays \n—
URL:https://winetherapynmb.com/event/wine-tasting-all-day-every-day-4/2025-03-27/
LOCATION:Wine Therapy of North Myrtle Beach\, 315 Main St.\, North Myrtle Beach\, SC\, 29582\, United States
CATEGORIES:Wine Tasting
ATTACH;FMTTYPE=image/jpeg:https://winetherapynmb.com/wp-content/uploads/2023/10/image1.jpeg
END:VEVENT
BEGIN:VEVENT
DTSTART;TZID=America/New_York:20250326T120000
DTEND;TZID=America/New_York:20250326T210000
DTSTAMP:20260423T000336
CREATED:20231018T223928Z
LAST-MODIFIED:20231018T223928Z
UID:8160-1742990400-1743022800@winetherapynmb.com
SUMMARY:Self Service Wine Tasting All Day Every Day
DESCRIPTION:Self Service Wine Tasting All Day Every Day \nNo Reservations Needed \nWalk In and have create your own Custom Wine Tasting \nCheers \n843-712-5209 \nClosed on Mondays \n—
URL:https://winetherapynmb.com/event/wine-tasting-all-day-every-day-4/2025-03-26/
LOCATION:Wine Therapy of North Myrtle Beach\, 315 Main St.\, North Myrtle Beach\, SC\, 29582\, United States
CATEGORIES:Wine Tasting
ATTACH;FMTTYPE=image/jpeg:https://winetherapynmb.com/wp-content/uploads/2023/10/image1.jpeg
END:VEVENT
BEGIN:VEVENT
DTSTART;TZID=America/New_York:20250325T120000
DTEND;TZID=America/New_York:20250325T210000
DTSTAMP:20260423T000336
CREATED:20231018T223928Z
LAST-MODIFIED:20231018T223928Z
UID:8159-1742904000-1742936400@winetherapynmb.com
SUMMARY:Self Service Wine Tasting All Day Every Day
DESCRIPTION:Self Service Wine Tasting All Day Every Day \nNo Reservations Needed \nWalk In and have create your own Custom Wine Tasting \nCheers \n843-712-5209 \nClosed on Mondays \n—
URL:https://winetherapynmb.com/event/wine-tasting-all-day-every-day-4/2025-03-25/
LOCATION:Wine Therapy of North Myrtle Beach\, 315 Main St.\, North Myrtle Beach\, SC\, 29582\, United States
CATEGORIES:Wine Tasting
ATTACH;FMTTYPE=image/jpeg:https://winetherapynmb.com/wp-content/uploads/2023/10/image1.jpeg
END:VEVENT
BEGIN:VEVENT
DTSTART;TZID=America/New_York:20250323T120000
DTEND;TZID=America/New_York:20250323T210000
DTSTAMP:20260423T000336
CREATED:20231018T223928Z
LAST-MODIFIED:20231018T223928Z
UID:8158-1742731200-1742763600@winetherapynmb.com
SUMMARY:Self Service Wine Tasting All Day Every Day
DESCRIPTION:Self Service Wine Tasting All Day Every Day \nNo Reservations Needed \nWalk In and have create your own Custom Wine Tasting \nCheers \n843-712-5209 \nClosed on Mondays \n—
URL:https://winetherapynmb.com/event/wine-tasting-all-day-every-day-4/2025-03-23/
LOCATION:Wine Therapy of North Myrtle Beach\, 315 Main St.\, North Myrtle Beach\, SC\, 29582\, United States
CATEGORIES:Wine Tasting
ATTACH;FMTTYPE=image/jpeg:https://winetherapynmb.com/wp-content/uploads/2023/10/image1.jpeg
END:VEVENT
BEGIN:VEVENT
DTSTART;TZID=America/New_York:20250322T120000
DTEND;TZID=America/New_York:20250322T210000
DTSTAMP:20260423T000336
CREATED:20231018T223928Z
LAST-MODIFIED:20231018T223928Z
UID:8157-1742644800-1742677200@winetherapynmb.com
SUMMARY:Self Service Wine Tasting All Day Every Day
DESCRIPTION:Self Service Wine Tasting All Day Every Day \nNo Reservations Needed \nWalk In and have create your own Custom Wine Tasting \nCheers \n843-712-5209 \nClosed on Mondays \n—
URL:https://winetherapynmb.com/event/wine-tasting-all-day-every-day-4/2025-03-22/
LOCATION:Wine Therapy of North Myrtle Beach\, 315 Main St.\, North Myrtle Beach\, SC\, 29582\, United States
CATEGORIES:Wine Tasting
ATTACH;FMTTYPE=image/jpeg:https://winetherapynmb.com/wp-content/uploads/2023/10/image1.jpeg
END:VEVENT
BEGIN:VEVENT
DTSTART;TZID=America/New_York:20250321T120000
DTEND;TZID=America/New_York:20250321T210000
DTSTAMP:20260423T000336
CREATED:20231018T223928Z
LAST-MODIFIED:20231018T223928Z
UID:8156-1742558400-1742590800@winetherapynmb.com
SUMMARY:Self Service Wine Tasting All Day Every Day
DESCRIPTION:Self Service Wine Tasting All Day Every Day \nNo Reservations Needed \nWalk In and have create your own Custom Wine Tasting \nCheers \n843-712-5209 \nClosed on Mondays \n—
URL:https://winetherapynmb.com/event/wine-tasting-all-day-every-day-4/2025-03-21/
LOCATION:Wine Therapy of North Myrtle Beach\, 315 Main St.\, North Myrtle Beach\, SC\, 29582\, United States
CATEGORIES:Wine Tasting
ATTACH;FMTTYPE=image/jpeg:https://winetherapynmb.com/wp-content/uploads/2023/10/image1.jpeg
END:VEVENT
BEGIN:VEVENT
DTSTART;TZID=America/New_York:20250320T120000
DTEND;TZID=America/New_York:20250320T210000
DTSTAMP:20260423T000336
CREATED:20231018T223928Z
LAST-MODIFIED:20231018T223928Z
UID:8155-1742472000-1742504400@winetherapynmb.com
SUMMARY:Self Service Wine Tasting All Day Every Day
DESCRIPTION:Self Service Wine Tasting All Day Every Day \nNo Reservations Needed \nWalk In and have create your own Custom Wine Tasting \nCheers \n843-712-5209 \nClosed on Mondays \n—
URL:https://winetherapynmb.com/event/wine-tasting-all-day-every-day-4/2025-03-20/
LOCATION:Wine Therapy of North Myrtle Beach\, 315 Main St.\, North Myrtle Beach\, SC\, 29582\, United States
CATEGORIES:Wine Tasting
ATTACH;FMTTYPE=image/jpeg:https://winetherapynmb.com/wp-content/uploads/2023/10/image1.jpeg
END:VEVENT
BEGIN:VEVENT
DTSTART;TZID=America/New_York:20250319T120000
DTEND;TZID=America/New_York:20250319T210000
DTSTAMP:20260423T000336
CREATED:20231018T223928Z
LAST-MODIFIED:20231018T223928Z
UID:8154-1742385600-1742418000@winetherapynmb.com
SUMMARY:Self Service Wine Tasting All Day Every Day
DESCRIPTION:Self Service Wine Tasting All Day Every Day \nNo Reservations Needed \nWalk In and have create your own Custom Wine Tasting \nCheers \n843-712-5209 \nClosed on Mondays \n—
URL:https://winetherapynmb.com/event/wine-tasting-all-day-every-day-4/2025-03-19/
LOCATION:Wine Therapy of North Myrtle Beach\, 315 Main St.\, North Myrtle Beach\, SC\, 29582\, United States
CATEGORIES:Wine Tasting
ATTACH;FMTTYPE=image/jpeg:https://winetherapynmb.com/wp-content/uploads/2023/10/image1.jpeg
END:VEVENT
BEGIN:VEVENT
DTSTART;TZID=America/New_York:20250318T120000
DTEND;TZID=America/New_York:20250318T210000
DTSTAMP:20260423T000336
CREATED:20231018T223928Z
LAST-MODIFIED:20231018T223928Z
UID:8153-1742299200-1742331600@winetherapynmb.com
SUMMARY:Self Service Wine Tasting All Day Every Day
DESCRIPTION:Self Service Wine Tasting All Day Every Day \nNo Reservations Needed \nWalk In and have create your own Custom Wine Tasting \nCheers \n843-712-5209 \nClosed on Mondays \n—
URL:https://winetherapynmb.com/event/wine-tasting-all-day-every-day-4/2025-03-18/
LOCATION:Wine Therapy of North Myrtle Beach\, 315 Main St.\, North Myrtle Beach\, SC\, 29582\, United States
CATEGORIES:Wine Tasting
ATTACH;FMTTYPE=image/jpeg:https://winetherapynmb.com/wp-content/uploads/2023/10/image1.jpeg
END:VEVENT
BEGIN:VEVENT
DTSTART;TZID=America/New_York:20250316T120000
DTEND;TZID=America/New_York:20250316T210000
DTSTAMP:20260423T000336
CREATED:20231018T223928Z
LAST-MODIFIED:20231018T223928Z
UID:8152-1742126400-1742158800@winetherapynmb.com
SUMMARY:Self Service Wine Tasting All Day Every Day
DESCRIPTION:Self Service Wine Tasting All Day Every Day \nNo Reservations Needed \nWalk In and have create your own Custom Wine Tasting \nCheers \n843-712-5209 \nClosed on Mondays \n—
URL:https://winetherapynmb.com/event/wine-tasting-all-day-every-day-4/2025-03-16/
LOCATION:Wine Therapy of North Myrtle Beach\, 315 Main St.\, North Myrtle Beach\, SC\, 29582\, United States
CATEGORIES:Wine Tasting
ATTACH;FMTTYPE=image/jpeg:https://winetherapynmb.com/wp-content/uploads/2023/10/image1.jpeg
END:VEVENT
BEGIN:VEVENT
DTSTART;TZID=America/New_York:20250315T120000
DTEND;TZID=America/New_York:20250315T210000
DTSTAMP:20260423T000336
CREATED:20231018T223928Z
LAST-MODIFIED:20231018T223928Z
UID:8151-1742040000-1742072400@winetherapynmb.com
SUMMARY:Self Service Wine Tasting All Day Every Day
DESCRIPTION:Self Service Wine Tasting All Day Every Day \nNo Reservations Needed \nWalk In and have create your own Custom Wine Tasting \nCheers \n843-712-5209 \nClosed on Mondays \n—
URL:https://winetherapynmb.com/event/wine-tasting-all-day-every-day-4/2025-03-15/
LOCATION:Wine Therapy of North Myrtle Beach\, 315 Main St.\, North Myrtle Beach\, SC\, 29582\, United States
CATEGORIES:Wine Tasting
ATTACH;FMTTYPE=image/jpeg:https://winetherapynmb.com/wp-content/uploads/2023/10/image1.jpeg
END:VEVENT
BEGIN:VEVENT
DTSTART;TZID=America/New_York:20250314T120000
DTEND;TZID=America/New_York:20250314T210000
DTSTAMP:20260423T000336
CREATED:20231018T223928Z
LAST-MODIFIED:20231018T223928Z
UID:8150-1741953600-1741986000@winetherapynmb.com
SUMMARY:Self Service Wine Tasting All Day Every Day
DESCRIPTION:Self Service Wine Tasting All Day Every Day \nNo Reservations Needed \nWalk In and have create your own Custom Wine Tasting \nCheers \n843-712-5209 \nClosed on Mondays \n—
URL:https://winetherapynmb.com/event/wine-tasting-all-day-every-day-4/2025-03-14/
LOCATION:Wine Therapy of North Myrtle Beach\, 315 Main St.\, North Myrtle Beach\, SC\, 29582\, United States
CATEGORIES:Wine Tasting
ATTACH;FMTTYPE=image/jpeg:https://winetherapynmb.com/wp-content/uploads/2023/10/image1.jpeg
END:VEVENT
BEGIN:VEVENT
DTSTART;TZID=America/New_York:20250313T120000
DTEND;TZID=America/New_York:20250313T210000
DTSTAMP:20260423T000336
CREATED:20231018T223928Z
LAST-MODIFIED:20231018T223928Z
UID:8149-1741867200-1741899600@winetherapynmb.com
SUMMARY:Self Service Wine Tasting All Day Every Day
DESCRIPTION:Self Service Wine Tasting All Day Every Day \nNo Reservations Needed \nWalk In and have create your own Custom Wine Tasting \nCheers \n843-712-5209 \nClosed on Mondays \n—
URL:https://winetherapynmb.com/event/wine-tasting-all-day-every-day-4/2025-03-13/
LOCATION:Wine Therapy of North Myrtle Beach\, 315 Main St.\, North Myrtle Beach\, SC\, 29582\, United States
CATEGORIES:Wine Tasting
ATTACH;FMTTYPE=image/jpeg:https://winetherapynmb.com/wp-content/uploads/2023/10/image1.jpeg
END:VEVENT
BEGIN:VEVENT
DTSTART;TZID=America/New_York:20250312T120000
DTEND;TZID=America/New_York:20250312T210000
DTSTAMP:20260423T000336
CREATED:20231018T223928Z
LAST-MODIFIED:20231018T223928Z
UID:8148-1741780800-1741813200@winetherapynmb.com
SUMMARY:Self Service Wine Tasting All Day Every Day
DESCRIPTION:Self Service Wine Tasting All Day Every Day \nNo Reservations Needed \nWalk In and have create your own Custom Wine Tasting \nCheers \n843-712-5209 \nClosed on Mondays \n—
URL:https://winetherapynmb.com/event/wine-tasting-all-day-every-day-4/2025-03-12/
LOCATION:Wine Therapy of North Myrtle Beach\, 315 Main St.\, North Myrtle Beach\, SC\, 29582\, United States
CATEGORIES:Wine Tasting
ATTACH;FMTTYPE=image/jpeg:https://winetherapynmb.com/wp-content/uploads/2023/10/image1.jpeg
END:VEVENT
BEGIN:VEVENT
DTSTART;TZID=America/New_York:20250311T120000
DTEND;TZID=America/New_York:20250311T210000
DTSTAMP:20260423T000336
CREATED:20231018T223928Z
LAST-MODIFIED:20231018T223928Z
UID:8147-1741694400-1741726800@winetherapynmb.com
SUMMARY:Self Service Wine Tasting All Day Every Day
DESCRIPTION:Self Service Wine Tasting All Day Every Day \nNo Reservations Needed \nWalk In and have create your own Custom Wine Tasting \nCheers \n843-712-5209 \nClosed on Mondays \n—
URL:https://winetherapynmb.com/event/wine-tasting-all-day-every-day-4/2025-03-11/
LOCATION:Wine Therapy of North Myrtle Beach\, 315 Main St.\, North Myrtle Beach\, SC\, 29582\, United States
CATEGORIES:Wine Tasting
ATTACH;FMTTYPE=image/jpeg:https://winetherapynmb.com/wp-content/uploads/2023/10/image1.jpeg
END:VEVENT
BEGIN:VEVENT
DTSTART;TZID=America/New_York:20250309T120000
DTEND;TZID=America/New_York:20250309T210000
DTSTAMP:20260423T000336
CREATED:20231018T223928Z
LAST-MODIFIED:20231018T223928Z
UID:8146-1741521600-1741554000@winetherapynmb.com
SUMMARY:Self Service Wine Tasting All Day Every Day
DESCRIPTION:Self Service Wine Tasting All Day Every Day \nNo Reservations Needed \nWalk In and have create your own Custom Wine Tasting \nCheers \n843-712-5209 \nClosed on Mondays \n—
URL:https://winetherapynmb.com/event/wine-tasting-all-day-every-day-4/2025-03-09/
LOCATION:Wine Therapy of North Myrtle Beach\, 315 Main St.\, North Myrtle Beach\, SC\, 29582\, United States
CATEGORIES:Wine Tasting
ATTACH;FMTTYPE=image/jpeg:https://winetherapynmb.com/wp-content/uploads/2023/10/image1.jpeg
END:VEVENT
BEGIN:VEVENT
DTSTART;TZID=America/New_York:20250308T120000
DTEND;TZID=America/New_York:20250308T210000
DTSTAMP:20260423T000336
CREATED:20231018T223928Z
LAST-MODIFIED:20231018T223928Z
UID:8145-1741435200-1741467600@winetherapynmb.com
SUMMARY:Self Service Wine Tasting All Day Every Day
DESCRIPTION:Self Service Wine Tasting All Day Every Day \nNo Reservations Needed \nWalk In and have create your own Custom Wine Tasting \nCheers \n843-712-5209 \nClosed on Mondays \n—
URL:https://winetherapynmb.com/event/wine-tasting-all-day-every-day-4/2025-03-08/
LOCATION:Wine Therapy of North Myrtle Beach\, 315 Main St.\, North Myrtle Beach\, SC\, 29582\, United States
CATEGORIES:Wine Tasting
ATTACH;FMTTYPE=image/jpeg:https://winetherapynmb.com/wp-content/uploads/2023/10/image1.jpeg
END:VEVENT
BEGIN:VEVENT
DTSTART;TZID=America/New_York:20250307T120000
DTEND;TZID=America/New_York:20250307T210000
DTSTAMP:20260423T000336
CREATED:20231018T223928Z
LAST-MODIFIED:20231018T223928Z
UID:8144-1741348800-1741381200@winetherapynmb.com
SUMMARY:Self Service Wine Tasting All Day Every Day
DESCRIPTION:Self Service Wine Tasting All Day Every Day \nNo Reservations Needed \nWalk In and have create your own Custom Wine Tasting \nCheers \n843-712-5209 \nClosed on Mondays \n—
URL:https://winetherapynmb.com/event/wine-tasting-all-day-every-day-4/2025-03-07/
LOCATION:Wine Therapy of North Myrtle Beach\, 315 Main St.\, North Myrtle Beach\, SC\, 29582\, United States
CATEGORIES:Wine Tasting
ATTACH;FMTTYPE=image/jpeg:https://winetherapynmb.com/wp-content/uploads/2023/10/image1.jpeg
END:VEVENT
BEGIN:VEVENT
DTSTART;TZID=America/New_York:20250306T120000
DTEND;TZID=America/New_York:20250306T210000
DTSTAMP:20260423T000336
CREATED:20231018T223928Z
LAST-MODIFIED:20231018T223928Z
UID:8143-1741262400-1741294800@winetherapynmb.com
SUMMARY:Self Service Wine Tasting All Day Every Day
DESCRIPTION:Self Service Wine Tasting All Day Every Day \nNo Reservations Needed \nWalk In and have create your own Custom Wine Tasting \nCheers \n843-712-5209 \nClosed on Mondays \n—
URL:https://winetherapynmb.com/event/wine-tasting-all-day-every-day-4/2025-03-06/
LOCATION:Wine Therapy of North Myrtle Beach\, 315 Main St.\, North Myrtle Beach\, SC\, 29582\, United States
CATEGORIES:Wine Tasting
ATTACH;FMTTYPE=image/jpeg:https://winetherapynmb.com/wp-content/uploads/2023/10/image1.jpeg
END:VEVENT
BEGIN:VEVENT
DTSTART;TZID=America/New_York:20250305T120000
DTEND;TZID=America/New_York:20250305T210000
DTSTAMP:20260423T000336
CREATED:20231018T223928Z
LAST-MODIFIED:20231018T223928Z
UID:8142-1741176000-1741208400@winetherapynmb.com
SUMMARY:Self Service Wine Tasting All Day Every Day
DESCRIPTION:Self Service Wine Tasting All Day Every Day \nNo Reservations Needed \nWalk In and have create your own Custom Wine Tasting \nCheers \n843-712-5209 \nClosed on Mondays \n—
URL:https://winetherapynmb.com/event/wine-tasting-all-day-every-day-4/2025-03-05/
LOCATION:Wine Therapy of North Myrtle Beach\, 315 Main St.\, North Myrtle Beach\, SC\, 29582\, United States
CATEGORIES:Wine Tasting
ATTACH;FMTTYPE=image/jpeg:https://winetherapynmb.com/wp-content/uploads/2023/10/image1.jpeg
END:VEVENT
BEGIN:VEVENT
DTSTART;TZID=America/New_York:20250304T120000
DTEND;TZID=America/New_York:20250304T210000
DTSTAMP:20260423T000336
CREATED:20231018T223928Z
LAST-MODIFIED:20231018T223928Z
UID:8141-1741089600-1741122000@winetherapynmb.com
SUMMARY:Self Service Wine Tasting All Day Every Day
DESCRIPTION:Self Service Wine Tasting All Day Every Day \nNo Reservations Needed \nWalk In and have create your own Custom Wine Tasting \nCheers \n843-712-5209 \nClosed on Mondays \n—
URL:https://winetherapynmb.com/event/wine-tasting-all-day-every-day-4/2025-03-04/
LOCATION:Wine Therapy of North Myrtle Beach\, 315 Main St.\, North Myrtle Beach\, SC\, 29582\, United States
CATEGORIES:Wine Tasting
ATTACH;FMTTYPE=image/jpeg:https://winetherapynmb.com/wp-content/uploads/2023/10/image1.jpeg
END:VEVENT
BEGIN:VEVENT
DTSTART;TZID=America/New_York:20250302T120000
DTEND;TZID=America/New_York:20250302T210000
DTSTAMP:20260423T000336
CREATED:20231018T223928Z
LAST-MODIFIED:20231018T223928Z
UID:8140-1740916800-1740949200@winetherapynmb.com
SUMMARY:Self Service Wine Tasting All Day Every Day
DESCRIPTION:Self Service Wine Tasting All Day Every Day \nNo Reservations Needed \nWalk In and have create your own Custom Wine Tasting \nCheers \n843-712-5209 \nClosed on Mondays \n—
URL:https://winetherapynmb.com/event/wine-tasting-all-day-every-day-4/2025-03-02/
LOCATION:Wine Therapy of North Myrtle Beach\, 315 Main St.\, North Myrtle Beach\, SC\, 29582\, United States
CATEGORIES:Wine Tasting
ATTACH;FMTTYPE=image/jpeg:https://winetherapynmb.com/wp-content/uploads/2023/10/image1.jpeg
END:VEVENT
BEGIN:VEVENT
DTSTART;TZID=America/New_York:20250301T120000
DTEND;TZID=America/New_York:20250301T210000
DTSTAMP:20260423T000336
CREATED:20231018T223928Z
LAST-MODIFIED:20231018T223928Z
UID:8139-1740830400-1740862800@winetherapynmb.com
SUMMARY:Self Service Wine Tasting All Day Every Day
DESCRIPTION:Self Service Wine Tasting All Day Every Day \nNo Reservations Needed \nWalk In and have create your own Custom Wine Tasting \nCheers \n843-712-5209 \nClosed on Mondays \n—
URL:https://winetherapynmb.com/event/wine-tasting-all-day-every-day-4/2025-03-01/
LOCATION:Wine Therapy of North Myrtle Beach\, 315 Main St.\, North Myrtle Beach\, SC\, 29582\, United States
CATEGORIES:Wine Tasting
ATTACH;FMTTYPE=image/jpeg:https://winetherapynmb.com/wp-content/uploads/2023/10/image1.jpeg
END:VEVENT
BEGIN:VEVENT
DTSTART;TZID=America/New_York:20250228T120000
DTEND;TZID=America/New_York:20250228T210000
DTSTAMP:20260423T000336
CREATED:20231018T223928Z
LAST-MODIFIED:20231018T223928Z
UID:8138-1740744000-1740776400@winetherapynmb.com
SUMMARY:Self Service Wine Tasting All Day Every Day
DESCRIPTION:Self Service Wine Tasting All Day Every Day \nNo Reservations Needed \nWalk In and have create your own Custom Wine Tasting \nCheers \n843-712-5209 \nClosed on Mondays \n—
URL:https://winetherapynmb.com/event/wine-tasting-all-day-every-day-4/2025-02-28/
LOCATION:Wine Therapy of North Myrtle Beach\, 315 Main St.\, North Myrtle Beach\, SC\, 29582\, United States
CATEGORIES:Wine Tasting
ATTACH;FMTTYPE=image/jpeg:https://winetherapynmb.com/wp-content/uploads/2023/10/image1.jpeg
END:VEVENT
BEGIN:VEVENT
DTSTART;TZID=America/New_York:20250227T120000
DTEND;TZID=America/New_York:20250227T210000
DTSTAMP:20260423T000336
CREATED:20231018T223928Z
LAST-MODIFIED:20231018T223928Z
UID:8137-1740657600-1740690000@winetherapynmb.com
SUMMARY:Self Service Wine Tasting All Day Every Day
DESCRIPTION:Self Service Wine Tasting All Day Every Day \nNo Reservations Needed \nWalk In and have create your own Custom Wine Tasting \nCheers \n843-712-5209 \nClosed on Mondays \n—
URL:https://winetherapynmb.com/event/wine-tasting-all-day-every-day-4/2025-02-27/
LOCATION:Wine Therapy of North Myrtle Beach\, 315 Main St.\, North Myrtle Beach\, SC\, 29582\, United States
CATEGORIES:Wine Tasting
ATTACH;FMTTYPE=image/jpeg:https://winetherapynmb.com/wp-content/uploads/2023/10/image1.jpeg
END:VEVENT
END:VCALENDAR