BEGIN:VCALENDAR
VERSION:2.0
PRODID:-//Wine Therapy of North Myrtle Beach - ECPv6.15.20//NONSGML v1.0//EN
CALSCALE:GREGORIAN
METHOD:PUBLISH
X-WR-CALNAME:Wine Therapy of North Myrtle Beach
X-ORIGINAL-URL:https://winetherapynmb.com
X-WR-CALDESC:Events for Wine Therapy of North Myrtle Beach
REFRESH-INTERVAL;VALUE=DURATION:PT1H
X-Robots-Tag:noindex
X-PUBLISHED-TTL:PT1H
BEGIN:VTIMEZONE
TZID:America/New_York
BEGIN:DAYLIGHT
TZOFFSETFROM:-0500
TZOFFSETTO:-0400
TZNAME:EDT
DTSTART:20230312T070000
END:DAYLIGHT
BEGIN:STANDARD
TZOFFSETFROM:-0400
TZOFFSETTO:-0500
TZNAME:EST
DTSTART:20231105T060000
END:STANDARD
BEGIN:DAYLIGHT
TZOFFSETFROM:-0500
TZOFFSETTO:-0400
TZNAME:EDT
DTSTART:20240310T070000
END:DAYLIGHT
BEGIN:STANDARD
TZOFFSETFROM:-0400
TZOFFSETTO:-0500
TZNAME:EST
DTSTART:20241103T060000
END:STANDARD
BEGIN:DAYLIGHT
TZOFFSETFROM:-0500
TZOFFSETTO:-0400
TZNAME:EDT
DTSTART:20250309T070000
END:DAYLIGHT
BEGIN:STANDARD
TZOFFSETFROM:-0400
TZOFFSETTO:-0500
TZNAME:EST
DTSTART:20251102T060000
END:STANDARD
END:VTIMEZONE
BEGIN:VEVENT
DTSTART;TZID=America/New_York:20241009T120000
DTEND;TZID=America/New_York:20241009T210000
DTSTAMP:20260423T041042
CREATED:20231018T223928Z
LAST-MODIFIED:20231018T223928Z
UID:8016-1728475200-1728507600@winetherapynmb.com
SUMMARY:Self Service Wine Tasting All Day Every Day
DESCRIPTION:Self Service Wine Tasting All Day Every Day \nNo Reservations Needed \nWalk In and have create your own Custom Wine Tasting \nCheers \n843-712-5209 \nClosed on Mondays \n—
URL:https://winetherapynmb.com/event/wine-tasting-all-day-every-day-4/2024-10-09/
LOCATION:Wine Therapy of North Myrtle Beach\, 315 Main St.\, North Myrtle Beach\, SC\, 29582\, United States
CATEGORIES:Wine Tasting
ATTACH;FMTTYPE=image/jpeg:https://winetherapynmb.com/wp-content/uploads/2023/10/image1.jpeg
END:VEVENT
BEGIN:VEVENT
DTSTART;TZID=America/New_York:20241008T120000
DTEND;TZID=America/New_York:20241008T210000
DTSTAMP:20260423T041042
CREATED:20231018T223928Z
LAST-MODIFIED:20231018T223928Z
UID:8015-1728388800-1728421200@winetherapynmb.com
SUMMARY:Self Service Wine Tasting All Day Every Day
DESCRIPTION:Self Service Wine Tasting All Day Every Day \nNo Reservations Needed \nWalk In and have create your own Custom Wine Tasting \nCheers \n843-712-5209 \nClosed on Mondays \n—
URL:https://winetherapynmb.com/event/wine-tasting-all-day-every-day-4/2024-10-08/
LOCATION:Wine Therapy of North Myrtle Beach\, 315 Main St.\, North Myrtle Beach\, SC\, 29582\, United States
CATEGORIES:Wine Tasting
ATTACH;FMTTYPE=image/jpeg:https://winetherapynmb.com/wp-content/uploads/2023/10/image1.jpeg
END:VEVENT
BEGIN:VEVENT
DTSTART;TZID=America/New_York:20241006T120000
DTEND;TZID=America/New_York:20241006T210000
DTSTAMP:20260423T041042
CREATED:20231018T223928Z
LAST-MODIFIED:20231018T223928Z
UID:8014-1728216000-1728248400@winetherapynmb.com
SUMMARY:Self Service Wine Tasting All Day Every Day
DESCRIPTION:Self Service Wine Tasting All Day Every Day \nNo Reservations Needed \nWalk In and have create your own Custom Wine Tasting \nCheers \n843-712-5209 \nClosed on Mondays \n—
URL:https://winetherapynmb.com/event/wine-tasting-all-day-every-day-4/2024-10-06/
LOCATION:Wine Therapy of North Myrtle Beach\, 315 Main St.\, North Myrtle Beach\, SC\, 29582\, United States
CATEGORIES:Wine Tasting
ATTACH;FMTTYPE=image/jpeg:https://winetherapynmb.com/wp-content/uploads/2023/10/image1.jpeg
END:VEVENT
BEGIN:VEVENT
DTSTART;TZID=America/New_York:20241005T120000
DTEND;TZID=America/New_York:20241005T210000
DTSTAMP:20260423T041042
CREATED:20231018T223928Z
LAST-MODIFIED:20231018T223928Z
UID:8013-1728129600-1728162000@winetherapynmb.com
SUMMARY:Self Service Wine Tasting All Day Every Day
DESCRIPTION:Self Service Wine Tasting All Day Every Day \nNo Reservations Needed \nWalk In and have create your own Custom Wine Tasting \nCheers \n843-712-5209 \nClosed on Mondays \n—
URL:https://winetherapynmb.com/event/wine-tasting-all-day-every-day-4/2024-10-05/
LOCATION:Wine Therapy of North Myrtle Beach\, 315 Main St.\, North Myrtle Beach\, SC\, 29582\, United States
CATEGORIES:Wine Tasting
ATTACH;FMTTYPE=image/jpeg:https://winetherapynmb.com/wp-content/uploads/2023/10/image1.jpeg
END:VEVENT
BEGIN:VEVENT
DTSTART;TZID=America/New_York:20241004T120000
DTEND;TZID=America/New_York:20241004T210000
DTSTAMP:20260423T041042
CREATED:20231018T223928Z
LAST-MODIFIED:20231018T223928Z
UID:8012-1728043200-1728075600@winetherapynmb.com
SUMMARY:Self Service Wine Tasting All Day Every Day
DESCRIPTION:Self Service Wine Tasting All Day Every Day \nNo Reservations Needed \nWalk In and have create your own Custom Wine Tasting \nCheers \n843-712-5209 \nClosed on Mondays \n—
URL:https://winetherapynmb.com/event/wine-tasting-all-day-every-day-4/2024-10-04/
LOCATION:Wine Therapy of North Myrtle Beach\, 315 Main St.\, North Myrtle Beach\, SC\, 29582\, United States
CATEGORIES:Wine Tasting
ATTACH;FMTTYPE=image/jpeg:https://winetherapynmb.com/wp-content/uploads/2023/10/image1.jpeg
END:VEVENT
BEGIN:VEVENT
DTSTART;TZID=America/New_York:20241003T120000
DTEND;TZID=America/New_York:20241003T210000
DTSTAMP:20260423T041042
CREATED:20231018T223928Z
LAST-MODIFIED:20231018T223928Z
UID:8011-1727956800-1727989200@winetherapynmb.com
SUMMARY:Self Service Wine Tasting All Day Every Day
DESCRIPTION:Self Service Wine Tasting All Day Every Day \nNo Reservations Needed \nWalk In and have create your own Custom Wine Tasting \nCheers \n843-712-5209 \nClosed on Mondays \n—
URL:https://winetherapynmb.com/event/wine-tasting-all-day-every-day-4/2024-10-03/
LOCATION:Wine Therapy of North Myrtle Beach\, 315 Main St.\, North Myrtle Beach\, SC\, 29582\, United States
CATEGORIES:Wine Tasting
ATTACH;FMTTYPE=image/jpeg:https://winetherapynmb.com/wp-content/uploads/2023/10/image1.jpeg
END:VEVENT
BEGIN:VEVENT
DTSTART;TZID=America/New_York:20241002T120000
DTEND;TZID=America/New_York:20241002T210000
DTSTAMP:20260423T041042
CREATED:20231018T223928Z
LAST-MODIFIED:20231018T223928Z
UID:8010-1727870400-1727902800@winetherapynmb.com
SUMMARY:Self Service Wine Tasting All Day Every Day
DESCRIPTION:Self Service Wine Tasting All Day Every Day \nNo Reservations Needed \nWalk In and have create your own Custom Wine Tasting \nCheers \n843-712-5209 \nClosed on Mondays \n—
URL:https://winetherapynmb.com/event/wine-tasting-all-day-every-day-4/2024-10-02/
LOCATION:Wine Therapy of North Myrtle Beach\, 315 Main St.\, North Myrtle Beach\, SC\, 29582\, United States
CATEGORIES:Wine Tasting
ATTACH;FMTTYPE=image/jpeg:https://winetherapynmb.com/wp-content/uploads/2023/10/image1.jpeg
END:VEVENT
BEGIN:VEVENT
DTSTART;TZID=America/New_York:20241001T120000
DTEND;TZID=America/New_York:20241001T210000
DTSTAMP:20260423T041042
CREATED:20231018T223928Z
LAST-MODIFIED:20231018T223928Z
UID:8009-1727784000-1727816400@winetherapynmb.com
SUMMARY:Self Service Wine Tasting All Day Every Day
DESCRIPTION:Self Service Wine Tasting All Day Every Day \nNo Reservations Needed \nWalk In and have create your own Custom Wine Tasting \nCheers \n843-712-5209 \nClosed on Mondays \n—
URL:https://winetherapynmb.com/event/wine-tasting-all-day-every-day-4/2024-10-01/
LOCATION:Wine Therapy of North Myrtle Beach\, 315 Main St.\, North Myrtle Beach\, SC\, 29582\, United States
CATEGORIES:Wine Tasting
ATTACH;FMTTYPE=image/jpeg:https://winetherapynmb.com/wp-content/uploads/2023/10/image1.jpeg
END:VEVENT
BEGIN:VEVENT
DTSTART;TZID=America/New_York:20240929T120000
DTEND;TZID=America/New_York:20240929T210000
DTSTAMP:20260423T041042
CREATED:20231018T223928Z
LAST-MODIFIED:20231018T223928Z
UID:8008-1727611200-1727643600@winetherapynmb.com
SUMMARY:Self Service Wine Tasting All Day Every Day
DESCRIPTION:Self Service Wine Tasting All Day Every Day \nNo Reservations Needed \nWalk In and have create your own Custom Wine Tasting \nCheers \n843-712-5209 \nClosed on Mondays \n—
URL:https://winetherapynmb.com/event/wine-tasting-all-day-every-day-4/2024-09-29/
LOCATION:Wine Therapy of North Myrtle Beach\, 315 Main St.\, North Myrtle Beach\, SC\, 29582\, United States
CATEGORIES:Wine Tasting
ATTACH;FMTTYPE=image/jpeg:https://winetherapynmb.com/wp-content/uploads/2023/10/image1.jpeg
END:VEVENT
BEGIN:VEVENT
DTSTART;TZID=America/New_York:20240928T120000
DTEND;TZID=America/New_York:20240928T210000
DTSTAMP:20260423T041042
CREATED:20231018T223928Z
LAST-MODIFIED:20231018T223928Z
UID:8007-1727524800-1727557200@winetherapynmb.com
SUMMARY:Self Service Wine Tasting All Day Every Day
DESCRIPTION:Self Service Wine Tasting All Day Every Day \nNo Reservations Needed \nWalk In and have create your own Custom Wine Tasting \nCheers \n843-712-5209 \nClosed on Mondays \n—
URL:https://winetherapynmb.com/event/wine-tasting-all-day-every-day-4/2024-09-28/
LOCATION:Wine Therapy of North Myrtle Beach\, 315 Main St.\, North Myrtle Beach\, SC\, 29582\, United States
CATEGORIES:Wine Tasting
ATTACH;FMTTYPE=image/jpeg:https://winetherapynmb.com/wp-content/uploads/2023/10/image1.jpeg
END:VEVENT
BEGIN:VEVENT
DTSTART;TZID=America/New_York:20240927T120000
DTEND;TZID=America/New_York:20240927T210000
DTSTAMP:20260423T041042
CREATED:20231018T223928Z
LAST-MODIFIED:20231018T223928Z
UID:8006-1727438400-1727470800@winetherapynmb.com
SUMMARY:Self Service Wine Tasting All Day Every Day
DESCRIPTION:Self Service Wine Tasting All Day Every Day \nNo Reservations Needed \nWalk In and have create your own Custom Wine Tasting \nCheers \n843-712-5209 \nClosed on Mondays \n—
URL:https://winetherapynmb.com/event/wine-tasting-all-day-every-day-4/2024-09-27/
LOCATION:Wine Therapy of North Myrtle Beach\, 315 Main St.\, North Myrtle Beach\, SC\, 29582\, United States
CATEGORIES:Wine Tasting
ATTACH;FMTTYPE=image/jpeg:https://winetherapynmb.com/wp-content/uploads/2023/10/image1.jpeg
END:VEVENT
BEGIN:VEVENT
DTSTART;TZID=America/New_York:20240926T120000
DTEND;TZID=America/New_York:20240926T210000
DTSTAMP:20260423T041042
CREATED:20231018T223928Z
LAST-MODIFIED:20231018T223928Z
UID:8005-1727352000-1727384400@winetherapynmb.com
SUMMARY:Self Service Wine Tasting All Day Every Day
DESCRIPTION:Self Service Wine Tasting All Day Every Day \nNo Reservations Needed \nWalk In and have create your own Custom Wine Tasting \nCheers \n843-712-5209 \nClosed on Mondays \n—
URL:https://winetherapynmb.com/event/wine-tasting-all-day-every-day-4/2024-09-26/
LOCATION:Wine Therapy of North Myrtle Beach\, 315 Main St.\, North Myrtle Beach\, SC\, 29582\, United States
CATEGORIES:Wine Tasting
ATTACH;FMTTYPE=image/jpeg:https://winetherapynmb.com/wp-content/uploads/2023/10/image1.jpeg
END:VEVENT
BEGIN:VEVENT
DTSTART;TZID=America/New_York:20240925T120000
DTEND;TZID=America/New_York:20240925T210000
DTSTAMP:20260423T041042
CREATED:20231018T223928Z
LAST-MODIFIED:20231018T223928Z
UID:8004-1727265600-1727298000@winetherapynmb.com
SUMMARY:Self Service Wine Tasting All Day Every Day
DESCRIPTION:Self Service Wine Tasting All Day Every Day \nNo Reservations Needed \nWalk In and have create your own Custom Wine Tasting \nCheers \n843-712-5209 \nClosed on Mondays \n—
URL:https://winetherapynmb.com/event/wine-tasting-all-day-every-day-4/2024-09-25/
LOCATION:Wine Therapy of North Myrtle Beach\, 315 Main St.\, North Myrtle Beach\, SC\, 29582\, United States
CATEGORIES:Wine Tasting
ATTACH;FMTTYPE=image/jpeg:https://winetherapynmb.com/wp-content/uploads/2023/10/image1.jpeg
END:VEVENT
BEGIN:VEVENT
DTSTART;TZID=America/New_York:20240924T120000
DTEND;TZID=America/New_York:20240924T210000
DTSTAMP:20260423T041042
CREATED:20231018T223928Z
LAST-MODIFIED:20231018T223928Z
UID:8003-1727179200-1727211600@winetherapynmb.com
SUMMARY:Self Service Wine Tasting All Day Every Day
DESCRIPTION:Self Service Wine Tasting All Day Every Day \nNo Reservations Needed \nWalk In and have create your own Custom Wine Tasting \nCheers \n843-712-5209 \nClosed on Mondays \n—
URL:https://winetherapynmb.com/event/wine-tasting-all-day-every-day-4/2024-09-24/
LOCATION:Wine Therapy of North Myrtle Beach\, 315 Main St.\, North Myrtle Beach\, SC\, 29582\, United States
CATEGORIES:Wine Tasting
ATTACH;FMTTYPE=image/jpeg:https://winetherapynmb.com/wp-content/uploads/2023/10/image1.jpeg
END:VEVENT
BEGIN:VEVENT
DTSTART;TZID=America/New_York:20240922T120000
DTEND;TZID=America/New_York:20240922T210000
DTSTAMP:20260423T041042
CREATED:20231018T223928Z
LAST-MODIFIED:20231018T223928Z
UID:8002-1727006400-1727038800@winetherapynmb.com
SUMMARY:Self Service Wine Tasting All Day Every Day
DESCRIPTION:Self Service Wine Tasting All Day Every Day \nNo Reservations Needed \nWalk In and have create your own Custom Wine Tasting \nCheers \n843-712-5209 \nClosed on Mondays \n—
URL:https://winetherapynmb.com/event/wine-tasting-all-day-every-day-4/2024-09-22/
LOCATION:Wine Therapy of North Myrtle Beach\, 315 Main St.\, North Myrtle Beach\, SC\, 29582\, United States
CATEGORIES:Wine Tasting
ATTACH;FMTTYPE=image/jpeg:https://winetherapynmb.com/wp-content/uploads/2023/10/image1.jpeg
END:VEVENT
BEGIN:VEVENT
DTSTART;TZID=America/New_York:20240921T120000
DTEND;TZID=America/New_York:20240921T210000
DTSTAMP:20260423T041042
CREATED:20231018T223928Z
LAST-MODIFIED:20231018T223928Z
UID:8001-1726920000-1726952400@winetherapynmb.com
SUMMARY:Self Service Wine Tasting All Day Every Day
DESCRIPTION:Self Service Wine Tasting All Day Every Day \nNo Reservations Needed \nWalk In and have create your own Custom Wine Tasting \nCheers \n843-712-5209 \nClosed on Mondays \n—
URL:https://winetherapynmb.com/event/wine-tasting-all-day-every-day-4/2024-09-21/
LOCATION:Wine Therapy of North Myrtle Beach\, 315 Main St.\, North Myrtle Beach\, SC\, 29582\, United States
CATEGORIES:Wine Tasting
ATTACH;FMTTYPE=image/jpeg:https://winetherapynmb.com/wp-content/uploads/2023/10/image1.jpeg
END:VEVENT
BEGIN:VEVENT
DTSTART;TZID=America/New_York:20240920T120000
DTEND;TZID=America/New_York:20240920T210000
DTSTAMP:20260423T041042
CREATED:20231018T223928Z
LAST-MODIFIED:20231018T223928Z
UID:8000-1726833600-1726866000@winetherapynmb.com
SUMMARY:Self Service Wine Tasting All Day Every Day
DESCRIPTION:Self Service Wine Tasting All Day Every Day \nNo Reservations Needed \nWalk In and have create your own Custom Wine Tasting \nCheers \n843-712-5209 \nClosed on Mondays \n—
URL:https://winetherapynmb.com/event/wine-tasting-all-day-every-day-4/2024-09-20/
LOCATION:Wine Therapy of North Myrtle Beach\, 315 Main St.\, North Myrtle Beach\, SC\, 29582\, United States
CATEGORIES:Wine Tasting
ATTACH;FMTTYPE=image/jpeg:https://winetherapynmb.com/wp-content/uploads/2023/10/image1.jpeg
END:VEVENT
BEGIN:VEVENT
DTSTART;TZID=America/New_York:20240919T120000
DTEND;TZID=America/New_York:20240919T210000
DTSTAMP:20260423T041042
CREATED:20231018T223928Z
LAST-MODIFIED:20231018T223928Z
UID:7999-1726747200-1726779600@winetherapynmb.com
SUMMARY:Self Service Wine Tasting All Day Every Day
DESCRIPTION:Self Service Wine Tasting All Day Every Day \nNo Reservations Needed \nWalk In and have create your own Custom Wine Tasting \nCheers \n843-712-5209 \nClosed on Mondays \n—
URL:https://winetherapynmb.com/event/wine-tasting-all-day-every-day-4/2024-09-19/
LOCATION:Wine Therapy of North Myrtle Beach\, 315 Main St.\, North Myrtle Beach\, SC\, 29582\, United States
CATEGORIES:Wine Tasting
ATTACH;FMTTYPE=image/jpeg:https://winetherapynmb.com/wp-content/uploads/2023/10/image1.jpeg
END:VEVENT
BEGIN:VEVENT
DTSTART;TZID=America/New_York:20240918T120000
DTEND;TZID=America/New_York:20240918T210000
DTSTAMP:20260423T041042
CREATED:20231018T223928Z
LAST-MODIFIED:20231018T223928Z
UID:7998-1726660800-1726693200@winetherapynmb.com
SUMMARY:Self Service Wine Tasting All Day Every Day
DESCRIPTION:Self Service Wine Tasting All Day Every Day \nNo Reservations Needed \nWalk In and have create your own Custom Wine Tasting \nCheers \n843-712-5209 \nClosed on Mondays \n—
URL:https://winetherapynmb.com/event/wine-tasting-all-day-every-day-4/2024-09-18/
LOCATION:Wine Therapy of North Myrtle Beach\, 315 Main St.\, North Myrtle Beach\, SC\, 29582\, United States
CATEGORIES:Wine Tasting
ATTACH;FMTTYPE=image/jpeg:https://winetherapynmb.com/wp-content/uploads/2023/10/image1.jpeg
END:VEVENT
BEGIN:VEVENT
DTSTART;TZID=America/New_York:20240917T120000
DTEND;TZID=America/New_York:20240917T210000
DTSTAMP:20260423T041042
CREATED:20231018T223928Z
LAST-MODIFIED:20231018T223928Z
UID:7997-1726574400-1726606800@winetherapynmb.com
SUMMARY:Self Service Wine Tasting All Day Every Day
DESCRIPTION:Self Service Wine Tasting All Day Every Day \nNo Reservations Needed \nWalk In and have create your own Custom Wine Tasting \nCheers \n843-712-5209 \nClosed on Mondays \n—
URL:https://winetherapynmb.com/event/wine-tasting-all-day-every-day-4/2024-09-17/
LOCATION:Wine Therapy of North Myrtle Beach\, 315 Main St.\, North Myrtle Beach\, SC\, 29582\, United States
CATEGORIES:Wine Tasting
ATTACH;FMTTYPE=image/jpeg:https://winetherapynmb.com/wp-content/uploads/2023/10/image1.jpeg
END:VEVENT
BEGIN:VEVENT
DTSTART;TZID=America/New_York:20240915T120000
DTEND;TZID=America/New_York:20240915T210000
DTSTAMP:20260423T041042
CREATED:20231018T223928Z
LAST-MODIFIED:20231018T223928Z
UID:7996-1726401600-1726434000@winetherapynmb.com
SUMMARY:Self Service Wine Tasting All Day Every Day
DESCRIPTION:Self Service Wine Tasting All Day Every Day \nNo Reservations Needed \nWalk In and have create your own Custom Wine Tasting \nCheers \n843-712-5209 \nClosed on Mondays \n—
URL:https://winetherapynmb.com/event/wine-tasting-all-day-every-day-4/2024-09-15/
LOCATION:Wine Therapy of North Myrtle Beach\, 315 Main St.\, North Myrtle Beach\, SC\, 29582\, United States
CATEGORIES:Wine Tasting
ATTACH;FMTTYPE=image/jpeg:https://winetherapynmb.com/wp-content/uploads/2023/10/image1.jpeg
END:VEVENT
BEGIN:VEVENT
DTSTART;TZID=America/New_York:20240914T120000
DTEND;TZID=America/New_York:20240914T210000
DTSTAMP:20260423T041042
CREATED:20231018T223928Z
LAST-MODIFIED:20231018T223928Z
UID:7995-1726315200-1726347600@winetherapynmb.com
SUMMARY:Self Service Wine Tasting All Day Every Day
DESCRIPTION:Self Service Wine Tasting All Day Every Day \nNo Reservations Needed \nWalk In and have create your own Custom Wine Tasting \nCheers \n843-712-5209 \nClosed on Mondays \n—
URL:https://winetherapynmb.com/event/wine-tasting-all-day-every-day-4/2024-09-14/
LOCATION:Wine Therapy of North Myrtle Beach\, 315 Main St.\, North Myrtle Beach\, SC\, 29582\, United States
CATEGORIES:Wine Tasting
ATTACH;FMTTYPE=image/jpeg:https://winetherapynmb.com/wp-content/uploads/2023/10/image1.jpeg
END:VEVENT
BEGIN:VEVENT
DTSTART;TZID=America/New_York:20240913T120000
DTEND;TZID=America/New_York:20240913T210000
DTSTAMP:20260423T041042
CREATED:20231018T223928Z
LAST-MODIFIED:20231018T223928Z
UID:7994-1726228800-1726261200@winetherapynmb.com
SUMMARY:Self Service Wine Tasting All Day Every Day
DESCRIPTION:Self Service Wine Tasting All Day Every Day \nNo Reservations Needed \nWalk In and have create your own Custom Wine Tasting \nCheers \n843-712-5209 \nClosed on Mondays \n—
URL:https://winetherapynmb.com/event/wine-tasting-all-day-every-day-4/2024-09-13/
LOCATION:Wine Therapy of North Myrtle Beach\, 315 Main St.\, North Myrtle Beach\, SC\, 29582\, United States
CATEGORIES:Wine Tasting
ATTACH;FMTTYPE=image/jpeg:https://winetherapynmb.com/wp-content/uploads/2023/10/image1.jpeg
END:VEVENT
BEGIN:VEVENT
DTSTART;TZID=America/New_York:20240912T120000
DTEND;TZID=America/New_York:20240912T210000
DTSTAMP:20260423T041042
CREATED:20231018T223928Z
LAST-MODIFIED:20231018T223928Z
UID:7993-1726142400-1726174800@winetherapynmb.com
SUMMARY:Self Service Wine Tasting All Day Every Day
DESCRIPTION:Self Service Wine Tasting All Day Every Day \nNo Reservations Needed \nWalk In and have create your own Custom Wine Tasting \nCheers \n843-712-5209 \nClosed on Mondays \n—
URL:https://winetherapynmb.com/event/wine-tasting-all-day-every-day-4/2024-09-12/
LOCATION:Wine Therapy of North Myrtle Beach\, 315 Main St.\, North Myrtle Beach\, SC\, 29582\, United States
CATEGORIES:Wine Tasting
ATTACH;FMTTYPE=image/jpeg:https://winetherapynmb.com/wp-content/uploads/2023/10/image1.jpeg
END:VEVENT
BEGIN:VEVENT
DTSTART;TZID=America/New_York:20240911T120000
DTEND;TZID=America/New_York:20240911T210000
DTSTAMP:20260423T041042
CREATED:20231018T223928Z
LAST-MODIFIED:20231018T223928Z
UID:7992-1726056000-1726088400@winetherapynmb.com
SUMMARY:Self Service Wine Tasting All Day Every Day
DESCRIPTION:Self Service Wine Tasting All Day Every Day \nNo Reservations Needed \nWalk In and have create your own Custom Wine Tasting \nCheers \n843-712-5209 \nClosed on Mondays \n—
URL:https://winetherapynmb.com/event/wine-tasting-all-day-every-day-4/2024-09-11/
LOCATION:Wine Therapy of North Myrtle Beach\, 315 Main St.\, North Myrtle Beach\, SC\, 29582\, United States
CATEGORIES:Wine Tasting
ATTACH;FMTTYPE=image/jpeg:https://winetherapynmb.com/wp-content/uploads/2023/10/image1.jpeg
END:VEVENT
BEGIN:VEVENT
DTSTART;TZID=America/New_York:20240910T120000
DTEND;TZID=America/New_York:20240910T210000
DTSTAMP:20260423T041042
CREATED:20231018T223928Z
LAST-MODIFIED:20231018T223928Z
UID:7991-1725969600-1726002000@winetherapynmb.com
SUMMARY:Self Service Wine Tasting All Day Every Day
DESCRIPTION:Self Service Wine Tasting All Day Every Day \nNo Reservations Needed \nWalk In and have create your own Custom Wine Tasting \nCheers \n843-712-5209 \nClosed on Mondays \n—
URL:https://winetherapynmb.com/event/wine-tasting-all-day-every-day-4/2024-09-10/
LOCATION:Wine Therapy of North Myrtle Beach\, 315 Main St.\, North Myrtle Beach\, SC\, 29582\, United States
CATEGORIES:Wine Tasting
ATTACH;FMTTYPE=image/jpeg:https://winetherapynmb.com/wp-content/uploads/2023/10/image1.jpeg
END:VEVENT
BEGIN:VEVENT
DTSTART;TZID=America/New_York:20240908T120000
DTEND;TZID=America/New_York:20240908T210000
DTSTAMP:20260423T041042
CREATED:20231018T223928Z
LAST-MODIFIED:20231018T223928Z
UID:7990-1725796800-1725829200@winetherapynmb.com
SUMMARY:Self Service Wine Tasting All Day Every Day
DESCRIPTION:Self Service Wine Tasting All Day Every Day \nNo Reservations Needed \nWalk In and have create your own Custom Wine Tasting \nCheers \n843-712-5209 \nClosed on Mondays \n—
URL:https://winetherapynmb.com/event/wine-tasting-all-day-every-day-4/2024-09-08/
LOCATION:Wine Therapy of North Myrtle Beach\, 315 Main St.\, North Myrtle Beach\, SC\, 29582\, United States
CATEGORIES:Wine Tasting
ATTACH;FMTTYPE=image/jpeg:https://winetherapynmb.com/wp-content/uploads/2023/10/image1.jpeg
END:VEVENT
BEGIN:VEVENT
DTSTART;TZID=America/New_York:20240907T120000
DTEND;TZID=America/New_York:20240907T210000
DTSTAMP:20260423T041042
CREATED:20231018T223928Z
LAST-MODIFIED:20231018T223928Z
UID:7989-1725710400-1725742800@winetherapynmb.com
SUMMARY:Self Service Wine Tasting All Day Every Day
DESCRIPTION:Self Service Wine Tasting All Day Every Day \nNo Reservations Needed \nWalk In and have create your own Custom Wine Tasting \nCheers \n843-712-5209 \nClosed on Mondays \n—
URL:https://winetherapynmb.com/event/wine-tasting-all-day-every-day-4/2024-09-07/
LOCATION:Wine Therapy of North Myrtle Beach\, 315 Main St.\, North Myrtle Beach\, SC\, 29582\, United States
CATEGORIES:Wine Tasting
ATTACH;FMTTYPE=image/jpeg:https://winetherapynmb.com/wp-content/uploads/2023/10/image1.jpeg
END:VEVENT
BEGIN:VEVENT
DTSTART;TZID=America/New_York:20240906T120000
DTEND;TZID=America/New_York:20240906T210000
DTSTAMP:20260423T041042
CREATED:20231018T223928Z
LAST-MODIFIED:20231018T223928Z
UID:7988-1725624000-1725656400@winetherapynmb.com
SUMMARY:Self Service Wine Tasting All Day Every Day
DESCRIPTION:Self Service Wine Tasting All Day Every Day \nNo Reservations Needed \nWalk In and have create your own Custom Wine Tasting \nCheers \n843-712-5209 \nClosed on Mondays \n—
URL:https://winetherapynmb.com/event/wine-tasting-all-day-every-day-4/2024-09-06/
LOCATION:Wine Therapy of North Myrtle Beach\, 315 Main St.\, North Myrtle Beach\, SC\, 29582\, United States
CATEGORIES:Wine Tasting
ATTACH;FMTTYPE=image/jpeg:https://winetherapynmb.com/wp-content/uploads/2023/10/image1.jpeg
END:VEVENT
BEGIN:VEVENT
DTSTART;TZID=America/New_York:20240905T120000
DTEND;TZID=America/New_York:20240905T210000
DTSTAMP:20260423T041042
CREATED:20231018T223928Z
LAST-MODIFIED:20231018T223928Z
UID:7987-1725537600-1725570000@winetherapynmb.com
SUMMARY:Self Service Wine Tasting All Day Every Day
DESCRIPTION:Self Service Wine Tasting All Day Every Day \nNo Reservations Needed \nWalk In and have create your own Custom Wine Tasting \nCheers \n843-712-5209 \nClosed on Mondays \n—
URL:https://winetherapynmb.com/event/wine-tasting-all-day-every-day-4/2024-09-05/
LOCATION:Wine Therapy of North Myrtle Beach\, 315 Main St.\, North Myrtle Beach\, SC\, 29582\, United States
CATEGORIES:Wine Tasting
ATTACH;FMTTYPE=image/jpeg:https://winetherapynmb.com/wp-content/uploads/2023/10/image1.jpeg
END:VEVENT
END:VCALENDAR